BEGIN:VCALENDAR
VERSION:2.0
PRODID:-//Ateneu Santfeliuenc - ECPv6.15.13//NONSGML v1.0//EN
CALSCALE:GREGORIAN
METHOD:PUBLISH
X-ORIGINAL-URL:https://ateneu.clickame.net
X-WR-CALDESC:Esdeveniments per Ateneu Santfeliuenc
REFRESH-INTERVAL;VALUE=DURATION:PT1H
X-Robots-Tag:noindex
X-PUBLISHED-TTL:PT1H
BEGIN:VTIMEZONE
TZID:Europe/Paris
BEGIN:DAYLIGHT
TZOFFSETFROM:+0100
TZOFFSETTO:+0200
TZNAME:CEST
DTSTART:20150329T010000
END:DAYLIGHT
BEGIN:STANDARD
TZOFFSETFROM:+0200
TZOFFSETTO:+0100
TZNAME:CET
DTSTART:20151025T010000
END:STANDARD
BEGIN:DAYLIGHT
TZOFFSETFROM:+0100
TZOFFSETTO:+0200
TZNAME:CEST
DTSTART:20160327T010000
END:DAYLIGHT
BEGIN:STANDARD
TZOFFSETFROM:+0200
TZOFFSETTO:+0100
TZNAME:CET
DTSTART:20161030T010000
END:STANDARD
BEGIN:DAYLIGHT
TZOFFSETFROM:+0100
TZOFFSETTO:+0200
TZNAME:CEST
DTSTART:20170326T010000
END:DAYLIGHT
BEGIN:STANDARD
TZOFFSETFROM:+0200
TZOFFSETTO:+0100
TZNAME:CET
DTSTART:20171029T010000
END:STANDARD
END:VTIMEZONE
BEGIN:VEVENT
DTSTART;TZID=Europe/Paris:20160409T190000
DTEND;TZID=Europe/Paris:20160409T210000
DTSTAMP:20260420T051634
CREATED:20160323T120710Z
LAST-MODIFIED:20160323T120710Z
UID:2557-1460228400-1460235600@ateneu.clickame.net
SUMMARY:Contrabaix Big Band
DESCRIPTION:Entrada lliure
URL:https://ateneu.clickame.net/agenda/contrabaix-big-band/
LOCATION:Plaça de l’Ajuntament\, Mataró
END:VEVENT
BEGIN:VEVENT
DTSTART;TZID=Europe/Paris:20160409T190000
DTEND;TZID=Europe/Paris:20160409T210000
DTSTAMP:20260420T051634
CREATED:20160323T120710Z
LAST-MODIFIED:20160323T120710Z
UID:8357-1460228400-1460235600@ateneu.clickame.net
SUMMARY:Contrabaix Big Band
DESCRIPTION:Entrada lliure
URL:https://ateneu.clickame.net/agenda/contrabaix-big-band-4/
LOCATION:Plaça de l’Ajuntament\, Mataró
END:VEVENT
BEGIN:VEVENT
DTSTART;TZID=Europe/Paris:20160409T190000
DTEND;TZID=Europe/Paris:20160409T210000
DTSTAMP:20260420T051634
CREATED:20160323T120710Z
LAST-MODIFIED:20160323T120710Z
UID:9610-1460228400-1460235600@ateneu.clickame.net
SUMMARY:Contrabaix Big Band
DESCRIPTION:Entrada lliure
URL:https://ateneu.clickame.net/agenda/contrabaix-big-band-5/
LOCATION:Plaça de l’Ajuntament\, Mataró
END:VEVENT
END:VCALENDAR