BEGIN:VCALENDAR
VERSION:2.0
PRODID:-//Ateneu Santfeliuenc - ECPv6.15.13//NONSGML v1.0//EN
CALSCALE:GREGORIAN
METHOD:PUBLISH
X-ORIGINAL-URL:https://ateneu.clickame.net
X-WR-CALDESC:Esdeveniments per Ateneu Santfeliuenc
REFRESH-INTERVAL;VALUE=DURATION:PT1H
X-Robots-Tag:noindex
X-PUBLISHED-TTL:PT1H
BEGIN:VTIMEZONE
TZID:Europe/Paris
BEGIN:DAYLIGHT
TZOFFSETFROM:+0100
TZOFFSETTO:+0200
TZNAME:CEST
DTSTART:20140330T010000
END:DAYLIGHT
BEGIN:STANDARD
TZOFFSETFROM:+0200
TZOFFSETTO:+0100
TZNAME:CET
DTSTART:20141026T010000
END:STANDARD
BEGIN:DAYLIGHT
TZOFFSETFROM:+0100
TZOFFSETTO:+0200
TZNAME:CEST
DTSTART:20150329T010000
END:DAYLIGHT
BEGIN:STANDARD
TZOFFSETFROM:+0200
TZOFFSETTO:+0100
TZNAME:CET
DTSTART:20151025T010000
END:STANDARD
BEGIN:DAYLIGHT
TZOFFSETFROM:+0100
TZOFFSETTO:+0200
TZNAME:CEST
DTSTART:20160327T010000
END:DAYLIGHT
BEGIN:STANDARD
TZOFFSETFROM:+0200
TZOFFSETTO:+0100
TZNAME:CET
DTSTART:20161030T010000
END:STANDARD
END:VTIMEZONE
BEGIN:VEVENT
DTSTART;TZID=Europe/Paris:20150426T120000
DTEND;TZID=Europe/Paris:20150426T170000
DTSTAMP:20260420T214246
CREATED:20150331T121138Z
LAST-MODIFIED:20150331T121138Z
UID:8268-1430049600-1430067600@ateneu.clickame.net
SUMMARY:Vermut popular amb espectacles
DESCRIPTION:Per segon any arriba a l’Ateneu el festival de màgia més proper i acollidor de la mà de la Societat d’Il·lusionisme de Sant Feliu. Durant el darrer cap de setmana d’abril tindràs l’oportunitat de conèixer la màgia de ben a prop amb un concurs de mags\, un matí de màgia al carrer\, amb vermut i dinar al pati\, i una gala de clausura amb els membres del SIS\, un artista convidat i el guanyador del concurs. \nTapa calenta + tapa freda + vermut\, canya o refresc: 5€ / 4\,5 € socis i sòcies de l’Ateneu \nVenda de tiquets a la secretaria i al Bar de l’Ateneu
URL:https://ateneu.clickame.net/agenda/vermut-popular-amb-espectacles-2/
LOCATION:Carrer de l’Ateneu\, Vidal i Ribas\, Sant Feliu de Llobregat\, 08980
END:VEVENT
BEGIN:VEVENT
DTSTART;TZID=Europe/Paris:20150426T120000
DTEND;TZID=Europe/Paris:20150426T170000
DTSTAMP:20260420T214246
CREATED:20150331T121138Z
LAST-MODIFIED:20150331T121138Z
UID:9521-1430049600-1430067600@ateneu.clickame.net
SUMMARY:Vermut popular amb espectacles
DESCRIPTION:Per segon any arriba a l’Ateneu el festival de màgia més proper i acollidor de la mà de la Societat d’Il·lusionisme de Sant Feliu. Durant el darrer cap de setmana d’abril tindràs l’oportunitat de conèixer la màgia de ben a prop amb un concurs de mags\, un matí de màgia al carrer\, amb vermut i dinar al pati\, i una gala de clausura amb els membres del SIS\, un artista convidat i el guanyador del concurs. \nTapa calenta + tapa freda + vermut\, canya o refresc: 5€ / 4\,5 € socis i sòcies de l’Ateneu \nVenda de tiquets a la secretaria i al Bar de l’Ateneu
URL:https://ateneu.clickame.net/agenda/vermut-popular-amb-espectacles-3/
LOCATION:Carrer de l’Ateneu\, Vidal i Ribas\, Sant Feliu de Llobregat\, 08980
END:VEVENT
BEGIN:VEVENT
DTSTART;TZID=Europe/Paris:20150426T120000
DTEND;TZID=Europe/Paris:20150426T170000
DTSTAMP:20260420T214246
CREATED:20150331T121138Z
LAST-MODIFIED:20150331T121138Z
UID:1894-1430049600-1430067600@ateneu.clickame.net
SUMMARY:Vermut popular amb espectacles
DESCRIPTION:Per segon any arriba a l’Ateneu el festival de màgia més proper i acollidor de la mà de la Societat d’Il·lusionisme de Sant Feliu. Durant el darrer cap de setmana d’abril tindràs l’oportunitat de conèixer la màgia de ben a prop amb un concurs de mags\, un matí de màgia al carrer\, amb vermut i dinar al pati\, i una gala de clausura amb els membres del SIS\, un artista convidat i el guanyador del concurs. \nTapa calenta + tapa freda + vermut\, canya o refresc: 5€ / 4\,5 € socis i sòcies de l’Ateneu \nVenda de tiquets a la secretaria i al Bar de l’Ateneu
URL:https://ateneu.clickame.net/agenda/vermut-popular-amb-espectacles/
LOCATION:Carrer de l’Ateneu\, Vidal i Ribas\, Sant Feliu de Llobregat\, 08980
END:VEVENT
END:VCALENDAR