BEGIN:VCALENDAR
VERSION:2.0
PRODID:-//Ateneu Santfeliuenc - ECPv6.15.13//NONSGML v1.0//EN
CALSCALE:GREGORIAN
METHOD:PUBLISH
X-WR-CALNAME:Ateneu Santfeliuenc
X-ORIGINAL-URL:https://ateneu.clickame.net
X-WR-CALDESC:Esdeveniments per Ateneu Santfeliuenc
REFRESH-INTERVAL;VALUE=DURATION:PT1H
X-Robots-Tag:noindex
X-PUBLISHED-TTL:PT1H
BEGIN:VTIMEZONE
TZID:Europe/Paris
BEGIN:DAYLIGHT
TZOFFSETFROM:+0100
TZOFFSETTO:+0200
TZNAME:CEST
DTSTART:20130331T010000
END:DAYLIGHT
BEGIN:STANDARD
TZOFFSETFROM:+0200
TZOFFSETTO:+0100
TZNAME:CET
DTSTART:20131027T010000
END:STANDARD
BEGIN:DAYLIGHT
TZOFFSETFROM:+0100
TZOFFSETTO:+0200
TZNAME:CEST
DTSTART:20140330T010000
END:DAYLIGHT
BEGIN:STANDARD
TZOFFSETFROM:+0200
TZOFFSETTO:+0100
TZNAME:CET
DTSTART:20141026T010000
END:STANDARD
BEGIN:DAYLIGHT
TZOFFSETFROM:+0100
TZOFFSETTO:+0200
TZNAME:CEST
DTSTART:20150329T010000
END:DAYLIGHT
BEGIN:STANDARD
TZOFFSETFROM:+0200
TZOFFSETTO:+0100
TZNAME:CET
DTSTART:20151025T010000
END:STANDARD
END:VTIMEZONE
BEGIN:VEVENT
DTSTART;TZID=Europe/Paris:20140122T073000
DTEND;TZID=Europe/Paris:20140122T213000
DTSTAMP:20260420T020137
CREATED:20140114T105141Z
LAST-MODIFIED:20140114T105141Z
UID:8101-1390375800-1390426200@ateneu.clickame.net
SUMMARY:Els Espais de la Memòria Democràtica a Sant Feliu de Llobregat
DESCRIPTION:Commemoració dels 75 anys d’ocupació franquista de Roses de Llobregat (Sant Feliu de Llobregat) \nJORNADES DE MEMÒRIA HISTÒRICA I DEMOCRÀTICA\n(Del 22 de gener al 14 de febrer de 2014) \n• Presentació de les Jornades\nReposició de l’Exposició : Els Espais de la Memòria Democràtica a Sant Feliu de Llobregat
URL:https://ateneu.clickame.net/agenda/els-espais-de-la-memoria-democratica-a-sant-feliu-de-llobregat-2/
LOCATION:Aula de Cultura – Ateneu Santfeliuenc\, Vidal i Ribas\, 25\, Sant Feliu de Llobregat\, Barcelona\, 08980\, Espanya
END:VEVENT
BEGIN:VEVENT
DTSTART;TZID=Europe/Paris:20140122T073000
DTEND;TZID=Europe/Paris:20140122T213000
DTSTAMP:20260420T020137
CREATED:20140114T105141Z
LAST-MODIFIED:20140114T105141Z
UID:9354-1390375800-1390426200@ateneu.clickame.net
SUMMARY:Els Espais de la Memòria Democràtica a Sant Feliu de Llobregat
DESCRIPTION:Commemoració dels 75 anys d’ocupació franquista de Roses de Llobregat (Sant Feliu de Llobregat) \nJORNADES DE MEMÒRIA HISTÒRICA I DEMOCRÀTICA\n(Del 22 de gener al 14 de febrer de 2014) \n• Presentació de les Jornades\nReposició de l’Exposició : Els Espais de la Memòria Democràtica a Sant Feliu de Llobregat
URL:https://ateneu.clickame.net/agenda/els-espais-de-la-memoria-democratica-a-sant-feliu-de-llobregat-3/
LOCATION:Aula de Cultura – Ateneu Santfeliuenc\, Vidal i Ribas\, 25\, Sant Feliu de Llobregat\, Barcelona\, 08980\, Espanya
END:VEVENT
BEGIN:VEVENT
DTSTART;TZID=Europe/Paris:20140122T073000
DTEND;TZID=Europe/Paris:20140122T213000
DTSTAMP:20260420T020137
CREATED:20140114T105141Z
LAST-MODIFIED:20140114T105141Z
UID:612-1390375800-1390426200@ateneu.clickame.net
SUMMARY:Els Espais de la Memòria Democràtica a Sant Feliu de Llobregat
DESCRIPTION:Commemoració dels 75 anys d’ocupació franquista de Roses de Llobregat (Sant Feliu de Llobregat) \nJORNADES DE MEMÒRIA HISTÒRICA I DEMOCRÀTICA\n(Del 22 de gener al 14 de febrer de 2014) \n• Presentació de les Jornades\nReposició de l’Exposició : Els Espais de la Memòria Democràtica a Sant Feliu de Llobregat
URL:https://ateneu.clickame.net/agenda/els-espais-de-la-memoria-democratica-a-sant-feliu-de-llobregat/
LOCATION:Aula de Cultura – Ateneu Santfeliuenc\, Vidal i Ribas\, 25\, Sant Feliu de Llobregat\, Barcelona\, 08980\, Espanya
END:VEVENT
BEGIN:VEVENT
DTSTART;TZID=Europe/Paris:20140123T073000
DTEND;TZID=Europe/Paris:20140123T213000
DTSTAMP:20260420T020137
CREATED:20140114T105437Z
LAST-MODIFIED:20140114T105437Z
UID:615-1390462200-1390512600@ateneu.clickame.net
SUMMARY:El sorgiment dels feixismes i totalitarismes a Europa (100 anys de la Primera Guerra Mundial)
DESCRIPTION:Commemoració dels 75 anys d’ocupació franquista de Roses de Llobregat (Sant Feliu de Llobregat) \nJORNADES DE MEMÒRIA HISTÒRICA I DEMOCRÀTICA\n(Del 22 de gener al 14 de febrer de 2014) \n• Conferència : El sorgiment dels feixismes i totalitarismes a Europa (Cent anys de la Primera Guerra Mundial)\n– Intervé : Jesús Penilla ( Historiador i exprofessor del C. Verge de la Salut )\n– Presenta : Maria Jesús Bono ( Historiadora i professora )
URL:https://ateneu.clickame.net/agenda/el-sorgiment-dels-feixismes-i-totalitarismes-a-europa-100-anys-de-la-primera-guerra-mundial/
LOCATION:Aula de Cultura – Ateneu Santfeliuenc\, Vidal i Ribas\, 25\, Sant Feliu de Llobregat\, Barcelona\, 08980\, Espanya
END:VEVENT
BEGIN:VEVENT
DTSTART;TZID=Europe/Paris:20140123T073000
DTEND;TZID=Europe/Paris:20140123T213000
DTSTAMP:20260420T020137
CREATED:20140114T105437Z
LAST-MODIFIED:20140114T105437Z
UID:8102-1390462200-1390512600@ateneu.clickame.net
SUMMARY:El sorgiment dels feixismes i totalitarismes a Europa (100 anys de la Primera Guerra Mundial)
DESCRIPTION:Commemoració dels 75 anys d’ocupació franquista de Roses de Llobregat (Sant Feliu de Llobregat) \nJORNADES DE MEMÒRIA HISTÒRICA I DEMOCRÀTICA\n(Del 22 de gener al 14 de febrer de 2014) \n• Conferència : El sorgiment dels feixismes i totalitarismes a Europa (Cent anys de la Primera Guerra Mundial)\n– Intervé : Jesús Penilla ( Historiador i exprofessor del C. Verge de la Salut )\n– Presenta : Maria Jesús Bono ( Historiadora i professora )
URL:https://ateneu.clickame.net/agenda/el-sorgiment-dels-feixismes-i-totalitarismes-a-europa-100-anys-de-la-primera-guerra-mundial-2/
LOCATION:Aula de Cultura – Ateneu Santfeliuenc\, Vidal i Ribas\, 25\, Sant Feliu de Llobregat\, Barcelona\, 08980\, Espanya
END:VEVENT
BEGIN:VEVENT
DTSTART;TZID=Europe/Paris:20140123T073000
DTEND;TZID=Europe/Paris:20140123T213000
DTSTAMP:20260420T020137
CREATED:20140114T105437Z
LAST-MODIFIED:20140114T105437Z
UID:9355-1390462200-1390512600@ateneu.clickame.net
SUMMARY:El sorgiment dels feixismes i totalitarismes a Europa (100 anys de la Primera Guerra Mundial)
DESCRIPTION:Commemoració dels 75 anys d’ocupació franquista de Roses de Llobregat (Sant Feliu de Llobregat) \nJORNADES DE MEMÒRIA HISTÒRICA I DEMOCRÀTICA\n(Del 22 de gener al 14 de febrer de 2014) \n• Conferència : El sorgiment dels feixismes i totalitarismes a Europa (Cent anys de la Primera Guerra Mundial)\n– Intervé : Jesús Penilla ( Historiador i exprofessor del C. Verge de la Salut )\n– Presenta : Maria Jesús Bono ( Historiadora i professora )
URL:https://ateneu.clickame.net/agenda/el-sorgiment-dels-feixismes-i-totalitarismes-a-europa-100-anys-de-la-primera-guerra-mundial-3/
LOCATION:Aula de Cultura – Ateneu Santfeliuenc\, Vidal i Ribas\, 25\, Sant Feliu de Llobregat\, Barcelona\, 08980\, Espanya
END:VEVENT
BEGIN:VEVENT
DTSTART;TZID=Europe/Paris:20140124T220000
DTEND;TZID=Europe/Paris:20140124T220000
DTSTAMP:20260420T020137
CREATED:20140114T105740Z
LAST-MODIFIED:20140114T105957Z
UID:616-1390600800-1390600800@ateneu.clickame.net
SUMMARY:Cinefòrum: Sierra de Teruel
DESCRIPTION:Commemoració dels 75 anys d’ocupació franquista de Roses de Llobregat (Sant Feliu de Llobregat) \nJORNADES DE MEMÒRIA HISTÒRICA I DEMOCRÀTICA\n(Del 22 de gener al 14 de febrer de 2014) \nDia 24 de gener\, divendres \n• Cinefòrum: Sierra de Teruel.\n– Condueix el Fòrum : Francisco Prieto
URL:https://ateneu.clickame.net/agenda/cineforum-sierra-de-teruel/
LOCATION:CineBaix\, Espanya
END:VEVENT
BEGIN:VEVENT
DTSTART;TZID=Europe/Paris:20140124T220000
DTEND;TZID=Europe/Paris:20140124T220000
DTSTAMP:20260420T020137
CREATED:20140114T105740Z
LAST-MODIFIED:20140114T105740Z
UID:8103-1390600800-1390600800@ateneu.clickame.net
SUMMARY:Cinefòrum: Sierra de Teruel
DESCRIPTION:Commemoració dels 75 anys d’ocupació franquista de Roses de Llobregat (Sant Feliu de Llobregat) \nJORNADES DE MEMÒRIA HISTÒRICA I DEMOCRÀTICA\n(Del 22 de gener al 14 de febrer de 2014) \nDia 24 de gener\, divendres \n• Cinefòrum: Sierra de Teruel.\n– Condueix el Fòrum : Francisco Prieto
URL:https://ateneu.clickame.net/agenda/cineforum-sierra-de-teruel-2/
LOCATION:CineBaix\, Espanya
END:VEVENT
BEGIN:VEVENT
DTSTART;TZID=Europe/Paris:20140124T220000
DTEND;TZID=Europe/Paris:20140124T220000
DTSTAMP:20260420T020137
CREATED:20140114T105740Z
LAST-MODIFIED:20140114T105740Z
UID:9356-1390600800-1390600800@ateneu.clickame.net
SUMMARY:Cinefòrum: Sierra de Teruel
DESCRIPTION:Commemoració dels 75 anys d’ocupació franquista de Roses de Llobregat (Sant Feliu de Llobregat) \nJORNADES DE MEMÒRIA HISTÒRICA I DEMOCRÀTICA\n(Del 22 de gener al 14 de febrer de 2014) \nDia 24 de gener\, divendres \n• Cinefòrum: Sierra de Teruel.\n– Condueix el Fòrum : Francisco Prieto
URL:https://ateneu.clickame.net/agenda/cineforum-sierra-de-teruel-3/
LOCATION:CineBaix\, Espanya
END:VEVENT
BEGIN:VEVENT
DTSTART;TZID=Europe/Paris:20140125T100000
DTEND;TZID=Europe/Paris:20140125T130000
DTSTAMP:20260420T020137
CREATED:20140114T110133Z
LAST-MODIFIED:20140114T110133Z
UID:618-1390644000-1390654800@ateneu.clickame.net
SUMMARY:Visita guiada per lps espais de la Memòria Democràtica de Sant Feliu de Llobregat
DESCRIPTION:Commemoració dels 75 anys d’ocupació franquista de Roses de Llobregat (Sant Feliu de Llobregat) \nJORNADES DE MEMÒRIA HISTÒRICA I DEMOCRÀTICA\n(Del 22 de gener al 14 de febrer de 2014) \n• Visita guiada per lps espais de la Memòria Democràtica de Sant Feliu de Llobregat\n– Sortida a les 10 h . des l’Ateneu Satfeliuenc
URL:https://ateneu.clickame.net/agenda/visita-guiada-per-lps-espais-de-la-memoria-democratica-de-sant-feliu-de-llobregat/
END:VEVENT
BEGIN:VEVENT
DTSTART;TZID=Europe/Paris:20140125T100000
DTEND;TZID=Europe/Paris:20140125T130000
DTSTAMP:20260420T020137
CREATED:20140114T110133Z
LAST-MODIFIED:20140114T110133Z
UID:8104-1390644000-1390654800@ateneu.clickame.net
SUMMARY:Visita guiada per lps espais de la Memòria Democràtica de Sant Feliu de Llobregat
DESCRIPTION:Commemoració dels 75 anys d’ocupació franquista de Roses de Llobregat (Sant Feliu de Llobregat) \nJORNADES DE MEMÒRIA HISTÒRICA I DEMOCRÀTICA\n(Del 22 de gener al 14 de febrer de 2014) \n• Visita guiada per lps espais de la Memòria Democràtica de Sant Feliu de Llobregat\n– Sortida a les 10 h . des l’Ateneu Satfeliuenc
URL:https://ateneu.clickame.net/agenda/visita-guiada-per-lps-espais-de-la-memoria-democratica-de-sant-feliu-de-llobregat-2/
END:VEVENT
BEGIN:VEVENT
DTSTART;TZID=Europe/Paris:20140125T100000
DTEND;TZID=Europe/Paris:20140125T130000
DTSTAMP:20260420T020137
CREATED:20140114T110133Z
LAST-MODIFIED:20140114T110133Z
UID:9357-1390644000-1390654800@ateneu.clickame.net
SUMMARY:Visita guiada per lps espais de la Memòria Democràtica de Sant Feliu de Llobregat
DESCRIPTION:Commemoració dels 75 anys d’ocupació franquista de Roses de Llobregat (Sant Feliu de Llobregat) \nJORNADES DE MEMÒRIA HISTÒRICA I DEMOCRÀTICA\n(Del 22 de gener al 14 de febrer de 2014) \n• Visita guiada per lps espais de la Memòria Democràtica de Sant Feliu de Llobregat\n– Sortida a les 10 h . des l’Ateneu Satfeliuenc
URL:https://ateneu.clickame.net/agenda/visita-guiada-per-lps-espais-de-la-memoria-democratica-de-sant-feliu-de-llobregat-3/
END:VEVENT
BEGIN:VEVENT
DTSTART;TZID=Europe/Paris:20140125T190000
DTEND;TZID=Europe/Paris:20140125T210000
DTSTAMP:20260420T020137
CREATED:20140114T085344Z
LAST-MODIFIED:20140114T102718Z
UID:604-1390676400-1390683600@ateneu.clickame.net
SUMMARY:ANDREA MOTIS & JOAN CHAMORRO & JOSEP TRAVER
DESCRIPTION:Andrea Motis veu\, saxos alt i soprano i trompeta\nJoan Chamorro contrabaix i saxo\nJosep Traver guitarra\, banjo i ukelele \nCOMPRAR ENTRADES \nAndrea Motis i Joan Chamorro són considerats la revelació del jazz català. La primera vegada que escoltes a l’Andrea Motis et quedes meravellat. Alguns dels seus vídeos superen les 200.000 reproduccions a YouTube. Aquesta jove artista canta amb una personalitat que no es veia en anys\, tot i que també toca el saxo i la trompeta.\nD’això en té gran part de responsabilitat el seu mentor Joan Chamorro. El treball que està fent aquest veterà del jazz català des de la Sant Andreu Jazz Band\, la big band més jove d’Europa\, és sensacional. La seva trajectòria com a saxofonista (entre d’altres instruments) és tan brillant i dilatada que seria inútil intentar glossar-la en aquestes breus línies. Tete Montoliu\, Slide Hampton\, Bebo Valdés\, Randy Brecker\, Manhattan Transfer\, Steve Wonder… l’elenc de músics amb els que ha treballat és impressionant.\nMolt ben acompanyats per Josep Traver a la guitarra i altres cordes\, tindrem la sort de presenciar a qui en breu figurarà als cartells dels grans festivals de jazz europeus. \nConcert organitzat per ContraBaix · Fira de la Candelera · Joventut Catòlica-La Peni
URL:https://ateneu.clickame.net/agenda/andrea-motis-joan-chamorro-josep-traver/
LOCATION:Traska Truska\, Pg. del Terraple\, 82\, Molins de Rei\, Barcelona\, 08750\, Espanya
END:VEVENT
BEGIN:VEVENT
DTSTART;TZID=Europe/Paris:20140125T190000
DTEND;TZID=Europe/Paris:20140125T210000
DTSTAMP:20260420T020137
CREATED:20140114T085344Z
LAST-MODIFIED:20140114T085344Z
UID:8099-1390676400-1390683600@ateneu.clickame.net
SUMMARY:ANDREA MOTIS & JOAN CHAMORRO & JOSEP TRAVER
DESCRIPTION:Andrea Motis veu\, saxos alt i soprano i trompeta\nJoan Chamorro contrabaix i saxo\nJosep Traver guitarra\, banjo i ukelele \nCOMPRAR ENTRADES \nAndrea Motis i Joan Chamorro són considerats la revelació del jazz català. La primera vegada que escoltes a l’Andrea Motis et quedes meravellat. Alguns dels seus vídeos superen les 200.000 reproduccions a YouTube. Aquesta jove artista canta amb una personalitat que no es veia en anys\, tot i que també toca el saxo i la trompeta.\nD’això en té gran part de responsabilitat el seu mentor Joan Chamorro. El treball que està fent aquest veterà del jazz català des de la Sant Andreu Jazz Band\, la big band més jove d’Europa\, és sensacional. La seva trajectòria com a saxofonista (entre d’altres instruments) és tan brillant i dilatada que seria inútil intentar glossar-la en aquestes breus línies. Tete Montoliu\, Slide Hampton\, Bebo Valdés\, Randy Brecker\, Manhattan Transfer\, Steve Wonder… l’elenc de músics amb els que ha treballat és impressionant.\nMolt ben acompanyats per Josep Traver a la guitarra i altres cordes\, tindrem la sort de presenciar a qui en breu figurarà als cartells dels grans festivals de jazz europeus. \nConcert organitzat per ContraBaix · Fira de la Candelera · Joventut Catòlica-La Peni
URL:https://ateneu.clickame.net/agenda/andrea-motis-joan-chamorro-josep-traver-4/
LOCATION:Traska Truska\, Pg. del Terraple\, 82\, Molins de Rei\, Barcelona\, 08750\, Espanya
END:VEVENT
BEGIN:VEVENT
DTSTART;TZID=Europe/Paris:20140125T190000
DTEND;TZID=Europe/Paris:20140125T210000
DTSTAMP:20260420T020137
CREATED:20140114T085344Z
LAST-MODIFIED:20140114T085344Z
UID:9352-1390676400-1390683600@ateneu.clickame.net
SUMMARY:ANDREA MOTIS & JOAN CHAMORRO & JOSEP TRAVER
DESCRIPTION:Andrea Motis veu\, saxos alt i soprano i trompeta\nJoan Chamorro contrabaix i saxo\nJosep Traver guitarra\, banjo i ukelele \nCOMPRAR ENTRADES \nAndrea Motis i Joan Chamorro són considerats la revelació del jazz català. La primera vegada que escoltes a l’Andrea Motis et quedes meravellat. Alguns dels seus vídeos superen les 200.000 reproduccions a YouTube. Aquesta jove artista canta amb una personalitat que no es veia en anys\, tot i que també toca el saxo i la trompeta.\nD’això en té gran part de responsabilitat el seu mentor Joan Chamorro. El treball que està fent aquest veterà del jazz català des de la Sant Andreu Jazz Band\, la big band més jove d’Europa\, és sensacional. La seva trajectòria com a saxofonista (entre d’altres instruments) és tan brillant i dilatada que seria inútil intentar glossar-la en aquestes breus línies. Tete Montoliu\, Slide Hampton\, Bebo Valdés\, Randy Brecker\, Manhattan Transfer\, Steve Wonder… l’elenc de músics amb els que ha treballat és impressionant.\nMolt ben acompanyats per Josep Traver a la guitarra i altres cordes\, tindrem la sort de presenciar a qui en breu figurarà als cartells dels grans festivals de jazz europeus. \nConcert organitzat per ContraBaix · Fira de la Candelera · Joventut Catòlica-La Peni
URL:https://ateneu.clickame.net/agenda/andrea-motis-joan-chamorro-josep-traver-5/
LOCATION:Traska Truska\, Pg. del Terraple\, 82\, Molins de Rei\, Barcelona\, 08750\, Espanya
END:VEVENT
BEGIN:VEVENT
DTSTART;TZID=Europe/Paris:20140128T193000
DTEND;TZID=Europe/Paris:20140128T213000
DTSTAMP:20260420T020137
CREATED:20140114T110343Z
LAST-MODIFIED:20140114T110343Z
UID:619-1390937400-1390944600@ateneu.clickame.net
SUMMARY:La Segona República : L'esforç col·lectiu per modernitzar la societat i les institucions públiques
DESCRIPTION:Commemoració dels 75 anys d’ocupació franquista de Roses de Llobregat (Sant Feliu de Llobregat) \nJORNADES DE MEMÒRIA HISTÒRICA I DEMOCRÀTICA\n(Del 22 de gener al 14 de febrer de 2014) \n• Conferència: La Segona República : L’esforç col·lectiu per modernitzar la societat i les institucions públiques\n– Intervé: Gemma Tribó (Historiadora i professora de la U. Barcelona)\n– Presenta: Josep M. Gelabert (Historiador i docent USLA)
URL:https://ateneu.clickame.net/agenda/la-segona-republica-lesforc-col%c2%b7lectiu-per-modernitzar-la-societat-i-les-institucions-publiques/
LOCATION:Aula de Cultura – Ateneu Santfeliuenc\, Vidal i Ribas\, 25\, Sant Feliu de Llobregat\, Barcelona\, 08980\, Espanya
END:VEVENT
BEGIN:VEVENT
DTSTART;TZID=Europe/Paris:20140128T193000
DTEND;TZID=Europe/Paris:20140128T213000
DTSTAMP:20260420T020137
CREATED:20140114T110343Z
LAST-MODIFIED:20140114T110343Z
UID:8105-1390937400-1390944600@ateneu.clickame.net
SUMMARY:La Segona República : L'esforç col·lectiu per modernitzar la societat i les institucions públiques
DESCRIPTION:Commemoració dels 75 anys d’ocupació franquista de Roses de Llobregat (Sant Feliu de Llobregat) \nJORNADES DE MEMÒRIA HISTÒRICA I DEMOCRÀTICA\n(Del 22 de gener al 14 de febrer de 2014) \n• Conferència: La Segona República : L’esforç col·lectiu per modernitzar la societat i les institucions públiques\n– Intervé: Gemma Tribó (Historiadora i professora de la U. Barcelona)\n– Presenta: Josep M. Gelabert (Historiador i docent USLA)
URL:https://ateneu.clickame.net/agenda/la-segona-republica-lesforc-col%c2%b7lectiu-per-modernitzar-la-societat-i-les-institucions-publiques-2/
LOCATION:Aula de Cultura – Ateneu Santfeliuenc\, Vidal i Ribas\, 25\, Sant Feliu de Llobregat\, Barcelona\, 08980\, Espanya
END:VEVENT
BEGIN:VEVENT
DTSTART;TZID=Europe/Paris:20140128T193000
DTEND;TZID=Europe/Paris:20140128T213000
DTSTAMP:20260420T020137
CREATED:20140114T110343Z
LAST-MODIFIED:20140114T110343Z
UID:9358-1390937400-1390944600@ateneu.clickame.net
SUMMARY:La Segona República : L'esforç col·lectiu per modernitzar la societat i les institucions públiques
DESCRIPTION:Commemoració dels 75 anys d’ocupació franquista de Roses de Llobregat (Sant Feliu de Llobregat) \nJORNADES DE MEMÒRIA HISTÒRICA I DEMOCRÀTICA\n(Del 22 de gener al 14 de febrer de 2014) \n• Conferència: La Segona República : L’esforç col·lectiu per modernitzar la societat i les institucions públiques\n– Intervé: Gemma Tribó (Historiadora i professora de la U. Barcelona)\n– Presenta: Josep M. Gelabert (Historiador i docent USLA)
URL:https://ateneu.clickame.net/agenda/la-segona-republica-lesforc-col%c2%b7lectiu-per-modernitzar-la-societat-i-les-institucions-publiques-3/
LOCATION:Aula de Cultura – Ateneu Santfeliuenc\, Vidal i Ribas\, 25\, Sant Feliu de Llobregat\, Barcelona\, 08980\, Espanya
END:VEVENT
BEGIN:VEVENT
DTSTART;TZID=Europe/Paris:20140131T210000
DTEND;TZID=Europe/Paris:20140131T230000
DTSTAMP:20260420T020137
CREATED:20140114T102333Z
LAST-MODIFIED:20140114T102556Z
UID:607-1391202000-1391209200@ateneu.clickame.net
SUMMARY:DANI NEL·LO
DESCRIPTION:Dani Nel·lo\, saxo. Mario Cobo\, guitarra. Dani Baraldés\, guitarra. Santi Ursul\, baix elèctric. Anton Jarl\, bateria. \n\nCOMPRAR ENTRADES \nTorna la força del blues de Dani Nel·lo amb un nou quintet espectacular en una actuació plena de música negra. Durant els anys 50 i 60\, abans que la guitarra elèctrica fos la icona de la música popular\, el saxo era l’instrument cabdal de qualsevol formació de rock’n’roll\, soul i rhythm’n’blues. Inspirat pels honkers dels anys 40\, el saxofonista King Curtis va establir una nova manera de bufar que ha influït a generacions senceres. Si ets dels que JA has escoltat al Dani en directe\, segur que tens ganes de repetir!
URL:https://ateneu.clickame.net/agenda/dani-nel%c2%b7lo/
LOCATION:Auditori Barradas\, Rambla Just Oliveres\, 56\, Hospitalet de Llobregat\, Barcelona\, 08901\, Espanya
END:VEVENT
BEGIN:VEVENT
DTSTART;TZID=Europe/Paris:20140131T210000
DTEND;TZID=Europe/Paris:20140131T230000
DTSTAMP:20260420T020137
CREATED:20140114T102333Z
LAST-MODIFIED:20140114T102333Z
UID:8100-1391202000-1391209200@ateneu.clickame.net
SUMMARY:DANI NEL·LO
DESCRIPTION:Dani Nel·lo\, saxo. Mario Cobo\, guitarra. Dani Baraldés\, guitarra. Santi Ursul\, baix elèctric. Anton Jarl\, bateria. \n\nCOMPRAR ENTRADES \nTorna la força del blues de Dani Nel·lo amb un nou quintet espectacular en una actuació plena de música negra. Durant els anys 50 i 60\, abans que la guitarra elèctrica fos la icona de la música popular\, el saxo era l’instrument cabdal de qualsevol formació de rock’n’roll\, soul i rhythm’n’blues. Inspirat pels honkers dels anys 40\, el saxofonista King Curtis va establir una nova manera de bufar que ha influït a generacions senceres. Si ets dels que JA has escoltat al Dani en directe\, segur que tens ganes de repetir!
URL:https://ateneu.clickame.net/agenda/dani-nel%c2%b7lo-2/
LOCATION:Auditori Barradas\, Rambla Just Oliveres\, 56\, Hospitalet de Llobregat\, Barcelona\, 08901\, Espanya
END:VEVENT
BEGIN:VEVENT
DTSTART;TZID=Europe/Paris:20140131T210000
DTEND;TZID=Europe/Paris:20140131T230000
DTSTAMP:20260420T020137
CREATED:20140114T102333Z
LAST-MODIFIED:20140114T102333Z
UID:9353-1391202000-1391209200@ateneu.clickame.net
SUMMARY:DANI NEL·LO
DESCRIPTION:Dani Nel·lo\, saxo. Mario Cobo\, guitarra. Dani Baraldés\, guitarra. Santi Ursul\, baix elèctric. Anton Jarl\, bateria. \n\nCOMPRAR ENTRADES \nTorna la força del blues de Dani Nel·lo amb un nou quintet espectacular en una actuació plena de música negra. Durant els anys 50 i 60\, abans que la guitarra elèctrica fos la icona de la música popular\, el saxo era l’instrument cabdal de qualsevol formació de rock’n’roll\, soul i rhythm’n’blues. Inspirat pels honkers dels anys 40\, el saxofonista King Curtis va establir una nova manera de bufar que ha influït a generacions senceres. Si ets dels que JA has escoltat al Dani en directe\, segur que tens ganes de repetir!
URL:https://ateneu.clickame.net/agenda/dani-nel%c2%b7lo-3/
LOCATION:Auditori Barradas\, Rambla Just Oliveres\, 56\, Hospitalet de Llobregat\, Barcelona\, 08901\, Espanya
END:VEVENT
END:VCALENDAR