BEGIN:VCALENDAR
VERSION:2.0
PRODID:-//Ateneu Santfeliuenc - ECPv6.15.13//NONSGML v1.0//EN
CALSCALE:GREGORIAN
METHOD:PUBLISH
X-WR-CALNAME:Ateneu Santfeliuenc
X-ORIGINAL-URL:https://ateneu.clickame.net
X-WR-CALDESC:Esdeveniments per Ateneu Santfeliuenc
REFRESH-INTERVAL;VALUE=DURATION:PT1H
X-Robots-Tag:noindex
X-PUBLISHED-TTL:PT1H
BEGIN:VTIMEZONE
TZID:Europe/Paris
BEGIN:DAYLIGHT
TZOFFSETFROM:+0100
TZOFFSETTO:+0200
TZNAME:CEST
DTSTART:20130331T010000
END:DAYLIGHT
BEGIN:STANDARD
TZOFFSETFROM:+0200
TZOFFSETTO:+0100
TZNAME:CET
DTSTART:20131027T010000
END:STANDARD
BEGIN:DAYLIGHT
TZOFFSETFROM:+0100
TZOFFSETTO:+0200
TZNAME:CEST
DTSTART:20140330T010000
END:DAYLIGHT
BEGIN:STANDARD
TZOFFSETFROM:+0200
TZOFFSETTO:+0100
TZNAME:CET
DTSTART:20141026T010000
END:STANDARD
BEGIN:DAYLIGHT
TZOFFSETFROM:+0100
TZOFFSETTO:+0200
TZNAME:CEST
DTSTART:20150329T010000
END:DAYLIGHT
BEGIN:STANDARD
TZOFFSETFROM:+0200
TZOFFSETTO:+0100
TZNAME:CET
DTSTART:20151025T010000
END:STANDARD
END:VTIMEZONE
BEGIN:VEVENT
DTSTART;TZID=Europe/Paris:20140523T190000
DTEND;TZID=Europe/Paris:20140523T190000
DTSTAMP:20260419T214025
CREATED:20140512T081356Z
LAST-MODIFIED:20140512T082531Z
UID:1050-1400871600-1400871600@ateneu.clickame.net
SUMMARY:De la utopia al camp de concentració. Records d'un soldat de la lleva del biberó.
DESCRIPTION:Presentació del llibre de Ramon Arau.\nIntervenen M. Jesús Bono i Salvador Domènech.  \nramonarau.com \nLa Guerra Civil no està enterrada  \nEl barceloní Ramon Arau\, de 94 anys\, relata les seves vivències com a soldat de la ‘quinta del Biberó’ al llibre ‘De la utopia a camp de concentració’
URL:https://ateneu.clickame.net/agenda/de-la-utopia-al-camp-de-concentracio-records-dun-soldat-de-la-lleva-del-bibero/
LOCATION:Aula de Cultura – Ateneu Santfeliuenc\, Vidal i Ribas\, 25\, Sant Feliu de Llobregat\, Barcelona\, 08980\, Espanya
END:VEVENT
BEGIN:VEVENT
DTSTART;TZID=Europe/Paris:20140523T190000
DTEND;TZID=Europe/Paris:20140523T190000
DTSTAMP:20260419T214025
CREATED:20140512T081356Z
LAST-MODIFIED:20140512T081356Z
UID:8155-1400871600-1400871600@ateneu.clickame.net
SUMMARY:De la utopia al camp de concentració. Records d'un soldat de la lleva del biberó.
DESCRIPTION:Presentació del llibre de Ramon Arau.\nIntervenen M. Jesús Bono i Salvador Domènech.  \nramonarau.com \nLa Guerra Civil no està enterrada  \nEl barceloní Ramon Arau\, de 94 anys\, relata les seves vivències com a soldat de la ‘quinta del Biberó’ al llibre ‘De la utopia a camp de concentració’
URL:https://ateneu.clickame.net/agenda/de-la-utopia-al-camp-de-concentracio-records-dun-soldat-de-la-lleva-del-bibero-2/
LOCATION:Aula de Cultura – Ateneu Santfeliuenc\, Vidal i Ribas\, 25\, Sant Feliu de Llobregat\, Barcelona\, 08980\, Espanya
END:VEVENT
BEGIN:VEVENT
DTSTART;TZID=Europe/Paris:20140523T190000
DTEND;TZID=Europe/Paris:20140523T190000
DTSTAMP:20260419T214025
CREATED:20140512T081356Z
LAST-MODIFIED:20140512T081356Z
UID:9408-1400871600-1400871600@ateneu.clickame.net
SUMMARY:De la utopia al camp de concentració. Records d'un soldat de la lleva del biberó.
DESCRIPTION:Presentació del llibre de Ramon Arau.\nIntervenen M. Jesús Bono i Salvador Domènech.  \nramonarau.com \nLa Guerra Civil no està enterrada  \nEl barceloní Ramon Arau\, de 94 anys\, relata les seves vivències com a soldat de la ‘quinta del Biberó’ al llibre ‘De la utopia a camp de concentració’
URL:https://ateneu.clickame.net/agenda/de-la-utopia-al-camp-de-concentracio-records-dun-soldat-de-la-lleva-del-bibero-3/
LOCATION:Aula de Cultura – Ateneu Santfeliuenc\, Vidal i Ribas\, 25\, Sant Feliu de Llobregat\, Barcelona\, 08980\, Espanya
END:VEVENT
BEGIN:VEVENT
DTSTART;TZID=Europe/Paris:20140523T210000
DTEND;TZID=Europe/Paris:20140523T210000
DTSTAMP:20260419T214025
CREATED:20140512T081602Z
LAST-MODIFIED:20140512T082715Z
UID:1051-1400878800-1400878800@ateneu.clickame.net
SUMMARY:Marina BBface & The Beatroots
DESCRIPTION:8€ amics contrabaix (anticipada)\n9€ anticipada (12€ taquilla) \nCOMPRAR ENTRADES \nNIT DE SOUL & WHISKY + SOPAR\nConcert + whisky: Amics 13€ – Anticipada 14€ – Taquilla 17€ Comprar entrades\nConcert + sopar: Amics 18€ – Anticipada 19€ – Taquilla 22€ Comprar entrades\nConcert + whisky + sopar: Amics 21€ – Anticipada 22€ – Taquilla 25€ Comprar entrades \nMarina BBFace\, veu. Frank Montasell\, guitarra. Hèctor Moras\, baix. Raúl Pérez\, bateria. Dani Campos\, teclats. \nNova banda de funk i soul formada per Marina BBface (ex-cantant de The Pepper Pots) i membres de Cardova\, Sol Lagarto o Chocadelia Internacional. Juganers com el funk\, intensos com el soul i descarats com el rock. Units per la búsqueda d’una sonoritat pròpia i la necessitat de compartir-la amb el públic més apassionat\, ens obsequiaran amb un repertori escollit amb cura i originalitat. Recomanat per a melòmans\, nocturns\, ballarins i vitalistes.
URL:https://ateneu.clickame.net/agenda/marina-bbface-the-beatroots/
LOCATION:Sala d’actes de l’Ateneu\, Vidal i Ribas\, 25\, Sant Feliu de Llobregat\, Barcelona\, Espanya
END:VEVENT
BEGIN:VEVENT
DTSTART;TZID=Europe/Paris:20140523T210000
DTEND;TZID=Europe/Paris:20140523T210000
DTSTAMP:20260419T214025
CREATED:20140512T081602Z
LAST-MODIFIED:20140512T081602Z
UID:8156-1400878800-1400878800@ateneu.clickame.net
SUMMARY:Marina BBface & The Beatroots
DESCRIPTION:8€ amics contrabaix (anticipada)\n9€ anticipada (12€ taquilla) \nCOMPRAR ENTRADES \nNIT DE SOUL & WHISKY + SOPAR\nConcert + whisky: Amics 13€ – Anticipada 14€ – Taquilla 17€ Comprar entrades\nConcert + sopar: Amics 18€ – Anticipada 19€ – Taquilla 22€ Comprar entrades\nConcert + whisky + sopar: Amics 21€ – Anticipada 22€ – Taquilla 25€ Comprar entrades \nMarina BBFace\, veu. Frank Montasell\, guitarra. Hèctor Moras\, baix. Raúl Pérez\, bateria. Dani Campos\, teclats. \nNova banda de funk i soul formada per Marina BBface (ex-cantant de The Pepper Pots) i membres de Cardova\, Sol Lagarto o Chocadelia Internacional. Juganers com el funk\, intensos com el soul i descarats com el rock. Units per la búsqueda d’una sonoritat pròpia i la necessitat de compartir-la amb el públic més apassionat\, ens obsequiaran amb un repertori escollit amb cura i originalitat. Recomanat per a melòmans\, nocturns\, ballarins i vitalistes.
URL:https://ateneu.clickame.net/agenda/marina-bbface-the-beatroots-4/
LOCATION:Sala d’actes de l’Ateneu\, Vidal i Ribas\, 25\, Sant Feliu de Llobregat\, Barcelona\, Espanya
END:VEVENT
BEGIN:VEVENT
DTSTART;TZID=Europe/Paris:20140523T210000
DTEND;TZID=Europe/Paris:20140523T210000
DTSTAMP:20260419T214025
CREATED:20140512T081602Z
LAST-MODIFIED:20140512T081602Z
UID:9409-1400878800-1400878800@ateneu.clickame.net
SUMMARY:Marina BBface & The Beatroots
DESCRIPTION:8€ amics contrabaix (anticipada)\n9€ anticipada (12€ taquilla) \nCOMPRAR ENTRADES \nNIT DE SOUL & WHISKY + SOPAR\nConcert + whisky: Amics 13€ – Anticipada 14€ – Taquilla 17€ Comprar entrades\nConcert + sopar: Amics 18€ – Anticipada 19€ – Taquilla 22€ Comprar entrades\nConcert + whisky + sopar: Amics 21€ – Anticipada 22€ – Taquilla 25€ Comprar entrades \nMarina BBFace\, veu. Frank Montasell\, guitarra. Hèctor Moras\, baix. Raúl Pérez\, bateria. Dani Campos\, teclats. \nNova banda de funk i soul formada per Marina BBface (ex-cantant de The Pepper Pots) i membres de Cardova\, Sol Lagarto o Chocadelia Internacional. Juganers com el funk\, intensos com el soul i descarats com el rock. Units per la búsqueda d’una sonoritat pròpia i la necessitat de compartir-la amb el públic més apassionat\, ens obsequiaran amb un repertori escollit amb cura i originalitat. Recomanat per a melòmans\, nocturns\, ballarins i vitalistes.
URL:https://ateneu.clickame.net/agenda/marina-bbface-the-beatroots-5/
LOCATION:Sala d’actes de l’Ateneu\, Vidal i Ribas\, 25\, Sant Feliu de Llobregat\, Barcelona\, Espanya
END:VEVENT
BEGIN:VEVENT
DTSTART;TZID=Europe/Paris:20140524T080000
DTEND;TZID=Europe/Paris:20140524T170000
DTSTAMP:20260419T214025
CREATED:20140512T082053Z
LAST-MODIFIED:20140512T082053Z
UID:1052-1400918400-1400950800@ateneu.clickame.net
SUMMARY:Sortida i visita guiada al refugi de Sant Adrià del Besòs i al Camp de la Bota
DESCRIPTION:Homenatge als nou ciutadans de Sant Feliu de Llobregat afusellats al Camp de la Bota
URL:https://ateneu.clickame.net/agenda/sortida-i-visita-guiada-al-refugi-de-sant-adria-del-besos-i-al-camp-de-la-bota/
END:VEVENT
BEGIN:VEVENT
DTSTART;TZID=Europe/Paris:20140524T080000
DTEND;TZID=Europe/Paris:20140524T170000
DTSTAMP:20260419T214025
CREATED:20140512T082053Z
LAST-MODIFIED:20140512T082053Z
UID:8157-1400918400-1400950800@ateneu.clickame.net
SUMMARY:Sortida i visita guiada al refugi de Sant Adrià del Besòs i al Camp de la Bota
DESCRIPTION:Homenatge als nou ciutadans de Sant Feliu de Llobregat afusellats al Camp de la Bota
URL:https://ateneu.clickame.net/agenda/sortida-i-visita-guiada-al-refugi-de-sant-adria-del-besos-i-al-camp-de-la-bota-2/
END:VEVENT
BEGIN:VEVENT
DTSTART;TZID=Europe/Paris:20140524T080000
DTEND;TZID=Europe/Paris:20140524T170000
DTSTAMP:20260419T214025
CREATED:20140512T082053Z
LAST-MODIFIED:20140512T082053Z
UID:9410-1400918400-1400950800@ateneu.clickame.net
SUMMARY:Sortida i visita guiada al refugi de Sant Adrià del Besòs i al Camp de la Bota
DESCRIPTION:Homenatge als nou ciutadans de Sant Feliu de Llobregat afusellats al Camp de la Bota
URL:https://ateneu.clickame.net/agenda/sortida-i-visita-guiada-al-refugi-de-sant-adria-del-besos-i-al-camp-de-la-bota-3/
END:VEVENT
BEGIN:VEVENT
DTSTART;TZID=Europe/Paris:20140527T193000
DTEND;TZID=Europe/Paris:20140527T193000
DTSTAMP:20260419T214025
CREATED:20140512T082353Z
LAST-MODIFIED:20140512T082353Z
UID:9411-1401219000-1401219000@ateneu.clickame.net
SUMMARY:El Greco\, quatre-cents anys després (1614 - 2014)
DESCRIPTION:Retrat d’un cavaller ancià\, considerat autoretrat (1595-1600)\, Museu Metropolità d’Art\, Nova York\, EE. UU.Conferència sobre El Greco a càrrec de Rubén González
URL:https://ateneu.clickame.net/agenda/el-greco-quatre-cents-anys-despres-1614-2014-3/
LOCATION:Aula de Cultura – Ateneu Santfeliuenc\, Vidal i Ribas\, 25\, Sant Feliu de Llobregat\, Barcelona\, 08980\, Espanya
END:VEVENT
BEGIN:VEVENT
DTSTART;TZID=Europe/Paris:20140527T193000
DTEND;TZID=Europe/Paris:20140527T193000
DTSTAMP:20260419T214025
CREATED:20140512T082353Z
LAST-MODIFIED:20140512T082427Z
UID:1053-1401219000-1401219000@ateneu.clickame.net
SUMMARY:El Greco\, quatre-cents anys després (1614 - 2014)
DESCRIPTION:Retrat d’un cavaller ancià\, considerat autoretrat (1595-1600)\, Museu Metropolità d’Art\, Nova York\, EE. UU.Conferència sobre El Greco a càrrec de Rubén González
URL:https://ateneu.clickame.net/agenda/el-greco-quatre-cents-anys-despres-1614-2014/
LOCATION:Aula de Cultura – Ateneu Santfeliuenc\, Vidal i Ribas\, 25\, Sant Feliu de Llobregat\, Barcelona\, 08980\, Espanya
END:VEVENT
BEGIN:VEVENT
DTSTART;TZID=Europe/Paris:20140527T193000
DTEND;TZID=Europe/Paris:20140527T193000
DTSTAMP:20260419T214025
CREATED:20140512T082353Z
LAST-MODIFIED:20140512T082353Z
UID:8158-1401219000-1401219000@ateneu.clickame.net
SUMMARY:El Greco\, quatre-cents anys després (1614 - 2014)
DESCRIPTION:Retrat d’un cavaller ancià\, considerat autoretrat (1595-1600)\, Museu Metropolità d’Art\, Nova York\, EE. UU.Conferència sobre El Greco a càrrec de Rubén González
URL:https://ateneu.clickame.net/agenda/el-greco-quatre-cents-anys-despres-1614-2014-2/
LOCATION:Aula de Cultura – Ateneu Santfeliuenc\, Vidal i Ribas\, 25\, Sant Feliu de Llobregat\, Barcelona\, 08980\, Espanya
END:VEVENT
BEGIN:VEVENT
DTSTART;TZID=Europe/Paris:20140601T130000
DTEND;TZID=Europe/Paris:20140601T130000
DTSTAMP:20260419T214025
CREATED:20140521T170305Z
LAST-MODIFIED:20140521T170305Z
UID:1077-1401627600-1401627600@ateneu.clickame.net
SUMMARY:Asadazo argentí i de família del Bar de l'Ateneu
DESCRIPTION:Asado\, vacío\, choripán… i alguna sorpresa!\nPlaces limitades\n15 €\nReserva ja trucant al Bar de l’Ateneu!\n93 666 88 03
URL:https://ateneu.clickame.net/agenda/asadazo-argenti-i-de-familia-del-bar-de-lateneu/
LOCATION:Pati de l’Ateneu\, Carrer de l'Ateneu\, 23\, Sant Feliu de Llobregat\, Barcelona\, 08980\, Spain
END:VEVENT
BEGIN:VEVENT
DTSTART;TZID=Europe/Paris:20140601T130000
DTEND;TZID=Europe/Paris:20140601T130000
DTSTAMP:20260419T214025
CREATED:20140521T170305Z
LAST-MODIFIED:20140521T170305Z
UID:8159-1401627600-1401627600@ateneu.clickame.net
SUMMARY:Asadazo argentí i de família del Bar de l'Ateneu
DESCRIPTION:Asado\, vacío\, choripán… i alguna sorpresa!\nPlaces limitades\n15 €\nReserva ja trucant al Bar de l’Ateneu!\n93 666 88 03
URL:https://ateneu.clickame.net/agenda/asadazo-argenti-i-de-familia-del-bar-de-lateneu-2/
LOCATION:Pati de l’Ateneu\, Carrer de l'Ateneu\, 23\, Sant Feliu de Llobregat\, Barcelona\, 08980\, Spain
END:VEVENT
BEGIN:VEVENT
DTSTART;TZID=Europe/Paris:20140601T130000
DTEND;TZID=Europe/Paris:20140601T130000
DTSTAMP:20260419T214025
CREATED:20140521T170305Z
LAST-MODIFIED:20140521T170305Z
UID:9412-1401627600-1401627600@ateneu.clickame.net
SUMMARY:Asadazo argentí i de família del Bar de l'Ateneu
DESCRIPTION:Asado\, vacío\, choripán… i alguna sorpresa!\nPlaces limitades\n15 €\nReserva ja trucant al Bar de l’Ateneu!\n93 666 88 03
URL:https://ateneu.clickame.net/agenda/asadazo-argenti-i-de-familia-del-bar-de-lateneu-3/
LOCATION:Pati de l’Ateneu\, Carrer de l'Ateneu\, 23\, Sant Feliu de Llobregat\, Barcelona\, 08980\, Spain
END:VEVENT
BEGIN:VEVENT
DTSTART;TZID=Europe/Paris:20140607T110000
DTEND;TZID=Europe/Paris:20140607T110000
DTSTAMP:20260419T214025
CREATED:20140521T172020Z
LAST-MODIFIED:20140521T172020Z
UID:1078-1402138800-1402138800@ateneu.clickame.net
SUMMARY:Mercat l'andròmina. Fira d' intercanvi.
DESCRIPTION:Porta les teves andròmines: roba\, cromos\, joguines… i intercanvia!\nMúsica en viu amb “Sindicat Pomorska” i DJ
URL:https://ateneu.clickame.net/agenda/mercat-landromina-fira-d-intercanvi/
LOCATION:Pati de l’Ateneu\, Carrer de l'Ateneu\, 23\, Sant Feliu de Llobregat\, Barcelona\, 08980\, Spain
END:VEVENT
BEGIN:VEVENT
DTSTART;TZID=Europe/Paris:20140607T110000
DTEND;TZID=Europe/Paris:20140607T110000
DTSTAMP:20260419T214025
CREATED:20140521T172020Z
LAST-MODIFIED:20140521T172020Z
UID:8160-1402138800-1402138800@ateneu.clickame.net
SUMMARY:Mercat l'andròmina. Fira d' intercanvi.
DESCRIPTION:Porta les teves andròmines: roba\, cromos\, joguines… i intercanvia!\nMúsica en viu amb “Sindicat Pomorska” i DJ
URL:https://ateneu.clickame.net/agenda/mercat-landromina-fira-d-intercanvi-2/
LOCATION:Pati de l’Ateneu\, Carrer de l'Ateneu\, 23\, Sant Feliu de Llobregat\, Barcelona\, 08980\, Spain
END:VEVENT
BEGIN:VEVENT
DTSTART;TZID=Europe/Paris:20140607T110000
DTEND;TZID=Europe/Paris:20140607T110000
DTSTAMP:20260419T214025
CREATED:20140521T172020Z
LAST-MODIFIED:20140521T172020Z
UID:9413-1402138800-1402138800@ateneu.clickame.net
SUMMARY:Mercat l'andròmina. Fira d' intercanvi.
DESCRIPTION:Porta les teves andròmines: roba\, cromos\, joguines… i intercanvia!\nMúsica en viu amb “Sindicat Pomorska” i DJ
URL:https://ateneu.clickame.net/agenda/mercat-landromina-fira-d-intercanvi-3/
LOCATION:Pati de l’Ateneu\, Carrer de l'Ateneu\, 23\, Sant Feliu de Llobregat\, Barcelona\, 08980\, Spain
END:VEVENT
BEGIN:VEVENT
DTSTART;TZID=Europe/Paris:20140609T103000
DTEND;TZID=Europe/Paris:20140609T103000
DTSTAMP:20260419T214025
CREATED:20140522T074502Z
LAST-MODIFIED:20140522T074502Z
UID:8161-1402309800-1402309800@ateneu.clickame.net
SUMMARY:Cantada del Cor de l’Ateneu a l’Aplec de La Salut
DESCRIPTION:
URL:https://ateneu.clickame.net/agenda/cantada-del-cor-de-lateneu-a-laplec-de-la-salut-2/
LOCATION:Ermita de La Salut\, Sant Feliu de Llobregat\, Barcelona\, 08980\, Espanya
END:VEVENT
BEGIN:VEVENT
DTSTART;TZID=Europe/Paris:20140609T103000
DTEND;TZID=Europe/Paris:20140609T103000
DTSTAMP:20260419T214025
CREATED:20140522T074502Z
LAST-MODIFIED:20140522T074502Z
UID:9414-1402309800-1402309800@ateneu.clickame.net
SUMMARY:Cantada del Cor de l’Ateneu a l’Aplec de La Salut
DESCRIPTION:
URL:https://ateneu.clickame.net/agenda/cantada-del-cor-de-lateneu-a-laplec-de-la-salut-3/
LOCATION:Ermita de La Salut\, Sant Feliu de Llobregat\, Barcelona\, 08980\, Espanya
END:VEVENT
BEGIN:VEVENT
DTSTART;TZID=Europe/Paris:20140609T103000
DTEND;TZID=Europe/Paris:20140609T103000
DTSTAMP:20260419T214025
CREATED:20140522T074502Z
LAST-MODIFIED:20140522T084818Z
UID:1080-1402309800-1402309800@ateneu.clickame.net
SUMMARY:Cantada del Cor de l’Ateneu a l’Aplec de La Salut
DESCRIPTION:
URL:https://ateneu.clickame.net/agenda/cantada-del-cor-de-lateneu-a-laplec-de-la-salut/
LOCATION:Ermita de La Salut\, Sant Feliu de Llobregat\, Barcelona\, 08980\, Espanya
END:VEVENT
BEGIN:VEVENT
DTSTART;TZID=Europe/Paris:20140617T170000
DTEND;TZID=Europe/Paris:20140620T200000
DTSTAMP:20260419T214025
CREATED:20140617T073758Z
LAST-MODIFIED:20140617T095034Z
UID:1146-1403024400-1403294400@ateneu.clickame.net
SUMMARY:Exposició de pintura\, fotografia i gravats
DESCRIPTION:Pintures\, fotografies i gravats del Cercle Artístic de Corbera de Llobregat.\nDel 17 al 20 de juny. Obertura de dilluns a divendres\, 17 a 20 h.
URL:https://ateneu.clickame.net/agenda/exposicio-de-pintura-fotografia-i-gravats/
LOCATION:Aula de Cultura – Ateneu Santfeliuenc\, Vidal i Ribas\, 25\, Sant Feliu de Llobregat\, Barcelona\, 08980\, Espanya
END:VEVENT
BEGIN:VEVENT
DTSTART;TZID=Europe/Paris:20140617T170000
DTEND;TZID=Europe/Paris:20140620T200000
DTSTAMP:20260419T214025
CREATED:20140617T073758Z
LAST-MODIFIED:20140617T073758Z
UID:8168-1403024400-1403294400@ateneu.clickame.net
SUMMARY:Exposició de pintura\, fotografia i gravats
DESCRIPTION:Pintures\, fotografies i gravats del Cercle Artístic de Corbera de Llobregat.\nDel 17 al 20 de juny. Obertura de dilluns a divendres\, 17 a 20 h.
URL:https://ateneu.clickame.net/agenda/exposicio-de-pintura-fotografia-i-gravats-2/
LOCATION:Aula de Cultura – Ateneu Santfeliuenc\, Vidal i Ribas\, 25\, Sant Feliu de Llobregat\, Barcelona\, 08980\, Espanya
END:VEVENT
BEGIN:VEVENT
DTSTART;TZID=Europe/Paris:20140617T170000
DTEND;TZID=Europe/Paris:20140620T200000
DTSTAMP:20260419T214025
CREATED:20140617T073758Z
LAST-MODIFIED:20140617T073758Z
UID:9421-1403024400-1403294400@ateneu.clickame.net
SUMMARY:Exposició de pintura\, fotografia i gravats
DESCRIPTION:Pintures\, fotografies i gravats del Cercle Artístic de Corbera de Llobregat.\nDel 17 al 20 de juny. Obertura de dilluns a divendres\, 17 a 20 h.
URL:https://ateneu.clickame.net/agenda/exposicio-de-pintura-fotografia-i-gravats-3/
LOCATION:Aula de Cultura – Ateneu Santfeliuenc\, Vidal i Ribas\, 25\, Sant Feliu de Llobregat\, Barcelona\, 08980\, Espanya
END:VEVENT
BEGIN:VEVENT
DTSTART;TZID=Europe/Paris:20140618T190000
DTEND;TZID=Europe/Paris:20140618T190000
DTSTAMP:20260419T214025
CREATED:20140522T075100Z
LAST-MODIFIED:20140522T075100Z
UID:1084-1403118000-1403118000@ateneu.clickame.net
SUMMARY:Concert de fi de curs de la Coral Infantil Tic Tac de l’Ateneu
DESCRIPTION:La Coral Infantil Tic Tac farà una mostra del curs 2013-2014 en el que\, entre d’altres activitats\, ha enregistrat un tema d’homenatge a la Joana Raspall amb el grup Cybee:
URL:https://ateneu.clickame.net/agenda/concert-de-fi-de-curs-de-la-coral-infantil-tic-tac-de-lateneu/
END:VEVENT
BEGIN:VEVENT
DTSTART;TZID=Europe/Paris:20140618T190000
DTEND;TZID=Europe/Paris:20140618T190000
DTSTAMP:20260419T214025
CREATED:20140522T075100Z
LAST-MODIFIED:20140522T075100Z
UID:8162-1403118000-1403118000@ateneu.clickame.net
SUMMARY:Concert de fi de curs de la Coral Infantil Tic Tac de l’Ateneu
DESCRIPTION:La Coral Infantil Tic Tac farà una mostra del curs 2013-2014 en el que\, entre d’altres activitats\, ha enregistrat un tema d’homenatge a la Joana Raspall amb el grup Cybee:
URL:https://ateneu.clickame.net/agenda/concert-de-fi-de-curs-de-la-coral-infantil-tic-tac-de-lateneu-4/
END:VEVENT
BEGIN:VEVENT
DTSTART;TZID=Europe/Paris:20140618T190000
DTEND;TZID=Europe/Paris:20140618T190000
DTSTAMP:20260419T214025
CREATED:20140522T075100Z
LAST-MODIFIED:20140522T075100Z
UID:9415-1403118000-1403118000@ateneu.clickame.net
SUMMARY:Concert de fi de curs de la Coral Infantil Tic Tac de l’Ateneu
DESCRIPTION:La Coral Infantil Tic Tac farà una mostra del curs 2013-2014 en el que\, entre d’altres activitats\, ha enregistrat un tema d’homenatge a la Joana Raspall amb el grup Cybee:
URL:https://ateneu.clickame.net/agenda/concert-de-fi-de-curs-de-la-coral-infantil-tic-tac-de-lateneu-5/
END:VEVENT
BEGIN:VEVENT
DTSTART;VALUE=DATE:20140619
DTEND;VALUE=DATE:20140714
DTSTAMP:20260419T214025
CREATED:20140602T172003Z
LAST-MODIFIED:20140602T172003Z
UID:9419-1403136000-1405295999@ateneu.clickame.net
SUMMARY:Els secrets de l'f/11... 10+1 formes  diferents de positivar la vida
DESCRIPTION:Exposició de fotografies del taller de l’Ateneu\, a les parets del Bar.\nInauguració el dijous 19 de junys\, a les 20h.
URL:https://ateneu.clickame.net/agenda/els-secrets-de-lf11-101-formes-diferents-de-positivar-la-vida-3/
LOCATION:Bar de l’Ateneu\, Carrer de l'Ateneu\, 23\, Sant Feliu de Llobregat\, Barcelona\, 08980\, Spain
END:VEVENT
BEGIN:VEVENT
DTSTART;VALUE=DATE:20140619
DTEND;VALUE=DATE:20140714
DTSTAMP:20260419T214025
CREATED:20140602T172003Z
LAST-MODIFIED:20140602T172003Z
UID:1112-1403136000-1405295999@ateneu.clickame.net
SUMMARY:Els secrets de l'f/11... 10+1 formes  diferents de positivar la vida
DESCRIPTION:Exposició de fotografies del taller de l’Ateneu\, a les parets del Bar.\nInauguració el dijous 19 de junys\, a les 20h.
URL:https://ateneu.clickame.net/agenda/els-secrets-de-lf11-101-formes-diferents-de-positivar-la-vida/
LOCATION:Bar de l’Ateneu\, Carrer de l'Ateneu\, 23\, Sant Feliu de Llobregat\, Barcelona\, 08980\, Spain
END:VEVENT
BEGIN:VEVENT
DTSTART;VALUE=DATE:20140619
DTEND;VALUE=DATE:20140714
DTSTAMP:20260419T214025
CREATED:20140602T172003Z
LAST-MODIFIED:20140602T172003Z
UID:8166-1403136000-1405295999@ateneu.clickame.net
SUMMARY:Els secrets de l'f/11... 10+1 formes  diferents de positivar la vida
DESCRIPTION:Exposició de fotografies del taller de l’Ateneu\, a les parets del Bar.\nInauguració el dijous 19 de junys\, a les 20h.
URL:https://ateneu.clickame.net/agenda/els-secrets-de-lf11-101-formes-diferents-de-positivar-la-vida-2/
LOCATION:Bar de l’Ateneu\, Carrer de l'Ateneu\, 23\, Sant Feliu de Llobregat\, Barcelona\, 08980\, Spain
END:VEVENT
END:VCALENDAR