BEGIN:VCALENDAR
VERSION:2.0
PRODID:-//Ateneu Santfeliuenc - ECPv6.15.13//NONSGML v1.0//EN
CALSCALE:GREGORIAN
METHOD:PUBLISH
X-WR-CALNAME:Ateneu Santfeliuenc
X-ORIGINAL-URL:https://ateneu.clickame.net
X-WR-CALDESC:Esdeveniments per Ateneu Santfeliuenc
REFRESH-INTERVAL;VALUE=DURATION:PT1H
X-Robots-Tag:noindex
X-PUBLISHED-TTL:PT1H
BEGIN:VTIMEZONE
TZID:Europe/Paris
BEGIN:DAYLIGHT
TZOFFSETFROM:+0100
TZOFFSETTO:+0200
TZNAME:CEST
DTSTART:20120325T010000
END:DAYLIGHT
BEGIN:STANDARD
TZOFFSETFROM:+0200
TZOFFSETTO:+0100
TZNAME:CET
DTSTART:20121028T010000
END:STANDARD
BEGIN:DAYLIGHT
TZOFFSETFROM:+0100
TZOFFSETTO:+0200
TZNAME:CEST
DTSTART:20130331T010000
END:DAYLIGHT
BEGIN:STANDARD
TZOFFSETFROM:+0200
TZOFFSETTO:+0100
TZNAME:CET
DTSTART:20131027T010000
END:STANDARD
BEGIN:DAYLIGHT
TZOFFSETFROM:+0100
TZOFFSETTO:+0200
TZNAME:CEST
DTSTART:20140330T010000
END:DAYLIGHT
BEGIN:STANDARD
TZOFFSETFROM:+0200
TZOFFSETTO:+0100
TZNAME:CET
DTSTART:20141026T010000
END:STANDARD
END:VTIMEZONE
BEGIN:VEVENT
DTSTART;TZID=Europe/Paris:20131105T080000
DTEND;TZID=Europe/Paris:20131130T230000
DTSTAMP:20260420T231308
CREATED:20131103T102203Z
LAST-MODIFIED:20131103T102501Z
UID:552-1383638400-1385852400@ateneu.clickame.net
SUMMARY:Exposició de Pintures d’Anton Mateu
DESCRIPTION:
URL:https://ateneu.clickame.net/agenda/exposicio-de-pintures-danton-mateu/
LOCATION:Bar de l’Ateneu\, Carrer de l'Ateneu\, 23\, Sant Feliu de Llobregat\, Barcelona\, 08980\, Spain
END:VEVENT
BEGIN:VEVENT
DTSTART;TZID=Europe/Paris:20131105T080000
DTEND;TZID=Europe/Paris:20131130T230000
DTSTAMP:20260420T231308
CREATED:20131103T102203Z
LAST-MODIFIED:20131103T102203Z
UID:8085-1383638400-1385852400@ateneu.clickame.net
SUMMARY:Exposició de Pintures d’Anton Mateu
DESCRIPTION:
URL:https://ateneu.clickame.net/agenda/exposicio-de-pintures-danton-mateu-2/
LOCATION:Bar de l’Ateneu\, Carrer de l'Ateneu\, 23\, Sant Feliu de Llobregat\, Barcelona\, 08980\, Spain
END:VEVENT
BEGIN:VEVENT
DTSTART;TZID=Europe/Paris:20131105T080000
DTEND;TZID=Europe/Paris:20131130T230000
DTSTAMP:20260420T231308
CREATED:20131103T102203Z
LAST-MODIFIED:20131103T102203Z
UID:9338-1383638400-1385852400@ateneu.clickame.net
SUMMARY:Exposició de Pintures d’Anton Mateu
DESCRIPTION:
URL:https://ateneu.clickame.net/agenda/exposicio-de-pintures-danton-mateu-3/
LOCATION:Bar de l’Ateneu\, Carrer de l'Ateneu\, 23\, Sant Feliu de Llobregat\, Barcelona\, 08980\, Spain
END:VEVENT
BEGIN:VEVENT
DTSTART;TZID=Europe/Paris:20131129T190000
DTEND;TZID=Europe/Paris:20131129T190000
DTSTAMP:20260420T231308
CREATED:20131103T105503Z
LAST-MODIFIED:20131103T105610Z
UID:563-1385751600-1385751600@ateneu.clickame.net
SUMMARY:Acte de clausura de l’Any Joana Raspall
DESCRIPTION:Acte de clausura\, amb la participació del Cor de l’Ateneu
URL:https://ateneu.clickame.net/agenda/acte-de-clausura-de-lany-joana-raspall-amb-la-participacio-del-cor-de-lateneu/
LOCATION:Sala Iberia
END:VEVENT
BEGIN:VEVENT
DTSTART;TZID=Europe/Paris:20131129T190000
DTEND;TZID=Europe/Paris:20131129T190000
DTSTAMP:20260420T231308
CREATED:20131103T105503Z
LAST-MODIFIED:20131103T105503Z
UID:8092-1385751600-1385751600@ateneu.clickame.net
SUMMARY:Acte de clausura de l’Any Joana Raspall
DESCRIPTION:Acte de clausura\, amb la participació del Cor de l’Ateneu
URL:https://ateneu.clickame.net/agenda/acte-de-clausura-de-lany-joana-raspall-amb-la-participacio-del-cor-de-lateneu-2/
LOCATION:Sala Iberia
END:VEVENT
BEGIN:VEVENT
DTSTART;TZID=Europe/Paris:20131129T190000
DTEND;TZID=Europe/Paris:20131129T190000
DTSTAMP:20260420T231308
CREATED:20131103T105503Z
LAST-MODIFIED:20131103T105503Z
UID:9345-1385751600-1385751600@ateneu.clickame.net
SUMMARY:Acte de clausura de l’Any Joana Raspall
DESCRIPTION:Acte de clausura\, amb la participació del Cor de l’Ateneu
URL:https://ateneu.clickame.net/agenda/acte-de-clausura-de-lany-joana-raspall-amb-la-participacio-del-cor-de-lateneu-3/
LOCATION:Sala Iberia
END:VEVENT
BEGIN:VEVENT
DTSTART;TZID=Europe/Paris:20131129T210000
DTEND;TZID=Europe/Paris:20131129T210000
DTSTAMP:20260420T231308
CREATED:20130925T141140Z
LAST-MODIFIED:20130925T141140Z
UID:451-1385758800-1385758800@ateneu.clickame.net
SUMMARY:Dani Nel·lo “Homenatge a King Curtis”
DESCRIPTION:Torna la força del blues de Dani Nel·lo amb un nou quintet espectacular per fer un homenatge a la figura de King Curtis\, el saxofonista que va establir una nova manera de bufar i que ha influït a generacions senceres. Un concert ple de intensitat i de música negra; una nit màgica!
URL:https://ateneu.clickame.net/agenda/dani-nel%c2%b7lo-homenatge-a-king-curtis/
LOCATION:Atrium Viladecans\, Av. Josep Tarradellas\, 17\, Viladecans\, Barcelona\, 08840\, Espanya
END:VEVENT
BEGIN:VEVENT
DTSTART;TZID=Europe/Paris:20131129T210000
DTEND;TZID=Europe/Paris:20131129T210000
DTSTAMP:20260420T231308
CREATED:20130925T141140Z
LAST-MODIFIED:20130925T141140Z
UID:8073-1385758800-1385758800@ateneu.clickame.net
SUMMARY:Dani Nel·lo “Homenatge a King Curtis”
DESCRIPTION:Torna la força del blues de Dani Nel·lo amb un nou quintet espectacular per fer un homenatge a la figura de King Curtis\, el saxofonista que va establir una nova manera de bufar i que ha influït a generacions senceres. Un concert ple de intensitat i de música negra; una nit màgica!
URL:https://ateneu.clickame.net/agenda/dani-nel%c2%b7lo-homenatge-a-king-curtis-2/
LOCATION:Atrium Viladecans\, Av. Josep Tarradellas\, 17\, Viladecans\, Barcelona\, 08840\, Espanya
END:VEVENT
BEGIN:VEVENT
DTSTART;TZID=Europe/Paris:20131129T210000
DTEND;TZID=Europe/Paris:20131129T210000
DTSTAMP:20260420T231308
CREATED:20130925T141140Z
LAST-MODIFIED:20130925T141140Z
UID:9326-1385758800-1385758800@ateneu.clickame.net
SUMMARY:Dani Nel·lo “Homenatge a King Curtis”
DESCRIPTION:Torna la força del blues de Dani Nel·lo amb un nou quintet espectacular per fer un homenatge a la figura de King Curtis\, el saxofonista que va establir una nova manera de bufar i que ha influït a generacions senceres. Un concert ple de intensitat i de música negra; una nit màgica!
URL:https://ateneu.clickame.net/agenda/dani-nel%c2%b7lo-homenatge-a-king-curtis-3/
LOCATION:Atrium Viladecans\, Av. Josep Tarradellas\, 17\, Viladecans\, Barcelona\, 08840\, Espanya
END:VEVENT
BEGIN:VEVENT
DTSTART;TZID=Europe/Paris:20131129T210000
DTEND;TZID=Europe/Paris:20131129T210000
DTSTAMP:20260420T231308
CREATED:20131103T105957Z
LAST-MODIFIED:20131103T105957Z
UID:9346-1385758800-1385758800@ateneu.clickame.net
SUMMARY:Che Sudaka y Microguagua
DESCRIPTION:Presentació del disc de HIJOS (Hijos e Hijas por la Identidad y la Justicia contra el Olvido y el Silencio)
URL:https://ateneu.clickame.net/agenda/che-sudaka-y-microguagua-3/
LOCATION:Sala d’actes de l’Ateneu\, Vidal i Ribas\, 25\, Sant Feliu de Llobregat\, Espanya
END:VEVENT
BEGIN:VEVENT
DTSTART;TZID=Europe/Paris:20131129T210000
DTEND;TZID=Europe/Paris:20131129T210000
DTSTAMP:20260420T231308
CREATED:20131103T105957Z
LAST-MODIFIED:20131103T110032Z
UID:565-1385758800-1385758800@ateneu.clickame.net
SUMMARY:Che Sudaka y Microguagua
DESCRIPTION:Presentació del disc de HIJOS (Hijos e Hijas por la Identidad y la Justicia contra el Olvido y el Silencio)
URL:https://ateneu.clickame.net/agenda/che-sudaka-y-microguagua/
LOCATION:Sala d’actes de l’Ateneu\, Vidal i Ribas\, 25\, Sant Feliu de Llobregat\, Espanya
END:VEVENT
BEGIN:VEVENT
DTSTART;TZID=Europe/Paris:20131129T210000
DTEND;TZID=Europe/Paris:20131129T210000
DTSTAMP:20260420T231308
CREATED:20131103T105957Z
LAST-MODIFIED:20131103T105957Z
UID:8093-1385758800-1385758800@ateneu.clickame.net
SUMMARY:Che Sudaka y Microguagua
DESCRIPTION:Presentació del disc de HIJOS (Hijos e Hijas por la Identidad y la Justicia contra el Olvido y el Silencio)
URL:https://ateneu.clickame.net/agenda/che-sudaka-y-microguagua-2/
LOCATION:Sala d’actes de l’Ateneu\, Vidal i Ribas\, 25\, Sant Feliu de Llobregat\, Espanya
END:VEVENT
BEGIN:VEVENT
DTSTART;TZID=Europe/Paris:20131201T100000
DTEND;TZID=Europe/Paris:20131201T100000
DTSTAMP:20260420T231308
CREATED:20131103T111646Z
LAST-MODIFIED:20131103T121916Z
UID:568-1385892000-1385892000@ateneu.clickame.net
SUMMARY:Taller de Gospel & Spirituals a l’Ateneu Santfeliuenc\, amb Ramon Escalé
DESCRIPTION:Taller de 10 a 14 h\, i de 16 a 18 h – 35 € (inclou entrada per al concert Esclat Gospel Singers). A més de la formació específica del taller\, els participants cantaran un tema amb l’Esclat Gospel Singers en el concert del 13 de desembre de 2013 a l’Auditori del Palau Falguera\, inclòs en el cicle ContraBaix i en el Cicle Coral de Sant Feliu de Llobregat.
URL:https://ateneu.clickame.net/agenda/taller-de-gospel-spirituals-a-lateneu-santfeliuenc-amb-ramon-escale/
LOCATION:Sala d’actes de l’Ateneu\, Vidal i Ribas\, 25\, Sant Feliu de Llobregat\, Barcelona\, Espanya
END:VEVENT
BEGIN:VEVENT
DTSTART;TZID=Europe/Paris:20131201T100000
DTEND;TZID=Europe/Paris:20131201T100000
DTSTAMP:20260420T231308
CREATED:20131103T111646Z
LAST-MODIFIED:20131103T111646Z
UID:8094-1385892000-1385892000@ateneu.clickame.net
SUMMARY:Taller de Gospel & Spirituals a l’Ateneu Santfeliuenc\, amb Ramon Escalé
DESCRIPTION:Taller de 10 a 14 h\, i de 16 a 18 h – 35 € (inclou entrada per al concert Esclat Gospel Singers). A més de la formació específica del taller\, els participants cantaran un tema amb l’Esclat Gospel Singers en el concert del 13 de desembre de 2013 a l’Auditori del Palau Falguera\, inclòs en el cicle ContraBaix i en el Cicle Coral de Sant Feliu de Llobregat.
URL:https://ateneu.clickame.net/agenda/taller-de-gospel-spirituals-a-lateneu-santfeliuenc-amb-ramon-escale-2/
LOCATION:Sala d’actes de l’Ateneu\, Vidal i Ribas\, 25\, Sant Feliu de Llobregat\, Barcelona\, Espanya
END:VEVENT
BEGIN:VEVENT
DTSTART;TZID=Europe/Paris:20131201T100000
DTEND;TZID=Europe/Paris:20131201T100000
DTSTAMP:20260420T231308
CREATED:20131103T111646Z
LAST-MODIFIED:20131103T111646Z
UID:9347-1385892000-1385892000@ateneu.clickame.net
SUMMARY:Taller de Gospel & Spirituals a l’Ateneu Santfeliuenc\, amb Ramon Escalé
DESCRIPTION:Taller de 10 a 14 h\, i de 16 a 18 h – 35 € (inclou entrada per al concert Esclat Gospel Singers). A més de la formació específica del taller\, els participants cantaran un tema amb l’Esclat Gospel Singers en el concert del 13 de desembre de 2013 a l’Auditori del Palau Falguera\, inclòs en el cicle ContraBaix i en el Cicle Coral de Sant Feliu de Llobregat.
URL:https://ateneu.clickame.net/agenda/taller-de-gospel-spirituals-a-lateneu-santfeliuenc-amb-ramon-escale-3/
LOCATION:Sala d’actes de l’Ateneu\, Vidal i Ribas\, 25\, Sant Feliu de Llobregat\, Barcelona\, Espanya
END:VEVENT
BEGIN:VEVENT
DTSTART;TZID=Europe/Paris:20131201T190000
DTEND;TZID=Europe/Paris:20131201T190000
DTSTAMP:20260420T231308
CREATED:20130925T141401Z
LAST-MODIFIED:20130925T141401Z
UID:453-1385924400-1385924400@ateneu.clickame.net
SUMMARY:Alex Zayas “Guitarshock”
DESCRIPTION:Alex Zayas\, abans conegut com a Alex TNT\, és un dels nostres músics més internacionals. Des del 2004 fa gires per Canadà i els Estats Units actuant en sales i festivals de blues. El millor blues\, funk i rock en un directe potent\, que té la comunicació amb el públic garantida.
URL:https://ateneu.clickame.net/agenda/alex-zayas-guitarshock/
LOCATION:Traska Truska\, Pg. del Terraple\, 82\, Molins de Rei\, Barcelona\, 08750\, Espanya
END:VEVENT
BEGIN:VEVENT
DTSTART;TZID=Europe/Paris:20131201T190000
DTEND;TZID=Europe/Paris:20131201T190000
DTSTAMP:20260420T231308
CREATED:20130925T141401Z
LAST-MODIFIED:20130925T141401Z
UID:8074-1385924400-1385924400@ateneu.clickame.net
SUMMARY:Alex Zayas “Guitarshock”
DESCRIPTION:Alex Zayas\, abans conegut com a Alex TNT\, és un dels nostres músics més internacionals. Des del 2004 fa gires per Canadà i els Estats Units actuant en sales i festivals de blues. El millor blues\, funk i rock en un directe potent\, que té la comunicació amb el públic garantida.
URL:https://ateneu.clickame.net/agenda/alex-zayas-guitarshock-2/
LOCATION:Traska Truska\, Pg. del Terraple\, 82\, Molins de Rei\, Barcelona\, 08750\, Espanya
END:VEVENT
BEGIN:VEVENT
DTSTART;TZID=Europe/Paris:20131201T190000
DTEND;TZID=Europe/Paris:20131201T190000
DTSTAMP:20260420T231308
CREATED:20130925T141401Z
LAST-MODIFIED:20130925T141401Z
UID:9327-1385924400-1385924400@ateneu.clickame.net
SUMMARY:Alex Zayas “Guitarshock”
DESCRIPTION:Alex Zayas\, abans conegut com a Alex TNT\, és un dels nostres músics més internacionals. Des del 2004 fa gires per Canadà i els Estats Units actuant en sales i festivals de blues. El millor blues\, funk i rock en un directe potent\, que té la comunicació amb el públic garantida.
URL:https://ateneu.clickame.net/agenda/alex-zayas-guitarshock-3/
LOCATION:Traska Truska\, Pg. del Terraple\, 82\, Molins de Rei\, Barcelona\, 08750\, Espanya
END:VEVENT
BEGIN:VEVENT
DTSTART;TZID=Europe/Paris:20131213T210000
DTEND;TZID=Europe/Paris:20131213T210000
DTSTAMP:20260420T231308
CREATED:20130925T142658Z
LAST-MODIFIED:20131103T112321Z
UID:457-1386968400-1386968400@ateneu.clickame.net
SUMMARY:Esclat Gospel Singers “The New Gospel Machine”
DESCRIPTION:Nou espectacle que combina la tradició amb la visió més contemporània del gospel. Un concert vibrant amb les potents veus d’Esclat Gospel Singers i una posada en escena espectacular. Música de l’ànima per a temps difícils.
URL:https://ateneu.clickame.net/agenda/esclat-gospel-s-the-new-gospel-machine/
LOCATION:Auditori Palau Falguera\, Carrer Falguera\, 6\, Sant Feliu de Llobregat\, Barcelona\, 08980\, Espanya
END:VEVENT
BEGIN:VEVENT
DTSTART;TZID=Europe/Paris:20131213T210000
DTEND;TZID=Europe/Paris:20131213T210000
DTSTAMP:20260420T231308
CREATED:20130925T142658Z
LAST-MODIFIED:20130925T142658Z
UID:8076-1386968400-1386968400@ateneu.clickame.net
SUMMARY:Esclat Gospel Singers “The New Gospel Machine”
DESCRIPTION:Nou espectacle que combina la tradició amb la visió més contemporània del gospel. Un concert vibrant amb les potents veus d’Esclat Gospel Singers i una posada en escena espectacular. Música de l’ànima per a temps difícils.
URL:https://ateneu.clickame.net/agenda/esclat-gospel-s-the-new-gospel-machine-2/
LOCATION:Auditori Palau Falguera\, Carrer Falguera\, 6\, Sant Feliu de Llobregat\, Barcelona\, 08980\, Espanya
END:VEVENT
BEGIN:VEVENT
DTSTART;TZID=Europe/Paris:20131213T210000
DTEND;TZID=Europe/Paris:20131213T210000
DTSTAMP:20260420T231308
CREATED:20130925T142658Z
LAST-MODIFIED:20130925T142658Z
UID:9329-1386968400-1386968400@ateneu.clickame.net
SUMMARY:Esclat Gospel Singers “The New Gospel Machine”
DESCRIPTION:Nou espectacle que combina la tradició amb la visió més contemporània del gospel. Un concert vibrant amb les potents veus d’Esclat Gospel Singers i una posada en escena espectacular. Música de l’ànima per a temps difícils.
URL:https://ateneu.clickame.net/agenda/esclat-gospel-s-the-new-gospel-machine-3/
LOCATION:Auditori Palau Falguera\, Carrer Falguera\, 6\, Sant Feliu de Llobregat\, Barcelona\, 08980\, Espanya
END:VEVENT
BEGIN:VEVENT
DTSTART;TZID=Europe/Paris:20131214T110000
DTEND;TZID=Europe/Paris:20131215T110000
DTSTAMP:20260420T231308
CREATED:20131103T112218Z
LAST-MODIFIED:20131103T112218Z
UID:569-1387018800-1387105200@ateneu.clickame.net
SUMMARY:III Fira d’artesans locals Somiatruites
DESCRIPTION:
URL:https://ateneu.clickame.net/agenda/iii-fira-dartesans-locals-somiatruites/
LOCATION:Pati del Bar de l’Ateneu\, Vidal i Ribas\, 23\, Sant Feliu de Llobregat\, Espanya
END:VEVENT
BEGIN:VEVENT
DTSTART;TZID=Europe/Paris:20131214T110000
DTEND;TZID=Europe/Paris:20131215T110000
DTSTAMP:20260420T231308
CREATED:20131103T112218Z
LAST-MODIFIED:20131103T112218Z
UID:8095-1387018800-1387105200@ateneu.clickame.net
SUMMARY:III Fira d’artesans locals Somiatruites
DESCRIPTION:
URL:https://ateneu.clickame.net/agenda/iii-fira-dartesans-locals-somiatruites-2/
LOCATION:Pati del Bar de l’Ateneu\, Vidal i Ribas\, 23\, Sant Feliu de Llobregat\, Espanya
END:VEVENT
BEGIN:VEVENT
DTSTART;TZID=Europe/Paris:20131214T110000
DTEND;TZID=Europe/Paris:20131215T110000
DTSTAMP:20260420T231308
CREATED:20131103T112218Z
LAST-MODIFIED:20131103T112218Z
UID:9348-1387018800-1387105200@ateneu.clickame.net
SUMMARY:III Fira d’artesans locals Somiatruites
DESCRIPTION:
URL:https://ateneu.clickame.net/agenda/iii-fira-dartesans-locals-somiatruites-3/
LOCATION:Pati del Bar de l’Ateneu\, Vidal i Ribas\, 23\, Sant Feliu de Llobregat\, Espanya
END:VEVENT
BEGIN:VEVENT
DTSTART;TZID=Europe/Paris:20131214T210000
DTEND;TZID=Europe/Paris:20131214T210000
DTSTAMP:20260420T231308
CREATED:20130925T142049Z
LAST-MODIFIED:20130925T142049Z
UID:8075-1387054800-1387054800@ateneu.clickame.net
SUMMARY:Jazznadal. Manel Camp\, Llibert Fortuny & Mireia Farrés.
DESCRIPTION:Manel\, Llibert i Mireia presenten un nou treball a partir de nadales molt conegudes per tots\, que ells porten al terreny jazzístic. Junts fan que aquestes cançons sonin diferents i ens portin moments tan plens d’energia com d’escalfor de llar. Santa nit de concert!
URL:https://ateneu.clickame.net/agenda/jazznadal-manel-camp-llibert-fortuny-mireia-farres-2/
LOCATION:Auditori Barradas\, Rambla Just Oliveres\, 56\, Hospitalet de Llobregat\, Barcelona\, 08901\, Espanya
END:VEVENT
BEGIN:VEVENT
DTSTART;TZID=Europe/Paris:20131214T210000
DTEND;TZID=Europe/Paris:20131214T210000
DTSTAMP:20260420T231308
CREATED:20130925T142049Z
LAST-MODIFIED:20130925T142049Z
UID:9328-1387054800-1387054800@ateneu.clickame.net
SUMMARY:Jazznadal. Manel Camp\, Llibert Fortuny & Mireia Farrés.
DESCRIPTION:Manel\, Llibert i Mireia presenten un nou treball a partir de nadales molt conegudes per tots\, que ells porten al terreny jazzístic. Junts fan que aquestes cançons sonin diferents i ens portin moments tan plens d’energia com d’escalfor de llar. Santa nit de concert!
URL:https://ateneu.clickame.net/agenda/jazznadal-manel-camp-llibert-fortuny-mireia-farres-3/
LOCATION:Auditori Barradas\, Rambla Just Oliveres\, 56\, Hospitalet de Llobregat\, Barcelona\, 08901\, Espanya
END:VEVENT
BEGIN:VEVENT
DTSTART;TZID=Europe/Paris:20131214T210000
DTEND;TZID=Europe/Paris:20131214T210000
DTSTAMP:20260420T231308
CREATED:20130925T142049Z
LAST-MODIFIED:20131206T164800Z
UID:455-1387054800-1387054800@ateneu.clickame.net
SUMMARY:Jazznadal. Manel Camp\, Llibert Fortuny & Mireia Farrés.
DESCRIPTION:Manel\, Llibert i Mireia presenten un nou treball a partir de nadales molt conegudes per tots\, que ells porten al terreny jazzístic. Junts fan que aquestes cançons sonin diferents i ens portin moments tan plens d’energia com d’escalfor de llar. Santa nit de concert!
URL:https://ateneu.clickame.net/agenda/jazznadal-manel-camp-llibert-fortuny-mireia-farres/
LOCATION:Auditori Barradas\, Rambla Just Oliveres\, 56\, Hospitalet de Llobregat\, Barcelona\, 08901\, Espanya
END:VEVENT
BEGIN:VEVENT
DTSTART;TZID=Europe/Paris:20131215T190000
DTEND;TZID=Europe/Paris:20131215T190000
DTSTAMP:20260420T231308
CREATED:20130925T144723Z
LAST-MODIFIED:20131103T121702Z
UID:462-1387134000-1387134000@ateneu.clickame.net
SUMMARY:Chano Domínguez\, piano solo
DESCRIPTION:Concert 10è aniversari ContraBaix a Molins de Rei. Aquest any fa 10 anys que programem a Molins de Rei. Reviurem a La Traska el concert que segons les vostres votacions\, millor ha representat aquests 10 anys compartint música.
URL:https://ateneu.clickame.net/agenda/462/
LOCATION:Traska Truska\, Pg. del Terraple\, 82\, Molins de Rei\, Barcelona\, 08750\, Espanya
END:VEVENT
BEGIN:VEVENT
DTSTART;TZID=Europe/Paris:20131215T190000
DTEND;TZID=Europe/Paris:20131215T190000
DTSTAMP:20260420T231308
CREATED:20130925T144723Z
LAST-MODIFIED:20130925T144723Z
UID:8077-1387134000-1387134000@ateneu.clickame.net
SUMMARY:Chano Domínguez\, piano solo
DESCRIPTION:Concert 10è aniversari ContraBaix a Molins de Rei. Aquest any fa 10 anys que programem a Molins de Rei. Reviurem a La Traska el concert que segons les vostres votacions\, millor ha representat aquests 10 anys compartint música.
URL:https://ateneu.clickame.net/agenda/462-2/
LOCATION:Traska Truska\, Pg. del Terraple\, 82\, Molins de Rei\, Barcelona\, 08750\, Espanya
END:VEVENT
BEGIN:VEVENT
DTSTART;TZID=Europe/Paris:20131215T190000
DTEND;TZID=Europe/Paris:20131215T190000
DTSTAMP:20260420T231308
CREATED:20130925T144723Z
LAST-MODIFIED:20130925T144723Z
UID:9330-1387134000-1387134000@ateneu.clickame.net
SUMMARY:Chano Domínguez\, piano solo
DESCRIPTION:Concert 10è aniversari ContraBaix a Molins de Rei. Aquest any fa 10 anys que programem a Molins de Rei. Reviurem a La Traska el concert que segons les vostres votacions\, millor ha representat aquests 10 anys compartint música.
URL:https://ateneu.clickame.net/agenda/462-3/
LOCATION:Traska Truska\, Pg. del Terraple\, 82\, Molins de Rei\, Barcelona\, 08750\, Espanya
END:VEVENT
END:VCALENDAR