BEGIN:VCALENDAR
VERSION:2.0
PRODID:-//Ateneu Santfeliuenc - ECPv6.15.13//NONSGML v1.0//EN
CALSCALE:GREGORIAN
METHOD:PUBLISH
X-WR-CALNAME:Ateneu Santfeliuenc
X-ORIGINAL-URL:https://ateneu.clickame.net
X-WR-CALDESC:Esdeveniments per Ateneu Santfeliuenc
REFRESH-INTERVAL;VALUE=DURATION:PT1H
X-Robots-Tag:noindex
X-PUBLISHED-TTL:PT1H
BEGIN:VTIMEZONE
TZID:Europe/Paris
BEGIN:DAYLIGHT
TZOFFSETFROM:+0100
TZOFFSETTO:+0200
TZNAME:CEST
DTSTART:20120325T010000
END:DAYLIGHT
BEGIN:STANDARD
TZOFFSETFROM:+0200
TZOFFSETTO:+0100
TZNAME:CET
DTSTART:20121028T010000
END:STANDARD
BEGIN:DAYLIGHT
TZOFFSETFROM:+0100
TZOFFSETTO:+0200
TZNAME:CEST
DTSTART:20130331T010000
END:DAYLIGHT
BEGIN:STANDARD
TZOFFSETFROM:+0200
TZOFFSETTO:+0100
TZNAME:CET
DTSTART:20131027T010000
END:STANDARD
BEGIN:DAYLIGHT
TZOFFSETFROM:+0100
TZOFFSETTO:+0200
TZNAME:CEST
DTSTART:20140330T010000
END:DAYLIGHT
BEGIN:STANDARD
TZOFFSETFROM:+0200
TZOFFSETTO:+0100
TZNAME:CET
DTSTART:20141026T010000
END:STANDARD
END:VTIMEZONE
BEGIN:VEVENT
DTSTART;TZID=Europe/Paris:20130909T190000
DTEND;TZID=Europe/Paris:20130915T210000
DTSTAMP:20260421T034259
CREATED:20130906T164955Z
LAST-MODIFIED:20130906T164955Z
UID:8055-1378753200-1379278800@ateneu.clickame.net
SUMMARY:La Catalunya Nord
DESCRIPTION:EXPOSICIÓ\nFotografies d’Albert Murcia\nDe dilluns 9 a diumenge 15 de setembre de 2013\nDe dilluns a divendres\, de 19 a 21 h. Dissabtes i diumenges\, de 12 a 14 i de 19 a 21 h.
URL:https://ateneu.clickame.net/agenda/la-catalunya-nord-2/
LOCATION:Aula de Cultura – Ateneu Santfeliuenc\, Vidal i Ribas\, 25\, Sant Feliu de Llobregat\, Barcelona\, 08980\, Espanya
END:VEVENT
BEGIN:VEVENT
DTSTART;TZID=Europe/Paris:20130909T190000
DTEND;TZID=Europe/Paris:20130915T210000
DTSTAMP:20260421T034259
CREATED:20130906T164955Z
LAST-MODIFIED:20130906T164955Z
UID:9308-1378753200-1379278800@ateneu.clickame.net
SUMMARY:La Catalunya Nord
DESCRIPTION:EXPOSICIÓ\nFotografies d’Albert Murcia\nDe dilluns 9 a diumenge 15 de setembre de 2013\nDe dilluns a divendres\, de 19 a 21 h. Dissabtes i diumenges\, de 12 a 14 i de 19 a 21 h.
URL:https://ateneu.clickame.net/agenda/la-catalunya-nord-3/
LOCATION:Aula de Cultura – Ateneu Santfeliuenc\, Vidal i Ribas\, 25\, Sant Feliu de Llobregat\, Barcelona\, 08980\, Espanya
END:VEVENT
BEGIN:VEVENT
DTSTART;TZID=Europe/Paris:20130909T190000
DTEND;TZID=Europe/Paris:20130915T210000
DTSTAMP:20260421T034259
CREATED:20130906T164955Z
LAST-MODIFIED:20130906T165249Z
UID:372-1378753200-1379278800@ateneu.clickame.net
SUMMARY:La Catalunya Nord
DESCRIPTION:EXPOSICIÓ\nFotografies d’Albert Murcia\nDe dilluns 9 a diumenge 15 de setembre de 2013\nDe dilluns a divendres\, de 19 a 21 h. Dissabtes i diumenges\, de 12 a 14 i de 19 a 21 h.
URL:https://ateneu.clickame.net/agenda/la-catalunya-nord/
LOCATION:Aula de Cultura – Ateneu Santfeliuenc\, Vidal i Ribas\, 25\, Sant Feliu de Llobregat\, Barcelona\, 08980\, Espanya
END:VEVENT
BEGIN:VEVENT
DTSTART;TZID=Europe/Paris:20130917T193000
DTEND;TZID=Europe/Paris:20130917T213000
DTSTAMP:20260421T034259
CREATED:20130906T164352Z
LAST-MODIFIED:20130907T065612Z
UID:370-1379446200-1379453400@ateneu.clickame.net
SUMMARY:El món literari de Joana Raspall
DESCRIPTION:CONFERÈNCIA D’INICI DE CURS DE L’USLA \nEl món literari de Joana Raspall – Un itinerari per la seva obra \nIntervenen:\nAgustí Vilar\, escriptor i membre del Jurat del Premi Martí Dot\nCarles Duarte\, poeta i President del CoNCA (Consell Nacional de la Cultura i les Arts) \nPresenta: Anabel López\, Biblioteca M. Roig \nOrganitza: Ateneu-USLA / Col.labora: Biblioteca Montserrat Roig
URL:https://ateneu.clickame.net/agenda/el-mon-literari-de-joana-raspall/
LOCATION:Aula de Cultura – Ateneu Santfeliuenc\, Vidal i Ribas\, 25\, Sant Feliu de Llobregat\, Barcelona\, 08980\, Espanya
END:VEVENT
BEGIN:VEVENT
DTSTART;TZID=Europe/Paris:20130917T193000
DTEND;TZID=Europe/Paris:20130917T213000
DTSTAMP:20260421T034259
CREATED:20130906T164352Z
LAST-MODIFIED:20130906T164352Z
UID:8054-1379446200-1379453400@ateneu.clickame.net
SUMMARY:El món literari de Joana Raspall
DESCRIPTION:CONFERÈNCIA D’INICI DE CURS DE L’USLA \nEl món literari de Joana Raspall – Un itinerari per la seva obra \nIntervenen:\nAgustí Vilar\, escriptor i membre del Jurat del Premi Martí Dot\nCarles Duarte\, poeta i President del CoNCA (Consell Nacional de la Cultura i les Arts) \nPresenta: Anabel López\, Biblioteca M. Roig \nOrganitza: Ateneu-USLA / Col.labora: Biblioteca Montserrat Roig
URL:https://ateneu.clickame.net/agenda/el-mon-literari-de-joana-raspall-2/
LOCATION:Aula de Cultura – Ateneu Santfeliuenc\, Vidal i Ribas\, 25\, Sant Feliu de Llobregat\, Barcelona\, 08980\, Espanya
END:VEVENT
BEGIN:VEVENT
DTSTART;TZID=Europe/Paris:20130917T193000
DTEND;TZID=Europe/Paris:20130917T213000
DTSTAMP:20260421T034259
CREATED:20130906T164352Z
LAST-MODIFIED:20130906T164352Z
UID:9307-1379446200-1379453400@ateneu.clickame.net
SUMMARY:El món literari de Joana Raspall
DESCRIPTION:CONFERÈNCIA D’INICI DE CURS DE L’USLA \nEl món literari de Joana Raspall – Un itinerari per la seva obra \nIntervenen:\nAgustí Vilar\, escriptor i membre del Jurat del Premi Martí Dot\nCarles Duarte\, poeta i President del CoNCA (Consell Nacional de la Cultura i les Arts) \nPresenta: Anabel López\, Biblioteca M. Roig \nOrganitza: Ateneu-USLA / Col.labora: Biblioteca Montserrat Roig
URL:https://ateneu.clickame.net/agenda/el-mon-literari-de-joana-raspall-3/
LOCATION:Aula de Cultura – Ateneu Santfeliuenc\, Vidal i Ribas\, 25\, Sant Feliu de Llobregat\, Barcelona\, 08980\, Espanya
END:VEVENT
BEGIN:VEVENT
DTSTART;TZID=Europe/Paris:20130927T210000
DTEND;TZID=Europe/Paris:20130927T223000
DTSTAMP:20260421T034259
CREATED:20130924T100903Z
LAST-MODIFIED:20130925T141539Z
UID:395-1380315600-1380321000@ateneu.clickame.net
SUMMARY:Matthew Simon Quartet
DESCRIPTION:Continental blues és un recorregut per la història del jazz des de la visió dels trompetistes. Sentirem\, entre d’altres\, aromes de Louis Armstrong\, Freddie Hubbard\, Chet Baker\, Clark Terry\, Clifford Brown i Miles Davis interpretats amb la personalitat del conegut trompetista californià Matthew Simon. \nMatthew  Simon: Trompeta i Flugelhorn; Federico  Mazzanti: Piano; Manuel  Krapovickas:  contrabaix; Oriol Gonzàlez:  Bateria
URL:https://ateneu.clickame.net/agenda/matthew-simon-quartet/
LOCATION:Sala ContraBaix – Ateneu Santfeliuenc\, Vidal i Ribas\, 25\, Sant Feliu de Llobregat\, Barcelona\, 08980\, Espanya
END:VEVENT
BEGIN:VEVENT
DTSTART;TZID=Europe/Paris:20130927T210000
DTEND;TZID=Europe/Paris:20130927T223000
DTSTAMP:20260421T034259
CREATED:20130924T100903Z
LAST-MODIFIED:20130924T100903Z
UID:8056-1380315600-1380321000@ateneu.clickame.net
SUMMARY:Matthew Simon Quartet
DESCRIPTION:Continental blues és un recorregut per la història del jazz des de la visió dels trompetistes. Sentirem\, entre d’altres\, aromes de Louis Armstrong\, Freddie Hubbard\, Chet Baker\, Clark Terry\, Clifford Brown i Miles Davis interpretats amb la personalitat del conegut trompetista californià Matthew Simon. \nMatthew  Simon: Trompeta i Flugelhorn; Federico  Mazzanti: Piano; Manuel  Krapovickas:  contrabaix; Oriol Gonzàlez:  Bateria
URL:https://ateneu.clickame.net/agenda/matthew-simon-quartet-2/
LOCATION:Sala ContraBaix – Ateneu Santfeliuenc\, Vidal i Ribas\, 25\, Sant Feliu de Llobregat\, Barcelona\, 08980\, Espanya
END:VEVENT
BEGIN:VEVENT
DTSTART;TZID=Europe/Paris:20130927T210000
DTEND;TZID=Europe/Paris:20130927T223000
DTSTAMP:20260421T034259
CREATED:20130924T100903Z
LAST-MODIFIED:20130924T100903Z
UID:9309-1380315600-1380321000@ateneu.clickame.net
SUMMARY:Matthew Simon Quartet
DESCRIPTION:Continental blues és un recorregut per la història del jazz des de la visió dels trompetistes. Sentirem\, entre d’altres\, aromes de Louis Armstrong\, Freddie Hubbard\, Chet Baker\, Clark Terry\, Clifford Brown i Miles Davis interpretats amb la personalitat del conegut trompetista californià Matthew Simon. \nMatthew  Simon: Trompeta i Flugelhorn; Federico  Mazzanti: Piano; Manuel  Krapovickas:  contrabaix; Oriol Gonzàlez:  Bateria
URL:https://ateneu.clickame.net/agenda/matthew-simon-quartet-3/
LOCATION:Sala ContraBaix – Ateneu Santfeliuenc\, Vidal i Ribas\, 25\, Sant Feliu de Llobregat\, Barcelona\, 08980\, Espanya
END:VEVENT
BEGIN:VEVENT
DTSTART;TZID=Europe/Paris:20130929T190000
DTEND;TZID=Europe/Paris:20130929T190000
DTSTAMP:20260421T034259
CREATED:20130925T133220Z
LAST-MODIFIED:20130925T134452Z
UID:427-1380481200-1380481200@ateneu.clickame.net
SUMMARY:Gumbo Jass Band
DESCRIPTION:La Gumbo Jass Band és una de les millors formacions del jazz més clàssic\, nascut a principis del segle xx a la ciutat de Nova Orleans. Protagonistes indiscutibles dels inicis de la marxing de Festa Major a Molins de Rei\, tornen a la vila per convertir el recorregut en una festa.
URL:https://ateneu.clickame.net/agenda/gumbo-jass-band/
LOCATION:Recorregut urbà\, Pl. Catalunya 1\, Molins de Rei\, Barcelona\, 08750\, Espanya
END:VEVENT
BEGIN:VEVENT
DTSTART;TZID=Europe/Paris:20130929T190000
DTEND;TZID=Europe/Paris:20130929T190000
DTSTAMP:20260421T034259
CREATED:20130925T133220Z
LAST-MODIFIED:20130925T133220Z
UID:8066-1380481200-1380481200@ateneu.clickame.net
SUMMARY:Gumbo Jass Band
DESCRIPTION:La Gumbo Jass Band és una de les millors formacions del jazz més clàssic\, nascut a principis del segle xx a la ciutat de Nova Orleans. Protagonistes indiscutibles dels inicis de la marxing de Festa Major a Molins de Rei\, tornen a la vila per convertir el recorregut en una festa.
URL:https://ateneu.clickame.net/agenda/gumbo-jass-band-2/
LOCATION:Recorregut urbà\, Pl. Catalunya 1\, Molins de Rei\, Barcelona\, 08750\, Espanya
END:VEVENT
BEGIN:VEVENT
DTSTART;TZID=Europe/Paris:20130929T190000
DTEND;TZID=Europe/Paris:20130929T190000
DTSTAMP:20260421T034259
CREATED:20130925T133220Z
LAST-MODIFIED:20130925T133220Z
UID:9319-1380481200-1380481200@ateneu.clickame.net
SUMMARY:Gumbo Jass Band
DESCRIPTION:La Gumbo Jass Band és una de les millors formacions del jazz més clàssic\, nascut a principis del segle xx a la ciutat de Nova Orleans. Protagonistes indiscutibles dels inicis de la marxing de Festa Major a Molins de Rei\, tornen a la vila per convertir el recorregut en una festa.
URL:https://ateneu.clickame.net/agenda/gumbo-jass-band-3/
LOCATION:Recorregut urbà\, Pl. Catalunya 1\, Molins de Rei\, Barcelona\, 08750\, Espanya
END:VEVENT
BEGIN:VEVENT
DTSTART;TZID=Europe/Paris:20131003T193000
DTEND;TZID=Europe/Paris:20131020T140000
DTSTAMP:20260421T034259
CREATED:20130925T100228Z
LAST-MODIFIED:20130925T132137Z
UID:406-1380828600-1382277600@ateneu.clickame.net
SUMMARY:“Berlin / Belchite”
DESCRIPTION:Exposició de Fotografies de Toni Moreno\nInauguració: dimarts 3 d’octubre\, a las 19\,30 h\nHorari de visita: 19 h – 21 h (dilluns – divendres); 12 h – 14 h (diumenge)\n\nActivitats complementaries de l’exposició \n\nDia 8 d’octubre\, dimarts\,  a les 19\,30 h a l’Ateneu\, conferència sobre: La recuperació dels espais memorials: el cas de Belchite. A càrrec del professor Joan M. Calvo Gascón\, de l’Associació Amical de Mauthausen.\n\n\nDia 18 d’octubre\, divendres\, a les 19 h a l’Ateneu Santfeliuenc\, presentació del llibre de poesia i CD Poemes i cançons (edicions Babilonia)\, del cantautor valencià Jordi Gil.\n20 h. Concierto de Jordi Gil en el Ateneu (precio: venta anticipada hasta el día 15 (7 euros ). Venta en ventanilla (10 euros)\n\n 
URL:https://ateneu.clickame.net/agenda/berlin-belchite/
LOCATION:Aula de Cultura – Ateneu Santfeliuenc\, Vidal i Ribas\, 25\, Sant Feliu de Llobregat\, Barcelona\, 08980\, Espanya
END:VEVENT
BEGIN:VEVENT
DTSTART;TZID=Europe/Paris:20131003T193000
DTEND;TZID=Europe/Paris:20131020T140000
DTSTAMP:20260421T034259
CREATED:20130925T100228Z
LAST-MODIFIED:20130925T100228Z
UID:8059-1380828600-1382277600@ateneu.clickame.net
SUMMARY:“Berlin / Belchite”
DESCRIPTION:Exposició de Fotografies de Toni Moreno\nInauguració: dimarts 3 d’octubre\, a las 19\,30 h\nHorari de visita: 19 h – 21 h (dilluns – divendres); 12 h – 14 h (diumenge)\n\nActivitats complementaries de l’exposició \n\nDia 8 d’octubre\, dimarts\,  a les 19\,30 h a l’Ateneu\, conferència sobre: La recuperació dels espais memorials: el cas de Belchite. A càrrec del professor Joan M. Calvo Gascón\, de l’Associació Amical de Mauthausen.\n\n\nDia 18 d’octubre\, divendres\, a les 19 h a l’Ateneu Santfeliuenc\, presentació del llibre de poesia i CD Poemes i cançons (edicions Babilonia)\, del cantautor valencià Jordi Gil.\n20 h. Concierto de Jordi Gil en el Ateneu (precio: venta anticipada hasta el día 15 (7 euros ). Venta en ventanilla (10 euros)\n\n 
URL:https://ateneu.clickame.net/agenda/berlin-belchite-2/
LOCATION:Aula de Cultura – Ateneu Santfeliuenc\, Vidal i Ribas\, 25\, Sant Feliu de Llobregat\, Barcelona\, 08980\, Espanya
END:VEVENT
BEGIN:VEVENT
DTSTART;TZID=Europe/Paris:20131003T193000
DTEND;TZID=Europe/Paris:20131020T140000
DTSTAMP:20260421T034259
CREATED:20130925T100228Z
LAST-MODIFIED:20130925T100228Z
UID:9312-1380828600-1382277600@ateneu.clickame.net
SUMMARY:“Berlin / Belchite”
DESCRIPTION:Exposició de Fotografies de Toni Moreno\nInauguració: dimarts 3 d’octubre\, a las 19\,30 h\nHorari de visita: 19 h – 21 h (dilluns – divendres); 12 h – 14 h (diumenge)\n\nActivitats complementaries de l’exposició \n\nDia 8 d’octubre\, dimarts\,  a les 19\,30 h a l’Ateneu\, conferència sobre: La recuperació dels espais memorials: el cas de Belchite. A càrrec del professor Joan M. Calvo Gascón\, de l’Associació Amical de Mauthausen.\n\n\nDia 18 d’octubre\, divendres\, a les 19 h a l’Ateneu Santfeliuenc\, presentació del llibre de poesia i CD Poemes i cançons (edicions Babilonia)\, del cantautor valencià Jordi Gil.\n20 h. Concierto de Jordi Gil en el Ateneu (precio: venta anticipada hasta el día 15 (7 euros ). Venta en ventanilla (10 euros)\n\n 
URL:https://ateneu.clickame.net/agenda/berlin-belchite-3/
LOCATION:Aula de Cultura – Ateneu Santfeliuenc\, Vidal i Ribas\, 25\, Sant Feliu de Llobregat\, Barcelona\, 08980\, Espanya
END:VEVENT
BEGIN:VEVENT
DTSTART;TZID=Europe/Paris:20131008T193000
DTEND;TZID=Europe/Paris:20131008T193000
DTSTAMP:20260421T034259
CREATED:20130925T101555Z
LAST-MODIFIED:20130925T101555Z
UID:9313-1381260600-1381260600@ateneu.clickame.net
SUMMARY:La recuperació dels espais memorials: el cas de Belchite
DESCRIPTION:Conferència a càrrec del professor Joan M. Calvo Gascón\, de l’Associació Amical de Mauthausen. \nActivitat complementària a l’exposició “Berlin / Belchite”
URL:https://ateneu.clickame.net/agenda/la-recuperacio-dels-espais-memorials-el-cas-de-belchite-3/
LOCATION:Aula de Cultura – Ateneu Santfeliuenc\, Vidal i Ribas\, 25\, Sant Feliu de Llobregat\, Barcelona\, 08980\, Espanya
END:VEVENT
BEGIN:VEVENT
DTSTART;TZID=Europe/Paris:20131008T193000
DTEND;TZID=Europe/Paris:20131008T193000
DTSTAMP:20260421T034259
CREATED:20130925T101555Z
LAST-MODIFIED:20130925T101555Z
UID:411-1381260600-1381260600@ateneu.clickame.net
SUMMARY:La recuperació dels espais memorials: el cas de Belchite
DESCRIPTION:Conferència a càrrec del professor Joan M. Calvo Gascón\, de l’Associació Amical de Mauthausen. \nActivitat complementària a l’exposició “Berlin / Belchite”
URL:https://ateneu.clickame.net/agenda/la-recuperacio-dels-espais-memorials-el-cas-de-belchite/
LOCATION:Aula de Cultura – Ateneu Santfeliuenc\, Vidal i Ribas\, 25\, Sant Feliu de Llobregat\, Barcelona\, 08980\, Espanya
END:VEVENT
BEGIN:VEVENT
DTSTART;TZID=Europe/Paris:20131008T193000
DTEND;TZID=Europe/Paris:20131008T193000
DTSTAMP:20260421T034259
CREATED:20130925T101555Z
LAST-MODIFIED:20130925T101555Z
UID:8060-1381260600-1381260600@ateneu.clickame.net
SUMMARY:La recuperació dels espais memorials: el cas de Belchite
DESCRIPTION:Conferència a càrrec del professor Joan M. Calvo Gascón\, de l’Associació Amical de Mauthausen. \nActivitat complementària a l’exposició “Berlin / Belchite”
URL:https://ateneu.clickame.net/agenda/la-recuperacio-dels-espais-memorials-el-cas-de-belchite-2/
LOCATION:Aula de Cultura – Ateneu Santfeliuenc\, Vidal i Ribas\, 25\, Sant Feliu de Llobregat\, Barcelona\, 08980\, Espanya
END:VEVENT
BEGIN:VEVENT
DTSTART;TZID=Europe/Paris:20131011T210000
DTEND;TZID=Europe/Paris:20131011T210000
DTSTAMP:20260421T034259
CREATED:20130925T134134Z
LAST-MODIFIED:20130925T134342Z
UID:431-1381525200-1381525200@ateneu.clickame.net
SUMMARY:Astrio "Don't Leave The Planet"
DESCRIPTION:És difícil trobar una banda amb un directe tan atractiu\, poderós i sorprenent com el d’aquest trident d’excel·lents músics. Lluny del groove dels primers temps\, Astrio tempta la música electrònica per difuminar els seus límits musicals i oferir-nos un concert inoblidable.
URL:https://ateneu.clickame.net/agenda/astrio-dont-leave-the-planet/
LOCATION:Atrium Viladecans\, Av. Josep Tarradellas\, 17\, Viladecans\, Barcelona\, 08840\, Espanya
END:VEVENT
BEGIN:VEVENT
DTSTART;TZID=Europe/Paris:20131011T210000
DTEND;TZID=Europe/Paris:20131011T210000
DTSTAMP:20260421T034259
CREATED:20130925T134134Z
LAST-MODIFIED:20130925T134134Z
UID:8068-1381525200-1381525200@ateneu.clickame.net
SUMMARY:Astrio "Don't Leave The Planet"
DESCRIPTION:És difícil trobar una banda amb un directe tan atractiu\, poderós i sorprenent com el d’aquest trident d’excel·lents músics. Lluny del groove dels primers temps\, Astrio tempta la música electrònica per difuminar els seus límits musicals i oferir-nos un concert inoblidable.
URL:https://ateneu.clickame.net/agenda/astrio-dont-leave-the-planet-2/
LOCATION:Atrium Viladecans\, Av. Josep Tarradellas\, 17\, Viladecans\, Barcelona\, 08840\, Espanya
END:VEVENT
BEGIN:VEVENT
DTSTART;TZID=Europe/Paris:20131011T210000
DTEND;TZID=Europe/Paris:20131011T210000
DTSTAMP:20260421T034259
CREATED:20130925T134134Z
LAST-MODIFIED:20130925T134134Z
UID:9321-1381525200-1381525200@ateneu.clickame.net
SUMMARY:Astrio "Don't Leave The Planet"
DESCRIPTION:És difícil trobar una banda amb un directe tan atractiu\, poderós i sorprenent com el d’aquest trident d’excel·lents músics. Lluny del groove dels primers temps\, Astrio tempta la música electrònica per difuminar els seus límits musicals i oferir-nos un concert inoblidable.
URL:https://ateneu.clickame.net/agenda/astrio-dont-leave-the-planet-3/
LOCATION:Atrium Viladecans\, Av. Josep Tarradellas\, 17\, Viladecans\, Barcelona\, 08840\, Espanya
END:VEVENT
BEGIN:VEVENT
DTSTART;TZID=Europe/Paris:20131013T190000
DTEND;TZID=Europe/Paris:20131013T203000
DTSTAMP:20260421T034259
CREATED:20130924T102013Z
LAST-MODIFIED:20130925T141640Z
UID:402-1381690800-1381696200@ateneu.clickame.net
SUMMARY:Chicuelo
DESCRIPTION:Chicuelo és un dels millors guitarristes de flamenc. Excepcionalment versàtil i creatiu\, ha acompanyat cantaores i bailaores de gran prestigi. Músic sòlid\, innovador i amb una gran comunicació amb el públic\, ha guanyat el Goya a la millor cançó per la pel·licula Blancanieves. \nJuan Gómez “Chicuelo”\, guitarra; José Antonio Martín “Salao”\, veu; Isaac Vigueras\, percussió.
URL:https://ateneu.clickame.net/agenda/chicuelo/
LOCATION:Sala ContraBaix – Ateneu Santfeliuenc\, Vidal i Ribas\, 25\, Sant Feliu de Llobregat\, Barcelona\, 08980\, Espanya
END:VEVENT
BEGIN:VEVENT
DTSTART;TZID=Europe/Paris:20131013T190000
DTEND;TZID=Europe/Paris:20131013T203000
DTSTAMP:20260421T034259
CREATED:20130924T102013Z
LAST-MODIFIED:20130924T102013Z
UID:8057-1381690800-1381696200@ateneu.clickame.net
SUMMARY:Chicuelo
DESCRIPTION:Chicuelo és un dels millors guitarristes de flamenc. Excepcionalment versàtil i creatiu\, ha acompanyat cantaores i bailaores de gran prestigi. Músic sòlid\, innovador i amb una gran comunicació amb el públic\, ha guanyat el Goya a la millor cançó per la pel·licula Blancanieves. \nJuan Gómez “Chicuelo”\, guitarra; José Antonio Martín “Salao”\, veu; Isaac Vigueras\, percussió.
URL:https://ateneu.clickame.net/agenda/chicuelo-3/
LOCATION:Sala ContraBaix – Ateneu Santfeliuenc\, Vidal i Ribas\, 25\, Sant Feliu de Llobregat\, Barcelona\, 08980\, Espanya
END:VEVENT
BEGIN:VEVENT
DTSTART;TZID=Europe/Paris:20131013T190000
DTEND;TZID=Europe/Paris:20131013T203000
DTSTAMP:20260421T034259
CREATED:20130924T102013Z
LAST-MODIFIED:20130924T102013Z
UID:9310-1381690800-1381696200@ateneu.clickame.net
SUMMARY:Chicuelo
DESCRIPTION:Chicuelo és un dels millors guitarristes de flamenc. Excepcionalment versàtil i creatiu\, ha acompanyat cantaores i bailaores de gran prestigi. Músic sòlid\, innovador i amb una gran comunicació amb el públic\, ha guanyat el Goya a la millor cançó per la pel·licula Blancanieves. \nJuan Gómez “Chicuelo”\, guitarra; José Antonio Martín “Salao”\, veu; Isaac Vigueras\, percussió.
URL:https://ateneu.clickame.net/agenda/chicuelo-4/
LOCATION:Sala ContraBaix – Ateneu Santfeliuenc\, Vidal i Ribas\, 25\, Sant Feliu de Llobregat\, Barcelona\, 08980\, Espanya
END:VEVENT
BEGIN:VEVENT
DTSTART;TZID=Europe/Paris:20131018T190000
DTEND;TZID=Europe/Paris:20131018T190000
DTSTAMP:20260421T034259
CREATED:20130925T102954Z
LAST-MODIFIED:20130925T102954Z
UID:414-1382122800-1382122800@ateneu.clickame.net
SUMMARY:Presentació del libre de poesia i CD "Poemes i cançons" de Jordi Gil.
DESCRIPTION:19 h Presentació del libre-CD Poemes i cançons (edicions Babilonia)\, del cantautor valencià Jordi Gil.  \n 
URL:https://ateneu.clickame.net/agenda/presentacio-del-libre-de-poesia-i-cd-poemes-i-cancons-de-jordi-gil/
LOCATION:Aula de Cultura – Ateneu Santfeliuenc\, Vidal i Ribas\, 25\, Sant Feliu de Llobregat\, Barcelona\, 08980\, Espanya
END:VEVENT
BEGIN:VEVENT
DTSTART;TZID=Europe/Paris:20131018T190000
DTEND;TZID=Europe/Paris:20131018T190000
DTSTAMP:20260421T034259
CREATED:20130925T102954Z
LAST-MODIFIED:20130925T102954Z
UID:8061-1382122800-1382122800@ateneu.clickame.net
SUMMARY:Presentació del libre de poesia i CD "Poemes i cançons" de Jordi Gil.
DESCRIPTION:19 h Presentació del libre-CD Poemes i cançons (edicions Babilonia)\, del cantautor valencià Jordi Gil.  \n 
URL:https://ateneu.clickame.net/agenda/presentacio-del-libre-de-poesia-i-cd-poemes-i-cancons-de-jordi-gil-2/
LOCATION:Aula de Cultura – Ateneu Santfeliuenc\, Vidal i Ribas\, 25\, Sant Feliu de Llobregat\, Barcelona\, 08980\, Espanya
END:VEVENT
BEGIN:VEVENT
DTSTART;TZID=Europe/Paris:20131018T190000
DTEND;TZID=Europe/Paris:20131018T190000
DTSTAMP:20260421T034259
CREATED:20130925T102954Z
LAST-MODIFIED:20130925T102954Z
UID:9314-1382122800-1382122800@ateneu.clickame.net
SUMMARY:Presentació del libre de poesia i CD "Poemes i cançons" de Jordi Gil.
DESCRIPTION:19 h Presentació del libre-CD Poemes i cançons (edicions Babilonia)\, del cantautor valencià Jordi Gil.  \n 
URL:https://ateneu.clickame.net/agenda/presentacio-del-libre-de-poesia-i-cd-poemes-i-cancons-de-jordi-gil-3/
LOCATION:Aula de Cultura – Ateneu Santfeliuenc\, Vidal i Ribas\, 25\, Sant Feliu de Llobregat\, Barcelona\, 08980\, Espanya
END:VEVENT
BEGIN:VEVENT
DTSTART;TZID=Europe/Paris:20131018T200000
DTEND;TZID=Europe/Paris:20131018T200000
DTSTAMP:20260421T034259
CREATED:20130925T103347Z
LAST-MODIFIED:20130925T103526Z
UID:417-1382126400-1382126400@ateneu.clickame.net
SUMMARY:Concert del cantautor valencià Jordi Gil
DESCRIPTION:Concert de Jordi Gil\nVenda anticipada fins el dia 15\, 7 € . Venda a taquilla 10 €
URL:https://ateneu.clickame.net/agenda/concert-del-cantautor-valencia-jordi-gil/
LOCATION:Sala ContraBaix – Ateneu Santfeliuenc\, Vidal i Ribas\, 25\, Sant Feliu de Llobregat\, Barcelona\, 08980\, Espanya
END:VEVENT
BEGIN:VEVENT
DTSTART;TZID=Europe/Paris:20131018T200000
DTEND;TZID=Europe/Paris:20131018T200000
DTSTAMP:20260421T034259
CREATED:20130925T103347Z
LAST-MODIFIED:20130925T103347Z
UID:8062-1382126400-1382126400@ateneu.clickame.net
SUMMARY:Concert del cantautor valencià Jordi Gil
DESCRIPTION:Concert de Jordi Gil\nVenda anticipada fins el dia 15\, 7 € . Venda a taquilla 10 €
URL:https://ateneu.clickame.net/agenda/concert-del-cantautor-valencia-jordi-gil-2/
LOCATION:Sala ContraBaix – Ateneu Santfeliuenc\, Vidal i Ribas\, 25\, Sant Feliu de Llobregat\, Barcelona\, 08980\, Espanya
END:VEVENT
BEGIN:VEVENT
DTSTART;TZID=Europe/Paris:20131018T200000
DTEND;TZID=Europe/Paris:20131018T200000
DTSTAMP:20260421T034259
CREATED:20130925T103347Z
LAST-MODIFIED:20130925T103347Z
UID:9315-1382126400-1382126400@ateneu.clickame.net
SUMMARY:Concert del cantautor valencià Jordi Gil
DESCRIPTION:Concert de Jordi Gil\nVenda anticipada fins el dia 15\, 7 € . Venda a taquilla 10 €
URL:https://ateneu.clickame.net/agenda/concert-del-cantautor-valencia-jordi-gil-3/
LOCATION:Sala ContraBaix – Ateneu Santfeliuenc\, Vidal i Ribas\, 25\, Sant Feliu de Llobregat\, Barcelona\, 08980\, Espanya
END:VEVENT
END:VCALENDAR