BEGIN:VCALENDAR
VERSION:2.0
PRODID:-//Ateneu Santfeliuenc - ECPv6.15.13//NONSGML v1.0//EN
CALSCALE:GREGORIAN
METHOD:PUBLISH
X-ORIGINAL-URL:https://ateneu.clickame.net
X-WR-CALDESC:Esdeveniments per Ateneu Santfeliuenc
REFRESH-INTERVAL;VALUE=DURATION:PT1H
X-Robots-Tag:noindex
X-PUBLISHED-TTL:PT1H
BEGIN:VTIMEZONE
TZID:Europe/Paris
BEGIN:DAYLIGHT
TZOFFSETFROM:+0100
TZOFFSETTO:+0200
TZNAME:CEST
DTSTART:20130331T010000
END:DAYLIGHT
BEGIN:STANDARD
TZOFFSETFROM:+0200
TZOFFSETTO:+0100
TZNAME:CET
DTSTART:20131027T010000
END:STANDARD
BEGIN:DAYLIGHT
TZOFFSETFROM:+0100
TZOFFSETTO:+0200
TZNAME:CEST
DTSTART:20140330T010000
END:DAYLIGHT
BEGIN:STANDARD
TZOFFSETFROM:+0200
TZOFFSETTO:+0100
TZNAME:CET
DTSTART:20141026T010000
END:STANDARD
BEGIN:DAYLIGHT
TZOFFSETFROM:+0100
TZOFFSETTO:+0200
TZNAME:CEST
DTSTART:20150329T010000
END:DAYLIGHT
BEGIN:STANDARD
TZOFFSETFROM:+0200
TZOFFSETTO:+0100
TZNAME:CET
DTSTART:20151025T010000
END:STANDARD
END:VTIMEZONE
BEGIN:VEVENT
DTSTART;TZID=Europe/Paris:20140513T193000
DTEND;TZID=Europe/Paris:20140513T193000
DTSTAMP:20260419T190908
CREATED:20140402T083547Z
LAST-MODIFIED:20140402T083547Z
UID:954-1400009400-1400009400@ateneu.clickame.net
SUMMARY:Els drets de les víctimes i els intents per jutjar el franquisme
DESCRIPTION:JORNADES VIOLÈNCIA\, CONFLICTES I POBLACIÓ CIVIL\nAPROXIMACIONS PER A LA SEVA COMPRENSIÓ I DEBAT \nConferència\nA càrrec d’Ana Messuti (advocada de la Xarxa Catalana i Balear de Suport a la Querella Argentina) i Felipe Moreno (querellant i membre de la Xarxa).\nPresentació i moderació a càrrec de l’associació H.I.J.O.S-Barcelona
URL:https://ateneu.clickame.net/agenda/els-drets-de-les-victimes-i-els-intents-per-jutjar-el-franquisme/
LOCATION:Aula de Cultura – Ateneu Santfeliuenc\, Vidal i Ribas\, 25\, Sant Feliu de Llobregat\, Barcelona\, 08980\, Espanya
END:VEVENT
BEGIN:VEVENT
DTSTART;TZID=Europe/Paris:20140513T193000
DTEND;TZID=Europe/Paris:20140513T193000
DTSTAMP:20260419T190908
CREATED:20140402T083547Z
LAST-MODIFIED:20140402T083547Z
UID:8140-1400009400-1400009400@ateneu.clickame.net
SUMMARY:Els drets de les víctimes i els intents per jutjar el franquisme
DESCRIPTION:JORNADES VIOLÈNCIA\, CONFLICTES I POBLACIÓ CIVIL\nAPROXIMACIONS PER A LA SEVA COMPRENSIÓ I DEBAT \nConferència\nA càrrec d’Ana Messuti (advocada de la Xarxa Catalana i Balear de Suport a la Querella Argentina) i Felipe Moreno (querellant i membre de la Xarxa).\nPresentació i moderació a càrrec de l’associació H.I.J.O.S-Barcelona
URL:https://ateneu.clickame.net/agenda/els-drets-de-les-victimes-i-els-intents-per-jutjar-el-franquisme-2/
LOCATION:Aula de Cultura – Ateneu Santfeliuenc\, Vidal i Ribas\, 25\, Sant Feliu de Llobregat\, Barcelona\, 08980\, Espanya
END:VEVENT
BEGIN:VEVENT
DTSTART;TZID=Europe/Paris:20140513T193000
DTEND;TZID=Europe/Paris:20140513T193000
DTSTAMP:20260419T190908
CREATED:20140402T083547Z
LAST-MODIFIED:20140402T083547Z
UID:9393-1400009400-1400009400@ateneu.clickame.net
SUMMARY:Els drets de les víctimes i els intents per jutjar el franquisme
DESCRIPTION:JORNADES VIOLÈNCIA\, CONFLICTES I POBLACIÓ CIVIL\nAPROXIMACIONS PER A LA SEVA COMPRENSIÓ I DEBAT \nConferència\nA càrrec d’Ana Messuti (advocada de la Xarxa Catalana i Balear de Suport a la Querella Argentina) i Felipe Moreno (querellant i membre de la Xarxa).\nPresentació i moderació a càrrec de l’associació H.I.J.O.S-Barcelona
URL:https://ateneu.clickame.net/agenda/els-drets-de-les-victimes-i-els-intents-per-jutjar-el-franquisme-3/
LOCATION:Aula de Cultura – Ateneu Santfeliuenc\, Vidal i Ribas\, 25\, Sant Feliu de Llobregat\, Barcelona\, 08980\, Espanya
END:VEVENT
END:VCALENDAR