BEGIN:VCALENDAR
VERSION:2.0
PRODID:-//Ateneu Santfeliuenc - ECPv6.15.13//NONSGML v1.0//EN
CALSCALE:GREGORIAN
METHOD:PUBLISH
X-ORIGINAL-URL:https://ateneu.clickame.net
X-WR-CALDESC:Esdeveniments per Ateneu Santfeliuenc
REFRESH-INTERVAL;VALUE=DURATION:PT1H
X-Robots-Tag:noindex
X-PUBLISHED-TTL:PT1H
BEGIN:VTIMEZONE
TZID:Europe/Paris
BEGIN:DAYLIGHT
TZOFFSETFROM:+0100
TZOFFSETTO:+0200
TZNAME:CEST
DTSTART:20130331T010000
END:DAYLIGHT
BEGIN:STANDARD
TZOFFSETFROM:+0200
TZOFFSETTO:+0100
TZNAME:CET
DTSTART:20131027T010000
END:STANDARD
BEGIN:DAYLIGHT
TZOFFSETFROM:+0100
TZOFFSETTO:+0200
TZNAME:CEST
DTSTART:20140330T010000
END:DAYLIGHT
BEGIN:STANDARD
TZOFFSETFROM:+0200
TZOFFSETTO:+0100
TZNAME:CET
DTSTART:20141026T010000
END:STANDARD
BEGIN:DAYLIGHT
TZOFFSETFROM:+0100
TZOFFSETTO:+0200
TZNAME:CEST
DTSTART:20150329T010000
END:DAYLIGHT
BEGIN:STANDARD
TZOFFSETFROM:+0200
TZOFFSETTO:+0100
TZNAME:CET
DTSTART:20151025T010000
END:STANDARD
END:VTIMEZONE
BEGIN:VEVENT
DTSTART;TZID=Europe/Paris:20140427T090000
DTEND;TZID=Europe/Paris:20140427T140000
DTSTAMP:20260419T174325
CREATED:20140328T101827Z
LAST-MODIFIED:20140402T083407Z
UID:931-1398589200-1398607200@ateneu.clickame.net
SUMMARY:Cantada de caramelles del Cor de l'Ateneu
DESCRIPTION:Cantada de caramelles del Cor de l’Ateneu\nPel matí als carrers de Sant Feliu de Llobregat
URL:https://ateneu.clickame.net/agenda/cantada-de-caramelles-del-cor-de-lateneu-2/
LOCATION:Unnamed Venue\, Sant Feliu de Llobregat\, Espanya
END:VEVENT
BEGIN:VEVENT
DTSTART;TZID=Europe/Paris:20140427T090000
DTEND;TZID=Europe/Paris:20140427T140000
DTSTAMP:20260419T174325
CREATED:20140328T101827Z
LAST-MODIFIED:20140328T101827Z
UID:8137-1398589200-1398607200@ateneu.clickame.net
SUMMARY:Cantada de caramelles del Cor de l'Ateneu
DESCRIPTION:Cantada de caramelles del Cor de l’Ateneu\nPel matí als carrers de Sant Feliu de Llobregat
URL:https://ateneu.clickame.net/agenda/cantada-de-caramelles-del-cor-de-lateneu-2-2/
LOCATION:Unnamed Venue\, Sant Feliu de Llobregat\, Espanya
END:VEVENT
BEGIN:VEVENT
DTSTART;TZID=Europe/Paris:20140427T090000
DTEND;TZID=Europe/Paris:20140427T140000
DTSTAMP:20260419T174325
CREATED:20140328T101827Z
LAST-MODIFIED:20140328T101827Z
UID:9390-1398589200-1398607200@ateneu.clickame.net
SUMMARY:Cantada de caramelles del Cor de l'Ateneu
DESCRIPTION:Cantada de caramelles del Cor de l’Ateneu\nPel matí als carrers de Sant Feliu de Llobregat
URL:https://ateneu.clickame.net/agenda/cantada-de-caramelles-del-cor-de-lateneu-2-3/
LOCATION:Unnamed Venue\, Sant Feliu de Llobregat\, Espanya
END:VEVENT
BEGIN:VEVENT
DTSTART;TZID=Europe/Paris:20140427T190000
DTEND;TZID=Europe/Paris:20140427T190000
DTSTAMP:20260419T174325
CREATED:20140328T102157Z
LAST-MODIFIED:20140328T102157Z
UID:933-1398625200-1398625200@ateneu.clickame.net
SUMMARY:Carles Benavent "Un\, Dos\, Tres"
DESCRIPTION:Carles Benavent: baix. Roger Mas: piano. Roger Blàvia: bateria \nUn\, dos\, tres és una obra de frontera\, de cruïlla musical; lloc de trobada de cultures molt diferents\, però dominades sempre pel jazz i pel flamenco. La historia musical de Carles Benavent podria començar l’any 1968 amb un primer grup anomenat Crack que es convertiría en Maquina!; després vindrien Música Urbana\, Kitflus\, Max Sunyer\, Paco de Lucia\, Camaron\, Chic Corea\, Jorge Pardo\, Don Alias o Miles Davis\, entre molts d’altres. En són testimoni un bon rastre de discos propis (el primer l’any 1983)\, i multitud de col·laboracions en estudi i en concert.\nCarles Benavent diu d’aquest projecte “Crec que un artista mai està segur del que sortirà del seu treball. Hi ha un aire\, això si\, intuicions\, esboços i\, evidentment\, en el nostre cas la sort d’entendrens molt bé\, d’estar en la mateixa “onda”; això és esencial. M’interessa sobretot l’espontaneïtat de la troballa\, la naturalitat ”. L’entesa perfecte amb els dos Rogers (Blàvia i Mas\, músics també de reconeguda carrera) permet arribar “a la senzillesa extremadament enganyosa dels veritables artistes\, a l’interès per la puresa del so i pel sentit del que és esencial”. Una festa per als sentits en la proximitat de la Traska. \nPreu: 11€ Amics de ContraBaix (anticipada web) – 12€ anticipada – 15 € taquilla COMPRAR ENTRADES
URL:https://ateneu.clickame.net/agenda/carles-benavent-un-dos-tres/
LOCATION:Traska Truska\, Pg. del Terraple\, 82\, Molins de Rei\, Barcelona\, 08750\, Espanya
END:VEVENT
BEGIN:VEVENT
DTSTART;TZID=Europe/Paris:20140427T190000
DTEND;TZID=Europe/Paris:20140427T190000
DTSTAMP:20260419T174325
CREATED:20140328T102157Z
LAST-MODIFIED:20140328T102157Z
UID:8138-1398625200-1398625200@ateneu.clickame.net
SUMMARY:Carles Benavent "Un\, Dos\, Tres"
DESCRIPTION:Carles Benavent: baix. Roger Mas: piano. Roger Blàvia: bateria \nUn\, dos\, tres és una obra de frontera\, de cruïlla musical; lloc de trobada de cultures molt diferents\, però dominades sempre pel jazz i pel flamenco. La historia musical de Carles Benavent podria començar l’any 1968 amb un primer grup anomenat Crack que es convertiría en Maquina!; després vindrien Música Urbana\, Kitflus\, Max Sunyer\, Paco de Lucia\, Camaron\, Chic Corea\, Jorge Pardo\, Don Alias o Miles Davis\, entre molts d’altres. En són testimoni un bon rastre de discos propis (el primer l’any 1983)\, i multitud de col·laboracions en estudi i en concert.\nCarles Benavent diu d’aquest projecte “Crec que un artista mai està segur del que sortirà del seu treball. Hi ha un aire\, això si\, intuicions\, esboços i\, evidentment\, en el nostre cas la sort d’entendrens molt bé\, d’estar en la mateixa “onda”; això és esencial. M’interessa sobretot l’espontaneïtat de la troballa\, la naturalitat ”. L’entesa perfecte amb els dos Rogers (Blàvia i Mas\, músics també de reconeguda carrera) permet arribar “a la senzillesa extremadament enganyosa dels veritables artistes\, a l’interès per la puresa del so i pel sentit del que és esencial”. Una festa per als sentits en la proximitat de la Traska. \nPreu: 11€ Amics de ContraBaix (anticipada web) – 12€ anticipada – 15 € taquilla COMPRAR ENTRADES
URL:https://ateneu.clickame.net/agenda/carles-benavent-un-dos-tres-2/
LOCATION:Traska Truska\, Pg. del Terraple\, 82\, Molins de Rei\, Barcelona\, 08750\, Espanya
END:VEVENT
BEGIN:VEVENT
DTSTART;TZID=Europe/Paris:20140427T190000
DTEND;TZID=Europe/Paris:20140427T190000
DTSTAMP:20260419T174325
CREATED:20140328T102157Z
LAST-MODIFIED:20140328T102157Z
UID:9391-1398625200-1398625200@ateneu.clickame.net
SUMMARY:Carles Benavent "Un\, Dos\, Tres"
DESCRIPTION:Carles Benavent: baix. Roger Mas: piano. Roger Blàvia: bateria \nUn\, dos\, tres és una obra de frontera\, de cruïlla musical; lloc de trobada de cultures molt diferents\, però dominades sempre pel jazz i pel flamenco. La historia musical de Carles Benavent podria començar l’any 1968 amb un primer grup anomenat Crack que es convertiría en Maquina!; després vindrien Música Urbana\, Kitflus\, Max Sunyer\, Paco de Lucia\, Camaron\, Chic Corea\, Jorge Pardo\, Don Alias o Miles Davis\, entre molts d’altres. En són testimoni un bon rastre de discos propis (el primer l’any 1983)\, i multitud de col·laboracions en estudi i en concert.\nCarles Benavent diu d’aquest projecte “Crec que un artista mai està segur del que sortirà del seu treball. Hi ha un aire\, això si\, intuicions\, esboços i\, evidentment\, en el nostre cas la sort d’entendrens molt bé\, d’estar en la mateixa “onda”; això és esencial. M’interessa sobretot l’espontaneïtat de la troballa\, la naturalitat ”. L’entesa perfecte amb els dos Rogers (Blàvia i Mas\, músics també de reconeguda carrera) permet arribar “a la senzillesa extremadament enganyosa dels veritables artistes\, a l’interès per la puresa del so i pel sentit del que és esencial”. Una festa per als sentits en la proximitat de la Traska. \nPreu: 11€ Amics de ContraBaix (anticipada web) – 12€ anticipada – 15 € taquilla COMPRAR ENTRADES
URL:https://ateneu.clickame.net/agenda/carles-benavent-un-dos-tres-3/
LOCATION:Traska Truska\, Pg. del Terraple\, 82\, Molins de Rei\, Barcelona\, 08750\, Espanya
END:VEVENT
END:VCALENDAR