BEGIN:VCALENDAR
VERSION:2.0
PRODID:-//Ateneu Santfeliuenc - ECPv6.15.13//NONSGML v1.0//EN
CALSCALE:GREGORIAN
METHOD:PUBLISH
X-ORIGINAL-URL:https://ateneu.clickame.net
X-WR-CALDESC:Esdeveniments per Ateneu Santfeliuenc
REFRESH-INTERVAL;VALUE=DURATION:PT1H
X-Robots-Tag:noindex
X-PUBLISHED-TTL:PT1H
BEGIN:VTIMEZONE
TZID:Europe/Paris
BEGIN:DAYLIGHT
TZOFFSETFROM:+0100
TZOFFSETTO:+0200
TZNAME:CEST
DTSTART:20130331T010000
END:DAYLIGHT
BEGIN:STANDARD
TZOFFSETFROM:+0200
TZOFFSETTO:+0100
TZNAME:CET
DTSTART:20131027T010000
END:STANDARD
BEGIN:DAYLIGHT
TZOFFSETFROM:+0100
TZOFFSETTO:+0200
TZNAME:CEST
DTSTART:20140330T010000
END:DAYLIGHT
BEGIN:STANDARD
TZOFFSETFROM:+0200
TZOFFSETTO:+0100
TZNAME:CET
DTSTART:20141026T010000
END:STANDARD
BEGIN:DAYLIGHT
TZOFFSETFROM:+0100
TZOFFSETTO:+0200
TZNAME:CEST
DTSTART:20150329T010000
END:DAYLIGHT
BEGIN:STANDARD
TZOFFSETFROM:+0200
TZOFFSETTO:+0100
TZNAME:CET
DTSTART:20151025T010000
END:STANDARD
END:VTIMEZONE
BEGIN:VEVENT
DTSTART;TZID=Europe/Paris:20140410T193000
DTEND;TZID=Europe/Paris:20140410T193000
DTSTAMP:20260420T003504
CREATED:20140327T124401Z
LAST-MODIFIED:20140327T124401Z
UID:8130-1397158200-1397158200@ateneu.clickame.net
SUMMARY:Violència i l'assalt al poder polític. Els processos de reconciliació
DESCRIPTION:JORNADES VIOLÈNCIA\, CONFLICTES I POBLACIÓ CIVIL\nAPROXIMACIONS PER A LA SEVA COMPRENSIÓ I DEBAT \nConferència\nA càrrec d’A. Andreassi (Dept. de Moderna i contemporània – UAB) i  I. Parra i S. Picazo (Contrast – “Després de la Pau”)
URL:https://ateneu.clickame.net/agenda/violencia-i-lassalt-al-poder-politic-els-processos-de-reconciliacio-2/
LOCATION:Sala d’actes de l’Ateneu\, Vidal i Ribas\, 25\, Sant Feliu de Llobregat\, Espanya
END:VEVENT
BEGIN:VEVENT
DTSTART;TZID=Europe/Paris:20140410T193000
DTEND;TZID=Europe/Paris:20140410T193000
DTSTAMP:20260420T003504
CREATED:20140327T124401Z
LAST-MODIFIED:20140327T124401Z
UID:9383-1397158200-1397158200@ateneu.clickame.net
SUMMARY:Violència i l'assalt al poder polític. Els processos de reconciliació
DESCRIPTION:JORNADES VIOLÈNCIA\, CONFLICTES I POBLACIÓ CIVIL\nAPROXIMACIONS PER A LA SEVA COMPRENSIÓ I DEBAT \nConferència\nA càrrec d’A. Andreassi (Dept. de Moderna i contemporània – UAB) i  I. Parra i S. Picazo (Contrast – “Després de la Pau”)
URL:https://ateneu.clickame.net/agenda/violencia-i-lassalt-al-poder-politic-els-processos-de-reconciliacio-3/
LOCATION:Sala d’actes de l’Ateneu\, Vidal i Ribas\, 25\, Sant Feliu de Llobregat\, Espanya
END:VEVENT
BEGIN:VEVENT
DTSTART;TZID=Europe/Paris:20140410T193000
DTEND;TZID=Europe/Paris:20140410T193000
DTSTAMP:20260420T003504
CREATED:20140327T124401Z
LAST-MODIFIED:20140402T083056Z
UID:915-1397158200-1397158200@ateneu.clickame.net
SUMMARY:Violència i l'assalt al poder polític. Els processos de reconciliació
DESCRIPTION:JORNADES VIOLÈNCIA\, CONFLICTES I POBLACIÓ CIVIL\nAPROXIMACIONS PER A LA SEVA COMPRENSIÓ I DEBAT \nConferència\nA càrrec d’A. Andreassi (Dept. de Moderna i contemporània – UAB) i  I. Parra i S. Picazo (Contrast – “Després de la Pau”)
URL:https://ateneu.clickame.net/agenda/violencia-i-lassalt-al-poder-politic-els-processos-de-reconciliacio/
LOCATION:Sala d’actes de l’Ateneu\, Vidal i Ribas\, 25\, Sant Feliu de Llobregat\, Espanya
END:VEVENT
END:VCALENDAR