BEGIN:VCALENDAR
VERSION:2.0
PRODID:-//Ateneu Santfeliuenc - ECPv6.15.13//NONSGML v1.0//EN
CALSCALE:GREGORIAN
METHOD:PUBLISH
X-WR-CALNAME:Ateneu Santfeliuenc
X-ORIGINAL-URL:https://ateneu.clickame.net
X-WR-CALDESC:Esdeveniments per Ateneu Santfeliuenc
REFRESH-INTERVAL;VALUE=DURATION:PT1H
X-Robots-Tag:noindex
X-PUBLISHED-TTL:PT1H
BEGIN:VTIMEZONE
TZID:Europe/Paris
BEGIN:DAYLIGHT
TZOFFSETFROM:+0100
TZOFFSETTO:+0200
TZNAME:CEST
DTSTART:20130331T010000
END:DAYLIGHT
BEGIN:STANDARD
TZOFFSETFROM:+0200
TZOFFSETTO:+0100
TZNAME:CET
DTSTART:20131027T010000
END:STANDARD
BEGIN:DAYLIGHT
TZOFFSETFROM:+0100
TZOFFSETTO:+0200
TZNAME:CEST
DTSTART:20140330T010000
END:DAYLIGHT
BEGIN:STANDARD
TZOFFSETFROM:+0200
TZOFFSETTO:+0100
TZNAME:CET
DTSTART:20141026T010000
END:STANDARD
BEGIN:DAYLIGHT
TZOFFSETFROM:+0100
TZOFFSETTO:+0200
TZNAME:CEST
DTSTART:20150329T010000
END:DAYLIGHT
BEGIN:STANDARD
TZOFFSETFROM:+0200
TZOFFSETTO:+0100
TZNAME:CET
DTSTART:20151025T010000
END:STANDARD
END:VTIMEZONE
BEGIN:VEVENT
DTSTART;TZID=Europe/Paris:20140323T123000
DTEND;TZID=Europe/Paris:20140323T123000
DTSTAMP:20260419T142942
CREATED:20140312T110640Z
LAST-MODIFIED:20140320T092550Z
UID:877-1395577800-1395577800@ateneu.clickame.net
SUMMARY:Cincs anys construint ciutat i coneixement
DESCRIPTION:Presentació de l’exposició en motiu del cinquè aniversari de la Universitat Social Lliure i Autogestionada de l’Ateneu \n13.00 h. Audiovisual sobre las actuacions més significatives de la USLA
URL:https://ateneu.clickame.net/agenda/cincs-anys-construint-ciutat-i-coneixement/
LOCATION:Aula de Cultura – Ateneu Santfeliuenc\, Vidal i Ribas\, 25\, Sant Feliu de Llobregat\, Barcelona\, 08980\, Espanya
END:VEVENT
BEGIN:VEVENT
DTSTART;TZID=Europe/Paris:20140323T123000
DTEND;TZID=Europe/Paris:20140323T123000
DTSTAMP:20260419T142942
CREATED:20140312T110640Z
LAST-MODIFIED:20140312T110640Z
UID:8122-1395577800-1395577800@ateneu.clickame.net
SUMMARY:Cincs anys construint ciutat i coneixement
DESCRIPTION:Presentació de l’exposició en motiu del cinquè aniversari de la Universitat Social Lliure i Autogestionada de l’Ateneu \n13.00 h. Audiovisual sobre las actuacions més significatives de la USLA
URL:https://ateneu.clickame.net/agenda/cincs-anys-construint-ciutat-i-coneixement-2/
LOCATION:Aula de Cultura – Ateneu Santfeliuenc\, Vidal i Ribas\, 25\, Sant Feliu de Llobregat\, Barcelona\, 08980\, Espanya
END:VEVENT
BEGIN:VEVENT
DTSTART;TZID=Europe/Paris:20140323T123000
DTEND;TZID=Europe/Paris:20140323T123000
DTSTAMP:20260419T142942
CREATED:20140312T110640Z
LAST-MODIFIED:20140312T110640Z
UID:9375-1395577800-1395577800@ateneu.clickame.net
SUMMARY:Cincs anys construint ciutat i coneixement
DESCRIPTION:Presentació de l’exposició en motiu del cinquè aniversari de la Universitat Social Lliure i Autogestionada de l’Ateneu \n13.00 h. Audiovisual sobre las actuacions més significatives de la USLA
URL:https://ateneu.clickame.net/agenda/cincs-anys-construint-ciutat-i-coneixement-3/
LOCATION:Aula de Cultura – Ateneu Santfeliuenc\, Vidal i Ribas\, 25\, Sant Feliu de Llobregat\, Barcelona\, 08980\, Espanya
END:VEVENT
BEGIN:VEVENT
DTSTART;TZID=Europe/Paris:20140323T190000
DTEND;TZID=Europe/Paris:20140323T190000
DTSTAMP:20260419T142942
CREATED:20140312T111319Z
LAST-MODIFIED:20140312T111319Z
UID:878-1395601200-1395601200@ateneu.clickame.net
SUMMARY:Concert del Cor de l'Ateneu
DESCRIPTION:Concert en el marc del Musicoral del Baix Llobregat\nConvidats per la Coral Renaixença de Sant Boi
URL:https://ateneu.clickame.net/agenda/concert-del-cor-de-lateneu/
LOCATION:Parròquia de Sant Baldiri\, Plaça Constitució s/n\, Sant Boi de Llobregat\, Espanya
END:VEVENT
BEGIN:VEVENT
DTSTART;TZID=Europe/Paris:20140323T190000
DTEND;TZID=Europe/Paris:20140323T190000
DTSTAMP:20260419T142942
CREATED:20140312T111319Z
LAST-MODIFIED:20140312T111319Z
UID:8123-1395601200-1395601200@ateneu.clickame.net
SUMMARY:Concert del Cor de l'Ateneu
DESCRIPTION:Concert en el marc del Musicoral del Baix Llobregat\nConvidats per la Coral Renaixença de Sant Boi
URL:https://ateneu.clickame.net/agenda/concert-del-cor-de-lateneu-3/
LOCATION:Parròquia de Sant Baldiri\, Plaça Constitució s/n\, Sant Boi de Llobregat\, Espanya
END:VEVENT
BEGIN:VEVENT
DTSTART;TZID=Europe/Paris:20140323T190000
DTEND;TZID=Europe/Paris:20140323T190000
DTSTAMP:20260419T142942
CREATED:20140312T111319Z
LAST-MODIFIED:20140312T111319Z
UID:9376-1395601200-1395601200@ateneu.clickame.net
SUMMARY:Concert del Cor de l'Ateneu
DESCRIPTION:Concert en el marc del Musicoral del Baix Llobregat\nConvidats per la Coral Renaixença de Sant Boi
URL:https://ateneu.clickame.net/agenda/concert-del-cor-de-lateneu-4/
LOCATION:Parròquia de Sant Baldiri\, Plaça Constitució s/n\, Sant Boi de Llobregat\, Espanya
END:VEVENT
END:VCALENDAR