BEGIN:VCALENDAR
VERSION:2.0
PRODID:-//Ateneu Santfeliuenc - ECPv6.15.13//NONSGML v1.0//EN
CALSCALE:GREGORIAN
METHOD:PUBLISH
X-ORIGINAL-URL:https://ateneu.clickame.net
X-WR-CALDESC:Esdeveniments per Ateneu Santfeliuenc
REFRESH-INTERVAL;VALUE=DURATION:PT1H
X-Robots-Tag:noindex
X-PUBLISHED-TTL:PT1H
BEGIN:VTIMEZONE
TZID:Europe/Paris
BEGIN:DAYLIGHT
TZOFFSETFROM:+0100
TZOFFSETTO:+0200
TZNAME:CEST
DTSTART:20130331T010000
END:DAYLIGHT
BEGIN:STANDARD
TZOFFSETFROM:+0200
TZOFFSETTO:+0100
TZNAME:CET
DTSTART:20131027T010000
END:STANDARD
BEGIN:DAYLIGHT
TZOFFSETFROM:+0100
TZOFFSETTO:+0200
TZNAME:CEST
DTSTART:20140330T010000
END:DAYLIGHT
BEGIN:STANDARD
TZOFFSETFROM:+0200
TZOFFSETTO:+0100
TZNAME:CET
DTSTART:20141026T010000
END:STANDARD
BEGIN:DAYLIGHT
TZOFFSETFROM:+0100
TZOFFSETTO:+0200
TZNAME:CEST
DTSTART:20150329T010000
END:DAYLIGHT
BEGIN:STANDARD
TZOFFSETFROM:+0200
TZOFFSETTO:+0100
TZNAME:CET
DTSTART:20151025T010000
END:STANDARD
END:VTIMEZONE
BEGIN:VEVENT
DTSTART;TZID=Europe/Paris:20140223T190000
DTEND;TZID=Europe/Paris:20140223T210000
DTSTAMP:20260419T222419
CREATED:20140127T103127Z
LAST-MODIFIED:20140127T103127Z
UID:9367-1393182000-1393189200@ateneu.clickame.net
SUMMARY:MYRIAM SWANSON “MAGNOLIA”
DESCRIPTION:8€ amics contrabaix (anticipada)\n9€ anticipada (12€ a taquilla) \nCOMPRAR ENTRADES \nMyriam Swanson: veu. Francesc Capella: piano. Paco Weht: contrabaix. Anton Jarl: bateria. \nMagnòlia és un quartet envellutat i rabiós\, d’esperit americà\, amb un repertori de cançons d’Ella Fitzgerald\, Etta James\, Sara Vaughan o Rosemary Clooney. Són cançons que acompanyen la Myriam Swanson des dels inicis i que ha volgut compartir ara amb uns músics brillants\, per interpretar un ampli espectre de la seva vessant més jazzística.\nEl repertori ha estat triat acuradament per a convidar l’espectador a submergir-se en un estat d’ànim evocador i per a transportar-lo des dels paisatges del Broadway dels anys trenta als musicals de Cole Porter dels cinquanta; de Duke Ellington a Ella Fitgerald i de Sara Vaughan a Julie London\, entre tants altres. El cinema i el jazz es troben en un ambient acollidor i sofisticat: el mainstream dels anys cinquanta.
URL:https://ateneu.clickame.net/agenda/myriam-swanson-magnolia-3/
LOCATION:Traska Truska\, Pg. del Terraple\, 82\, Molins de Rei\, Barcelona\, 08750\, Espanya
END:VEVENT
BEGIN:VEVENT
DTSTART;TZID=Europe/Paris:20140223T190000
DTEND;TZID=Europe/Paris:20140223T210000
DTSTAMP:20260419T222419
CREATED:20140127T103127Z
LAST-MODIFIED:20140127T103202Z
UID:712-1393182000-1393189200@ateneu.clickame.net
SUMMARY:MYRIAM SWANSON “MAGNOLIA”
DESCRIPTION:8€ amics contrabaix (anticipada)\n9€ anticipada (12€ a taquilla) \nCOMPRAR ENTRADES \nMyriam Swanson: veu. Francesc Capella: piano. Paco Weht: contrabaix. Anton Jarl: bateria. \nMagnòlia és un quartet envellutat i rabiós\, d’esperit americà\, amb un repertori de cançons d’Ella Fitzgerald\, Etta James\, Sara Vaughan o Rosemary Clooney. Són cançons que acompanyen la Myriam Swanson des dels inicis i que ha volgut compartir ara amb uns músics brillants\, per interpretar un ampli espectre de la seva vessant més jazzística.\nEl repertori ha estat triat acuradament per a convidar l’espectador a submergir-se en un estat d’ànim evocador i per a transportar-lo des dels paisatges del Broadway dels anys trenta als musicals de Cole Porter dels cinquanta; de Duke Ellington a Ella Fitgerald i de Sara Vaughan a Julie London\, entre tants altres. El cinema i el jazz es troben en un ambient acollidor i sofisticat: el mainstream dels anys cinquanta.
URL:https://ateneu.clickame.net/agenda/myriam-swanson-magnolia/
LOCATION:Traska Truska\, Pg. del Terraple\, 82\, Molins de Rei\, Barcelona\, 08750\, Espanya
END:VEVENT
BEGIN:VEVENT
DTSTART;TZID=Europe/Paris:20140223T190000
DTEND;TZID=Europe/Paris:20140223T210000
DTSTAMP:20260419T222419
CREATED:20140127T103127Z
LAST-MODIFIED:20140127T103127Z
UID:8114-1393182000-1393189200@ateneu.clickame.net
SUMMARY:MYRIAM SWANSON “MAGNOLIA”
DESCRIPTION:8€ amics contrabaix (anticipada)\n9€ anticipada (12€ a taquilla) \nCOMPRAR ENTRADES \nMyriam Swanson: veu. Francesc Capella: piano. Paco Weht: contrabaix. Anton Jarl: bateria. \nMagnòlia és un quartet envellutat i rabiós\, d’esperit americà\, amb un repertori de cançons d’Ella Fitzgerald\, Etta James\, Sara Vaughan o Rosemary Clooney. Són cançons que acompanyen la Myriam Swanson des dels inicis i que ha volgut compartir ara amb uns músics brillants\, per interpretar un ampli espectre de la seva vessant més jazzística.\nEl repertori ha estat triat acuradament per a convidar l’espectador a submergir-se en un estat d’ànim evocador i per a transportar-lo des dels paisatges del Broadway dels anys trenta als musicals de Cole Porter dels cinquanta; de Duke Ellington a Ella Fitgerald i de Sara Vaughan a Julie London\, entre tants altres. El cinema i el jazz es troben en un ambient acollidor i sofisticat: el mainstream dels anys cinquanta.
URL:https://ateneu.clickame.net/agenda/myriam-swanson-magnolia-2/
LOCATION:Traska Truska\, Pg. del Terraple\, 82\, Molins de Rei\, Barcelona\, 08750\, Espanya
END:VEVENT
END:VCALENDAR