BEGIN:VCALENDAR
VERSION:2.0
PRODID:-//Ateneu Santfeliuenc - ECPv6.15.13//NONSGML v1.0//EN
CALSCALE:GREGORIAN
METHOD:PUBLISH
X-WR-CALNAME:Ateneu Santfeliuenc
X-ORIGINAL-URL:https://ateneu.clickame.net
X-WR-CALDESC:Esdeveniments per Ateneu Santfeliuenc
REFRESH-INTERVAL;VALUE=DURATION:PT1H
X-Robots-Tag:noindex
X-PUBLISHED-TTL:PT1H
BEGIN:VTIMEZONE
TZID:Europe/Paris
BEGIN:DAYLIGHT
TZOFFSETFROM:+0100
TZOFFSETTO:+0200
TZNAME:CEST
DTSTART:20130331T010000
END:DAYLIGHT
BEGIN:STANDARD
TZOFFSETFROM:+0200
TZOFFSETTO:+0100
TZNAME:CET
DTSTART:20131027T010000
END:STANDARD
BEGIN:DAYLIGHT
TZOFFSETFROM:+0100
TZOFFSETTO:+0200
TZNAME:CEST
DTSTART:20140330T010000
END:DAYLIGHT
BEGIN:STANDARD
TZOFFSETFROM:+0200
TZOFFSETTO:+0100
TZNAME:CET
DTSTART:20141026T010000
END:STANDARD
BEGIN:DAYLIGHT
TZOFFSETFROM:+0100
TZOFFSETTO:+0200
TZNAME:CEST
DTSTART:20150329T010000
END:DAYLIGHT
BEGIN:STANDARD
TZOFFSETFROM:+0200
TZOFFSETTO:+0100
TZNAME:CET
DTSTART:20151025T010000
END:STANDARD
END:VTIMEZONE
BEGIN:VEVENT
DTSTART;TZID=Europe/Paris:20140214T210000
DTEND;TZID=Europe/Paris:20140214T230000
DTSTAMP:20260420T052811
CREATED:20140127T094607Z
LAST-MODIFIED:20140127T094607Z
UID:705-1392411600-1392418800@ateneu.clickame.net
SUMMARY:Sant Andreu Jazz Band
DESCRIPTION:DIRECCIÓ MUSICAL: JOAN CHAMORRO \n11€ amics contrabaix (anticipada)\n12€ anticipada (15€ a taquilla) \nCOMPRAR ENTRADES \nLa Sant Andreu Jazz Band és una formació nascuda al barri de Sant Andreu (Barcelona) l’any 2006\, sota la direcció de Joan Chamorro. Formada per joves d’entre 7 i 18 anys\, és considerada la Big Band més jove d’Europa.\nEl seu debut oficial va ser al Festival Internacional de Jazz de Terrassa dins l’apartat de jazz jove. Aquell mateix any tocaven també a la primera edició del Jazz Classic Non Stop\, creat per la Fundació Catalana per la Preservació i Difusió del Jazz Clàssic.\nA l’any 2007 van tornar al Festival Internacional de Jazz de Terrassa\, altra vegada dins de l’apartat de jazz jove\, i al Festival de Jazz de Barcelona\, primer a l’Auditori i després compartint escenari amb la Locomotora Negra al Palau de la Música.\nA partir d’aquell moment\, la seva participació a festivals de jazz\, com per exemple els de Barcelona\, Tarragona\, Andorra\, Girona\, Terrassa\, Arenys de Mar o Granollers\, fa que la SAJB es consolidi com a projecte pedagògic musical\, reconegut i avalat per músics de renom internacional com Jesse Davis\, Terrel Staford\, Dick Oatts\, Kenn Peploswky\, Bobby Gordon\, Perico Sambeat\, Ricard Gili o Ignasi Terraza\, entre d’altres.\nDurant els seus 6 anys de trajectòria\, la Sant Andreu Jazz Band també ha tingut l’oportunitat d’actuar a Europa\, a llocs tan destacats com Marciac o Aix en Provence.\nEl seu repertori està format per més de 50 temes en constant renovació\, entre els quals trobem peces de les diferents èpoques del Dixieland\, New Orleans\, Swing\, Big Band\, Bebop\, Funky i Jazz Vocal. \nLa Sant Andreu Jazz Band ha rebut el premi a la Millor proposta de Jazz 2009\, en els Premis de la Revista Jaç; el Premi Orquestres a la X Edició Premis ARC de la Música 2011; ha estat Guanyadora del Premi al Millor Documental Musical Nacional del Festival Beefeater In-Edit 2012 i nominada a la categoria Grup de l’any dels Premis de la AMJM 2011.
URL:https://ateneu.clickame.net/agenda/sant-andreu-jazz-band/
LOCATION:Auditori Palau Falguera\, Carrer Falguera\, 6\, Sant Feliu de Llobregat\, Barcelona\, 08980\, Espanya
END:VEVENT
BEGIN:VEVENT
DTSTART;TZID=Europe/Paris:20140214T210000
DTEND;TZID=Europe/Paris:20140214T230000
DTSTAMP:20260420T052811
CREATED:20140127T094607Z
LAST-MODIFIED:20140127T094607Z
UID:8109-1392411600-1392418800@ateneu.clickame.net
SUMMARY:Sant Andreu Jazz Band
DESCRIPTION:DIRECCIÓ MUSICAL: JOAN CHAMORRO \n11€ amics contrabaix (anticipada)\n12€ anticipada (15€ a taquilla) \nCOMPRAR ENTRADES \nLa Sant Andreu Jazz Band és una formació nascuda al barri de Sant Andreu (Barcelona) l’any 2006\, sota la direcció de Joan Chamorro. Formada per joves d’entre 7 i 18 anys\, és considerada la Big Band més jove d’Europa.\nEl seu debut oficial va ser al Festival Internacional de Jazz de Terrassa dins l’apartat de jazz jove. Aquell mateix any tocaven també a la primera edició del Jazz Classic Non Stop\, creat per la Fundació Catalana per la Preservació i Difusió del Jazz Clàssic.\nA l’any 2007 van tornar al Festival Internacional de Jazz de Terrassa\, altra vegada dins de l’apartat de jazz jove\, i al Festival de Jazz de Barcelona\, primer a l’Auditori i després compartint escenari amb la Locomotora Negra al Palau de la Música.\nA partir d’aquell moment\, la seva participació a festivals de jazz\, com per exemple els de Barcelona\, Tarragona\, Andorra\, Girona\, Terrassa\, Arenys de Mar o Granollers\, fa que la SAJB es consolidi com a projecte pedagògic musical\, reconegut i avalat per músics de renom internacional com Jesse Davis\, Terrel Staford\, Dick Oatts\, Kenn Peploswky\, Bobby Gordon\, Perico Sambeat\, Ricard Gili o Ignasi Terraza\, entre d’altres.\nDurant els seus 6 anys de trajectòria\, la Sant Andreu Jazz Band també ha tingut l’oportunitat d’actuar a Europa\, a llocs tan destacats com Marciac o Aix en Provence.\nEl seu repertori està format per més de 50 temes en constant renovació\, entre els quals trobem peces de les diferents èpoques del Dixieland\, New Orleans\, Swing\, Big Band\, Bebop\, Funky i Jazz Vocal. \nLa Sant Andreu Jazz Band ha rebut el premi a la Millor proposta de Jazz 2009\, en els Premis de la Revista Jaç; el Premi Orquestres a la X Edició Premis ARC de la Música 2011; ha estat Guanyadora del Premi al Millor Documental Musical Nacional del Festival Beefeater In-Edit 2012 i nominada a la categoria Grup de l’any dels Premis de la AMJM 2011.
URL:https://ateneu.clickame.net/agenda/sant-andreu-jazz-band-3/
LOCATION:Auditori Palau Falguera\, Carrer Falguera\, 6\, Sant Feliu de Llobregat\, Barcelona\, 08980\, Espanya
END:VEVENT
BEGIN:VEVENT
DTSTART;TZID=Europe/Paris:20140214T210000
DTEND;TZID=Europe/Paris:20140214T230000
DTSTAMP:20260420T052811
CREATED:20140127T094607Z
LAST-MODIFIED:20140127T094607Z
UID:9362-1392411600-1392418800@ateneu.clickame.net
SUMMARY:Sant Andreu Jazz Band
DESCRIPTION:DIRECCIÓ MUSICAL: JOAN CHAMORRO \n11€ amics contrabaix (anticipada)\n12€ anticipada (15€ a taquilla) \nCOMPRAR ENTRADES \nLa Sant Andreu Jazz Band és una formació nascuda al barri de Sant Andreu (Barcelona) l’any 2006\, sota la direcció de Joan Chamorro. Formada per joves d’entre 7 i 18 anys\, és considerada la Big Band més jove d’Europa.\nEl seu debut oficial va ser al Festival Internacional de Jazz de Terrassa dins l’apartat de jazz jove. Aquell mateix any tocaven també a la primera edició del Jazz Classic Non Stop\, creat per la Fundació Catalana per la Preservació i Difusió del Jazz Clàssic.\nA l’any 2007 van tornar al Festival Internacional de Jazz de Terrassa\, altra vegada dins de l’apartat de jazz jove\, i al Festival de Jazz de Barcelona\, primer a l’Auditori i després compartint escenari amb la Locomotora Negra al Palau de la Música.\nA partir d’aquell moment\, la seva participació a festivals de jazz\, com per exemple els de Barcelona\, Tarragona\, Andorra\, Girona\, Terrassa\, Arenys de Mar o Granollers\, fa que la SAJB es consolidi com a projecte pedagògic musical\, reconegut i avalat per músics de renom internacional com Jesse Davis\, Terrel Staford\, Dick Oatts\, Kenn Peploswky\, Bobby Gordon\, Perico Sambeat\, Ricard Gili o Ignasi Terraza\, entre d’altres.\nDurant els seus 6 anys de trajectòria\, la Sant Andreu Jazz Band també ha tingut l’oportunitat d’actuar a Europa\, a llocs tan destacats com Marciac o Aix en Provence.\nEl seu repertori està format per més de 50 temes en constant renovació\, entre els quals trobem peces de les diferents èpoques del Dixieland\, New Orleans\, Swing\, Big Band\, Bebop\, Funky i Jazz Vocal. \nLa Sant Andreu Jazz Band ha rebut el premi a la Millor proposta de Jazz 2009\, en els Premis de la Revista Jaç; el Premi Orquestres a la X Edició Premis ARC de la Música 2011; ha estat Guanyadora del Premi al Millor Documental Musical Nacional del Festival Beefeater In-Edit 2012 i nominada a la categoria Grup de l’any dels Premis de la AMJM 2011.
URL:https://ateneu.clickame.net/agenda/sant-andreu-jazz-band-4/
LOCATION:Auditori Palau Falguera\, Carrer Falguera\, 6\, Sant Feliu de Llobregat\, Barcelona\, 08980\, Espanya
END:VEVENT
BEGIN:VEVENT
DTSTART;TZID=Europe/Paris:20140214T220000
DTEND;TZID=Europe/Paris:20140214T220000
DTSTAMP:20260420T052811
CREATED:20140127T095218Z
LAST-MODIFIED:20140207T092712Z
UID:706-1392415200-1392415200@ateneu.clickame.net
SUMMARY:Soldados de Salamina
DESCRIPTION:Commemoració dels 75 anys d’ocupació franquista de Roses de Llobregat (Sant Feliu de Llobregat) \nJORNADES DE MEMÒRIA HISTÒRICA I DEMOCRÀTICA\n(Del 22 de gener al 14 de febrer de 2014) \nCinema Fòrum\nCondueix el Fòrum Joan Doménech
URL:https://ateneu.clickame.net/agenda/soldados-de-salamina/
LOCATION:CineBaix\, Espanya
END:VEVENT
BEGIN:VEVENT
DTSTART;TZID=Europe/Paris:20140214T220000
DTEND;TZID=Europe/Paris:20140214T220000
DTSTAMP:20260420T052811
CREATED:20140127T095218Z
LAST-MODIFIED:20140127T095218Z
UID:8110-1392415200-1392415200@ateneu.clickame.net
SUMMARY:Soldados de Salamina
DESCRIPTION:Commemoració dels 75 anys d’ocupació franquista de Roses de Llobregat (Sant Feliu de Llobregat) \nJORNADES DE MEMÒRIA HISTÒRICA I DEMOCRÀTICA\n(Del 22 de gener al 14 de febrer de 2014) \nCinema Fòrum\nCondueix el Fòrum Joan Doménech
URL:https://ateneu.clickame.net/agenda/soldados-de-salamina-2/
LOCATION:CineBaix\, Espanya
END:VEVENT
BEGIN:VEVENT
DTSTART;TZID=Europe/Paris:20140214T220000
DTEND;TZID=Europe/Paris:20140214T220000
DTSTAMP:20260420T052811
CREATED:20140127T095218Z
LAST-MODIFIED:20140127T095218Z
UID:9363-1392415200-1392415200@ateneu.clickame.net
SUMMARY:Soldados de Salamina
DESCRIPTION:Commemoració dels 75 anys d’ocupació franquista de Roses de Llobregat (Sant Feliu de Llobregat) \nJORNADES DE MEMÒRIA HISTÒRICA I DEMOCRÀTICA\n(Del 22 de gener al 14 de febrer de 2014) \nCinema Fòrum\nCondueix el Fòrum Joan Doménech
URL:https://ateneu.clickame.net/agenda/soldados-de-salamina-3/
LOCATION:CineBaix\, Espanya
END:VEVENT
END:VCALENDAR