BEGIN:VCALENDAR
VERSION:2.0
PRODID:-//Ateneu Santfeliuenc - ECPv6.15.13//NONSGML v1.0//EN
CALSCALE:GREGORIAN
METHOD:PUBLISH
X-WR-CALNAME:Ateneu Santfeliuenc
X-ORIGINAL-URL:https://ateneu.clickame.net
X-WR-CALDESC:Esdeveniments per Ateneu Santfeliuenc
REFRESH-INTERVAL;VALUE=DURATION:PT1H
X-Robots-Tag:noindex
X-PUBLISHED-TTL:PT1H
BEGIN:VTIMEZONE
TZID:Europe/Paris
BEGIN:DAYLIGHT
TZOFFSETFROM:+0100
TZOFFSETTO:+0200
TZNAME:CEST
DTSTART:20130331T010000
END:DAYLIGHT
BEGIN:STANDARD
TZOFFSETFROM:+0200
TZOFFSETTO:+0100
TZNAME:CET
DTSTART:20131027T010000
END:STANDARD
BEGIN:DAYLIGHT
TZOFFSETFROM:+0100
TZOFFSETTO:+0200
TZNAME:CEST
DTSTART:20140330T010000
END:DAYLIGHT
BEGIN:STANDARD
TZOFFSETFROM:+0200
TZOFFSETTO:+0100
TZNAME:CET
DTSTART:20141026T010000
END:STANDARD
BEGIN:DAYLIGHT
TZOFFSETFROM:+0100
TZOFFSETTO:+0200
TZNAME:CEST
DTSTART:20150329T010000
END:DAYLIGHT
BEGIN:STANDARD
TZOFFSETFROM:+0200
TZOFFSETTO:+0100
TZNAME:CET
DTSTART:20151025T010000
END:STANDARD
END:VTIMEZONE
BEGIN:VEVENT
DTSTART;TZID=Europe/Paris:20140123T073000
DTEND;TZID=Europe/Paris:20140123T213000
DTSTAMP:20260420T015239
CREATED:20140114T105437Z
LAST-MODIFIED:20140114T105437Z
UID:9355-1390462200-1390512600@ateneu.clickame.net
SUMMARY:El sorgiment dels feixismes i totalitarismes a Europa (100 anys de la Primera Guerra Mundial)
DESCRIPTION:Commemoració dels 75 anys d’ocupació franquista de Roses de Llobregat (Sant Feliu de Llobregat) \nJORNADES DE MEMÒRIA HISTÒRICA I DEMOCRÀTICA\n(Del 22 de gener al 14 de febrer de 2014) \n• Conferència : El sorgiment dels feixismes i totalitarismes a Europa (Cent anys de la Primera Guerra Mundial)\n– Intervé : Jesús Penilla ( Historiador i exprofessor del C. Verge de la Salut )\n– Presenta : Maria Jesús Bono ( Historiadora i professora )
URL:https://ateneu.clickame.net/agenda/el-sorgiment-dels-feixismes-i-totalitarismes-a-europa-100-anys-de-la-primera-guerra-mundial-3/
LOCATION:Aula de Cultura – Ateneu Santfeliuenc\, Vidal i Ribas\, 25\, Sant Feliu de Llobregat\, Barcelona\, 08980\, Espanya
END:VEVENT
BEGIN:VEVENT
DTSTART;TZID=Europe/Paris:20140123T073000
DTEND;TZID=Europe/Paris:20140123T213000
DTSTAMP:20260420T015239
CREATED:20140114T105437Z
LAST-MODIFIED:20140114T105437Z
UID:615-1390462200-1390512600@ateneu.clickame.net
SUMMARY:El sorgiment dels feixismes i totalitarismes a Europa (100 anys de la Primera Guerra Mundial)
DESCRIPTION:Commemoració dels 75 anys d’ocupació franquista de Roses de Llobregat (Sant Feliu de Llobregat) \nJORNADES DE MEMÒRIA HISTÒRICA I DEMOCRÀTICA\n(Del 22 de gener al 14 de febrer de 2014) \n• Conferència : El sorgiment dels feixismes i totalitarismes a Europa (Cent anys de la Primera Guerra Mundial)\n– Intervé : Jesús Penilla ( Historiador i exprofessor del C. Verge de la Salut )\n– Presenta : Maria Jesús Bono ( Historiadora i professora )
URL:https://ateneu.clickame.net/agenda/el-sorgiment-dels-feixismes-i-totalitarismes-a-europa-100-anys-de-la-primera-guerra-mundial/
LOCATION:Aula de Cultura – Ateneu Santfeliuenc\, Vidal i Ribas\, 25\, Sant Feliu de Llobregat\, Barcelona\, 08980\, Espanya
END:VEVENT
BEGIN:VEVENT
DTSTART;TZID=Europe/Paris:20140123T073000
DTEND;TZID=Europe/Paris:20140123T213000
DTSTAMP:20260420T015239
CREATED:20140114T105437Z
LAST-MODIFIED:20140114T105437Z
UID:8102-1390462200-1390512600@ateneu.clickame.net
SUMMARY:El sorgiment dels feixismes i totalitarismes a Europa (100 anys de la Primera Guerra Mundial)
DESCRIPTION:Commemoració dels 75 anys d’ocupació franquista de Roses de Llobregat (Sant Feliu de Llobregat) \nJORNADES DE MEMÒRIA HISTÒRICA I DEMOCRÀTICA\n(Del 22 de gener al 14 de febrer de 2014) \n• Conferència : El sorgiment dels feixismes i totalitarismes a Europa (Cent anys de la Primera Guerra Mundial)\n– Intervé : Jesús Penilla ( Historiador i exprofessor del C. Verge de la Salut )\n– Presenta : Maria Jesús Bono ( Historiadora i professora )
URL:https://ateneu.clickame.net/agenda/el-sorgiment-dels-feixismes-i-totalitarismes-a-europa-100-anys-de-la-primera-guerra-mundial-2/
LOCATION:Aula de Cultura – Ateneu Santfeliuenc\, Vidal i Ribas\, 25\, Sant Feliu de Llobregat\, Barcelona\, 08980\, Espanya
END:VEVENT
END:VCALENDAR