BEGIN:VCALENDAR
VERSION:2.0
PRODID:-//Ateneu Santfeliuenc - ECPv6.15.13//NONSGML v1.0//EN
CALSCALE:GREGORIAN
METHOD:PUBLISH
X-WR-CALNAME:Ateneu Santfeliuenc
X-ORIGINAL-URL:https://ateneu.clickame.net
X-WR-CALDESC:Esdeveniments per Ateneu Santfeliuenc
REFRESH-INTERVAL;VALUE=DURATION:PT1H
X-Robots-Tag:noindex
X-PUBLISHED-TTL:PT1H
BEGIN:VTIMEZONE
TZID:Europe/Paris
BEGIN:DAYLIGHT
TZOFFSETFROM:+0100
TZOFFSETTO:+0200
TZNAME:CEST
DTSTART:20120325T010000
END:DAYLIGHT
BEGIN:STANDARD
TZOFFSETFROM:+0200
TZOFFSETTO:+0100
TZNAME:CET
DTSTART:20121028T010000
END:STANDARD
BEGIN:DAYLIGHT
TZOFFSETFROM:+0100
TZOFFSETTO:+0200
TZNAME:CEST
DTSTART:20130331T010000
END:DAYLIGHT
BEGIN:STANDARD
TZOFFSETFROM:+0200
TZOFFSETTO:+0100
TZNAME:CET
DTSTART:20131027T010000
END:STANDARD
BEGIN:DAYLIGHT
TZOFFSETFROM:+0100
TZOFFSETTO:+0200
TZNAME:CEST
DTSTART:20140330T010000
END:DAYLIGHT
BEGIN:STANDARD
TZOFFSETFROM:+0200
TZOFFSETTO:+0100
TZNAME:CET
DTSTART:20141026T010000
END:STANDARD
END:VTIMEZONE
BEGIN:VEVENT
DTSTART;TZID=Europe/Paris:20131105T080000
DTEND;TZID=Europe/Paris:20131130T230000
DTSTAMP:20260420T083702
CREATED:20131103T102203Z
LAST-MODIFIED:20131103T102501Z
UID:552-1383638400-1385852400@ateneu.clickame.net
SUMMARY:Exposició de Pintures d’Anton Mateu
DESCRIPTION:
URL:https://ateneu.clickame.net/agenda/exposicio-de-pintures-danton-mateu/
LOCATION:Bar de l’Ateneu\, Carrer de l'Ateneu\, 23\, Sant Feliu de Llobregat\, Barcelona\, 08980\, Spain
END:VEVENT
BEGIN:VEVENT
DTSTART;TZID=Europe/Paris:20131105T080000
DTEND;TZID=Europe/Paris:20131130T230000
DTSTAMP:20260420T083702
CREATED:20131103T102203Z
LAST-MODIFIED:20131103T102203Z
UID:8085-1383638400-1385852400@ateneu.clickame.net
SUMMARY:Exposició de Pintures d’Anton Mateu
DESCRIPTION:
URL:https://ateneu.clickame.net/agenda/exposicio-de-pintures-danton-mateu-2/
LOCATION:Bar de l’Ateneu\, Carrer de l'Ateneu\, 23\, Sant Feliu de Llobregat\, Barcelona\, 08980\, Spain
END:VEVENT
BEGIN:VEVENT
DTSTART;TZID=Europe/Paris:20131105T080000
DTEND;TZID=Europe/Paris:20131130T230000
DTSTAMP:20260420T083702
CREATED:20131103T102203Z
LAST-MODIFIED:20131103T102203Z
UID:9338-1383638400-1385852400@ateneu.clickame.net
SUMMARY:Exposició de Pintures d’Anton Mateu
DESCRIPTION:
URL:https://ateneu.clickame.net/agenda/exposicio-de-pintures-danton-mateu-3/
LOCATION:Bar de l’Ateneu\, Carrer de l'Ateneu\, 23\, Sant Feliu de Llobregat\, Barcelona\, 08980\, Spain
END:VEVENT
BEGIN:VEVENT
DTSTART;TZID=Europe/Paris:20131115T193000
DTEND;TZID=Europe/Paris:20131115T193000
DTSTAMP:20260420T083702
CREATED:20131103T103345Z
LAST-MODIFIED:20131103T103345Z
UID:8087-1384543800-1384543800@ateneu.clickame.net
SUMMARY:Alimentació i esport”
DESCRIPTION:Xerrada a càrrec de Dani Dot
URL:https://ateneu.clickame.net/agenda/alimentacio-i-esport-2/
LOCATION:Aula de Cultura – Ateneu Santfeliuenc\, Vidal i Ribas\, 25\, Sant Feliu de Llobregat\, Barcelona\, 08980\, Espanya
END:VEVENT
BEGIN:VEVENT
DTSTART;TZID=Europe/Paris:20131115T193000
DTEND;TZID=Europe/Paris:20131115T193000
DTSTAMP:20260420T083702
CREATED:20131103T103345Z
LAST-MODIFIED:20131103T103345Z
UID:9340-1384543800-1384543800@ateneu.clickame.net
SUMMARY:Alimentació i esport”
DESCRIPTION:Xerrada a càrrec de Dani Dot
URL:https://ateneu.clickame.net/agenda/alimentacio-i-esport-3/
LOCATION:Aula de Cultura – Ateneu Santfeliuenc\, Vidal i Ribas\, 25\, Sant Feliu de Llobregat\, Barcelona\, 08980\, Espanya
END:VEVENT
BEGIN:VEVENT
DTSTART;TZID=Europe/Paris:20131115T193000
DTEND;TZID=Europe/Paris:20131115T193000
DTSTAMP:20260420T083702
CREATED:20131103T103345Z
LAST-MODIFIED:20131103T103456Z
UID:556-1384543800-1384543800@ateneu.clickame.net
SUMMARY:Alimentació i esport”
DESCRIPTION:Xerrada a càrrec de Dani Dot
URL:https://ateneu.clickame.net/agenda/alimentacio-i-esport/
LOCATION:Aula de Cultura – Ateneu Santfeliuenc\, Vidal i Ribas\, 25\, Sant Feliu de Llobregat\, Barcelona\, 08980\, Espanya
END:VEVENT
BEGIN:VEVENT
DTSTART;TZID=Europe/Paris:20131115T210000
DTEND;TZID=Europe/Paris:20131115T210000
DTSTAMP:20260420T083702
CREATED:20131103T103954Z
LAST-MODIFIED:20131103T110300Z
UID:558-1384549200-1384549200@ateneu.clickame.net
SUMMARY:Marcelo Mercadante Trio
DESCRIPTION:Concert de tangos. 10 € (8 € anticipada); entrada + sopar: 15 € (12 € anticipada)
URL:https://ateneu.clickame.net/agenda/marcelo-mercadante-trio/
LOCATION:Sala d’actes de l’Ateneu\, Vidal i Ribas\, 25\, Sant Feliu de Llobregat\, Barcelona\, Espanya
END:VEVENT
BEGIN:VEVENT
DTSTART;TZID=Europe/Paris:20131115T210000
DTEND;TZID=Europe/Paris:20131115T210000
DTSTAMP:20260420T083702
CREATED:20131103T103954Z
LAST-MODIFIED:20131103T103954Z
UID:8088-1384549200-1384549200@ateneu.clickame.net
SUMMARY:Marcelo Mercadante Trio
DESCRIPTION:Concert de tangos. 10 € (8 € anticipada); entrada + sopar: 15 € (12 € anticipada)
URL:https://ateneu.clickame.net/agenda/marcelo-mercadante-trio-2/
LOCATION:Sala d’actes de l’Ateneu\, Vidal i Ribas\, 25\, Sant Feliu de Llobregat\, Barcelona\, Espanya
END:VEVENT
BEGIN:VEVENT
DTSTART;TZID=Europe/Paris:20131115T210000
DTEND;TZID=Europe/Paris:20131115T210000
DTSTAMP:20260420T083702
CREATED:20131103T103954Z
LAST-MODIFIED:20131103T103954Z
UID:9341-1384549200-1384549200@ateneu.clickame.net
SUMMARY:Marcelo Mercadante Trio
DESCRIPTION:Concert de tangos. 10 € (8 € anticipada); entrada + sopar: 15 € (12 € anticipada)
URL:https://ateneu.clickame.net/agenda/marcelo-mercadante-trio-3/
LOCATION:Sala d’actes de l’Ateneu\, Vidal i Ribas\, 25\, Sant Feliu de Llobregat\, Barcelona\, Espanya
END:VEVENT
END:VCALENDAR