BEGIN:VCALENDAR
VERSION:2.0
PRODID:-//Ateneu Santfeliuenc - ECPv6.15.13//NONSGML v1.0//EN
CALSCALE:GREGORIAN
METHOD:PUBLISH
X-ORIGINAL-URL:https://ateneu.clickame.net
X-WR-CALDESC:Esdeveniments per Ateneu Santfeliuenc
REFRESH-INTERVAL;VALUE=DURATION:PT1H
X-Robots-Tag:noindex
X-PUBLISHED-TTL:PT1H
BEGIN:VTIMEZONE
TZID:Europe/Paris
BEGIN:DAYLIGHT
TZOFFSETFROM:+0100
TZOFFSETTO:+0200
TZNAME:CEST
DTSTART:20120325T010000
END:DAYLIGHT
BEGIN:STANDARD
TZOFFSETFROM:+0200
TZOFFSETTO:+0100
TZNAME:CET
DTSTART:20121028T010000
END:STANDARD
BEGIN:DAYLIGHT
TZOFFSETFROM:+0100
TZOFFSETTO:+0200
TZNAME:CEST
DTSTART:20130331T010000
END:DAYLIGHT
BEGIN:STANDARD
TZOFFSETFROM:+0200
TZOFFSETTO:+0100
TZNAME:CET
DTSTART:20131027T010000
END:STANDARD
BEGIN:DAYLIGHT
TZOFFSETFROM:+0100
TZOFFSETTO:+0200
TZNAME:CEST
DTSTART:20140330T010000
END:DAYLIGHT
BEGIN:STANDARD
TZOFFSETFROM:+0200
TZOFFSETTO:+0100
TZNAME:CET
DTSTART:20141026T010000
END:STANDARD
END:VTIMEZONE
BEGIN:VEVENT
DTSTART;TZID=Europe/Paris:20131030T180000
DTEND;TZID=Europe/Paris:20131110T200000
DTSTAMP:20260420T083721
CREATED:20131017T141946Z
LAST-MODIFIED:20131017T141946Z
UID:534-1383156000-1384113600@ateneu.clickame.net
SUMMARY:Mostra del taller d’art d’adults de l’Ateneu Santfeliuenc
DESCRIPTION:Horaris: de dimarts a dissabte 18 a 20 h\, diumenges d’11 a 14 h
URL:https://ateneu.clickame.net/agenda/mostra-del-taller-dart-dadults-de-lateneu-santfeliuenc/
LOCATION:Sala d’exposicions del Palau Falguera
END:VEVENT
BEGIN:VEVENT
DTSTART;TZID=Europe/Paris:20131030T180000
DTEND;TZID=Europe/Paris:20131110T200000
DTSTAMP:20260420T083721
CREATED:20131017T141946Z
LAST-MODIFIED:20131017T141946Z
UID:8082-1383156000-1384113600@ateneu.clickame.net
SUMMARY:Mostra del taller d’art d’adults de l’Ateneu Santfeliuenc
DESCRIPTION:Horaris: de dimarts a dissabte 18 a 20 h\, diumenges d’11 a 14 h
URL:https://ateneu.clickame.net/agenda/mostra-del-taller-dart-dadults-de-lateneu-santfeliuenc-2/
LOCATION:Sala d’exposicions del Palau Falguera
END:VEVENT
BEGIN:VEVENT
DTSTART;TZID=Europe/Paris:20131030T180000
DTEND;TZID=Europe/Paris:20131110T200000
DTSTAMP:20260420T083721
CREATED:20131017T141946Z
LAST-MODIFIED:20131017T141946Z
UID:9335-1383156000-1384113600@ateneu.clickame.net
SUMMARY:Mostra del taller d’art d’adults de l’Ateneu Santfeliuenc
DESCRIPTION:Horaris: de dimarts a dissabte 18 a 20 h\, diumenges d’11 a 14 h
URL:https://ateneu.clickame.net/agenda/mostra-del-taller-dart-dadults-de-lateneu-santfeliuenc-3/
LOCATION:Sala d’exposicions del Palau Falguera
END:VEVENT
BEGIN:VEVENT
DTSTART;TZID=Europe/Paris:20131105T080000
DTEND;TZID=Europe/Paris:20131130T230000
DTSTAMP:20260420T083721
CREATED:20131103T102203Z
LAST-MODIFIED:20131103T102203Z
UID:9338-1383638400-1385852400@ateneu.clickame.net
SUMMARY:Exposició de Pintures d’Anton Mateu
DESCRIPTION:
URL:https://ateneu.clickame.net/agenda/exposicio-de-pintures-danton-mateu-3/
LOCATION:Bar de l’Ateneu\, Carrer de l'Ateneu\, 23\, Sant Feliu de Llobregat\, Barcelona\, 08980\, Spain
END:VEVENT
BEGIN:VEVENT
DTSTART;TZID=Europe/Paris:20131105T080000
DTEND;TZID=Europe/Paris:20131130T230000
DTSTAMP:20260420T083721
CREATED:20131103T102203Z
LAST-MODIFIED:20131103T102501Z
UID:552-1383638400-1385852400@ateneu.clickame.net
SUMMARY:Exposició de Pintures d’Anton Mateu
DESCRIPTION:
URL:https://ateneu.clickame.net/agenda/exposicio-de-pintures-danton-mateu/
LOCATION:Bar de l’Ateneu\, Carrer de l'Ateneu\, 23\, Sant Feliu de Llobregat\, Barcelona\, 08980\, Spain
END:VEVENT
BEGIN:VEVENT
DTSTART;TZID=Europe/Paris:20131105T080000
DTEND;TZID=Europe/Paris:20131130T230000
DTSTAMP:20260420T083721
CREATED:20131103T102203Z
LAST-MODIFIED:20131103T102203Z
UID:8085-1383638400-1385852400@ateneu.clickame.net
SUMMARY:Exposició de Pintures d’Anton Mateu
DESCRIPTION:
URL:https://ateneu.clickame.net/agenda/exposicio-de-pintures-danton-mateu-2/
LOCATION:Bar de l’Ateneu\, Carrer de l'Ateneu\, 23\, Sant Feliu de Llobregat\, Barcelona\, 08980\, Spain
END:VEVENT
BEGIN:VEVENT
DTSTART;TZID=Europe/Paris:20131105T190000
DTEND;TZID=Europe/Paris:20131113T210000
DTSTAMP:20260420T083721
CREATED:20131103T101643Z
LAST-MODIFIED:20131103T102657Z
UID:551-1383678000-1384376400@ateneu.clickame.net
SUMMARY:Exposició Drets Humans
DESCRIPTION:Horaris: feiners de 19 a 21 h\, dissabtes i diumenges de 12 a 14 h
URL:https://ateneu.clickame.net/agenda/drets-humans/
LOCATION:Aula de Cultura – Ateneu Santfeliuenc\, Vidal i Ribas\, 25\, Sant Feliu de Llobregat\, Barcelona\, 08980\, Espanya
END:VEVENT
BEGIN:VEVENT
DTSTART;TZID=Europe/Paris:20131105T190000
DTEND;TZID=Europe/Paris:20131113T210000
DTSTAMP:20260420T083721
CREATED:20131103T101643Z
LAST-MODIFIED:20131103T101643Z
UID:8084-1383678000-1384376400@ateneu.clickame.net
SUMMARY:Exposició Drets Humans
DESCRIPTION:Horaris: feiners de 19 a 21 h\, dissabtes i diumenges de 12 a 14 h
URL:https://ateneu.clickame.net/agenda/drets-humans-2/
LOCATION:Aula de Cultura – Ateneu Santfeliuenc\, Vidal i Ribas\, 25\, Sant Feliu de Llobregat\, Barcelona\, 08980\, Espanya
END:VEVENT
BEGIN:VEVENT
DTSTART;TZID=Europe/Paris:20131105T190000
DTEND;TZID=Europe/Paris:20131113T210000
DTSTAMP:20260420T083721
CREATED:20131103T101643Z
LAST-MODIFIED:20131103T101643Z
UID:9337-1383678000-1384376400@ateneu.clickame.net
SUMMARY:Exposició Drets Humans
DESCRIPTION:Horaris: feiners de 19 a 21 h\, dissabtes i diumenges de 12 a 14 h
URL:https://ateneu.clickame.net/agenda/drets-humans-3/
LOCATION:Aula de Cultura – Ateneu Santfeliuenc\, Vidal i Ribas\, 25\, Sant Feliu de Llobregat\, Barcelona\, 08980\, Espanya
END:VEVENT
END:VCALENDAR