BEGIN:VCALENDAR
VERSION:2.0
PRODID:-//Ateneu Santfeliuenc - ECPv6.15.13//NONSGML v1.0//EN
CALSCALE:GREGORIAN
METHOD:PUBLISH
X-WR-CALNAME:Ateneu Santfeliuenc
X-ORIGINAL-URL:https://ateneu.clickame.net
X-WR-CALDESC:Esdeveniments per Ateneu Santfeliuenc
REFRESH-INTERVAL;VALUE=DURATION:PT1H
X-Robots-Tag:noindex
X-PUBLISHED-TTL:PT1H
BEGIN:VTIMEZONE
TZID:Europe/Paris
BEGIN:DAYLIGHT
TZOFFSETFROM:+0100
TZOFFSETTO:+0200
TZNAME:CEST
DTSTART:20120325T010000
END:DAYLIGHT
BEGIN:STANDARD
TZOFFSETFROM:+0200
TZOFFSETTO:+0100
TZNAME:CET
DTSTART:20121028T010000
END:STANDARD
BEGIN:DAYLIGHT
TZOFFSETFROM:+0100
TZOFFSETTO:+0200
TZNAME:CEST
DTSTART:20130331T010000
END:DAYLIGHT
BEGIN:STANDARD
TZOFFSETFROM:+0200
TZOFFSETTO:+0100
TZNAME:CET
DTSTART:20131027T010000
END:STANDARD
BEGIN:DAYLIGHT
TZOFFSETFROM:+0100
TZOFFSETTO:+0200
TZNAME:CEST
DTSTART:20140330T010000
END:DAYLIGHT
BEGIN:STANDARD
TZOFFSETFROM:+0200
TZOFFSETTO:+0100
TZNAME:CET
DTSTART:20141026T010000
END:STANDARD
END:VTIMEZONE
BEGIN:VEVENT
DTSTART;TZID=Europe/Paris:20131024T193000
DTEND;TZID=Europe/Paris:20131025T193000
DTSTAMP:20260420T171311
CREATED:20130925T105822Z
LAST-MODIFIED:20130925T105822Z
UID:8063-1382643000-1382729400@ateneu.clickame.net
SUMMARY:Jornadas en Homenatge a les Brigades Internacionals
DESCRIPTION:Homenatge a les Brigades Internacionals en el 75è aniversari de la seva sortida del país\, l’any 1938. \nActivitats relacionades: \nDia 24 d’ocubre\, dijous\, a les 19\,30 h\nInauguració de l’Exposició: Els jocs oblidats. L’Olimpiada popular del 36\nPresenta: Juan A. Díaz\, historiador.  Intervenen: Carles Vallejo\, Memorial Democràtic de Seat; Carles Santacana\, Comissari de l’exposició. \nDia 25 d’octubre\, divendres\, a les 19\, 30 h\nHomenatge a les Brigades Internacionals\, amb motiu del 75è aniversari de la seva sortida d’Espanya.\nPresenta: María Jesús Bono\, historiadora. Intervenen: Mario Pupini\, representant del Club Clarion ( Gran Bretaña); Gemma Tribó\, Professora de la Universitat de Barcelona.\nLectura de textos relacionats amb les Brigades Inernacionals
URL:https://ateneu.clickame.net/agenda/jornadas-en-homenatge-a-les-brigades-internacionals-2/
LOCATION:Aula de Cultura – Ateneu Santfeliuenc\, Vidal i Ribas\, 25\, Sant Feliu de Llobregat\, Barcelona\, 08980\, Espanya
END:VEVENT
BEGIN:VEVENT
DTSTART;TZID=Europe/Paris:20131024T193000
DTEND;TZID=Europe/Paris:20131025T193000
DTSTAMP:20260420T171311
CREATED:20130925T105822Z
LAST-MODIFIED:20130925T105822Z
UID:9316-1382643000-1382729400@ateneu.clickame.net
SUMMARY:Jornadas en Homenatge a les Brigades Internacionals
DESCRIPTION:Homenatge a les Brigades Internacionals en el 75è aniversari de la seva sortida del país\, l’any 1938. \nActivitats relacionades: \nDia 24 d’ocubre\, dijous\, a les 19\,30 h\nInauguració de l’Exposició: Els jocs oblidats. L’Olimpiada popular del 36\nPresenta: Juan A. Díaz\, historiador.  Intervenen: Carles Vallejo\, Memorial Democràtic de Seat; Carles Santacana\, Comissari de l’exposició. \nDia 25 d’octubre\, divendres\, a les 19\, 30 h\nHomenatge a les Brigades Internacionals\, amb motiu del 75è aniversari de la seva sortida d’Espanya.\nPresenta: María Jesús Bono\, historiadora. Intervenen: Mario Pupini\, representant del Club Clarion ( Gran Bretaña); Gemma Tribó\, Professora de la Universitat de Barcelona.\nLectura de textos relacionats amb les Brigades Inernacionals
URL:https://ateneu.clickame.net/agenda/jornadas-en-homenatge-a-les-brigades-internacionals-3/
LOCATION:Aula de Cultura – Ateneu Santfeliuenc\, Vidal i Ribas\, 25\, Sant Feliu de Llobregat\, Barcelona\, 08980\, Espanya
END:VEVENT
BEGIN:VEVENT
DTSTART;TZID=Europe/Paris:20131024T193000
DTEND;TZID=Europe/Paris:20131025T193000
DTSTAMP:20260420T171311
CREATED:20130925T105822Z
LAST-MODIFIED:20130925T112451Z
UID:420-1382643000-1382729400@ateneu.clickame.net
SUMMARY:Jornadas en Homenatge a les Brigades Internacionals
DESCRIPTION:Homenatge a les Brigades Internacionals en el 75è aniversari de la seva sortida del país\, l’any 1938. \nActivitats relacionades: \nDia 24 d’ocubre\, dijous\, a les 19\,30 h\nInauguració de l’Exposició: Els jocs oblidats. L’Olimpiada popular del 36\nPresenta: Juan A. Díaz\, historiador.  Intervenen: Carles Vallejo\, Memorial Democràtic de Seat; Carles Santacana\, Comissari de l’exposició. \nDia 25 d’octubre\, divendres\, a les 19\, 30 h\nHomenatge a les Brigades Internacionals\, amb motiu del 75è aniversari de la seva sortida d’Espanya.\nPresenta: María Jesús Bono\, historiadora. Intervenen: Mario Pupini\, representant del Club Clarion ( Gran Bretaña); Gemma Tribó\, Professora de la Universitat de Barcelona.\nLectura de textos relacionats amb les Brigades Inernacionals
URL:https://ateneu.clickame.net/agenda/jornadas-en-homenatge-a-les-brigades-internacionals/
LOCATION:Aula de Cultura – Ateneu Santfeliuenc\, Vidal i Ribas\, 25\, Sant Feliu de Llobregat\, Barcelona\, 08980\, Espanya
END:VEVENT
BEGIN:VEVENT
DTSTART;TZID=Europe/Paris:20131025T193000
DTEND;TZID=Europe/Paris:20131025T193000
DTSTAMP:20260420T171311
CREATED:20130925T111032Z
LAST-MODIFIED:20130925T112539Z
UID:425-1382729400-1382729400@ateneu.clickame.net
SUMMARY:Conferència-Homenatge a les Brigades Internacionals
DESCRIPTION:Presenta: María Jesús Bono\, historiadora\nIntervenen: Mario Pupini\, representant del club Clarion (Gran Bretaña) i Gemma Tribó\, professora de la Universitat de Barcelona.\n· Lectura de textos relacionats amb les Brigades Inernacionals
URL:https://ateneu.clickame.net/agenda/homenatge-a-les-brigades-internacionals/
LOCATION:Aula de Cultura – Ateneu Santfeliuenc\, Vidal i Ribas\, 25\, Sant Feliu de Llobregat\, Barcelona\, 08980\, Espanya
END:VEVENT
BEGIN:VEVENT
DTSTART;TZID=Europe/Paris:20131025T193000
DTEND;TZID=Europe/Paris:20131025T193000
DTSTAMP:20260420T171311
CREATED:20130925T111032Z
LAST-MODIFIED:20130925T111032Z
UID:8065-1382729400-1382729400@ateneu.clickame.net
SUMMARY:Conferència-Homenatge a les Brigades Internacionals
DESCRIPTION:Presenta: María Jesús Bono\, historiadora\nIntervenen: Mario Pupini\, representant del club Clarion (Gran Bretaña) i Gemma Tribó\, professora de la Universitat de Barcelona.\n· Lectura de textos relacionats amb les Brigades Inernacionals
URL:https://ateneu.clickame.net/agenda/homenatge-a-les-brigades-internacionals-2/
LOCATION:Aula de Cultura – Ateneu Santfeliuenc\, Vidal i Ribas\, 25\, Sant Feliu de Llobregat\, Barcelona\, 08980\, Espanya
END:VEVENT
BEGIN:VEVENT
DTSTART;TZID=Europe/Paris:20131025T193000
DTEND;TZID=Europe/Paris:20131025T193000
DTSTAMP:20260420T171311
CREATED:20130925T111032Z
LAST-MODIFIED:20130925T111032Z
UID:9318-1382729400-1382729400@ateneu.clickame.net
SUMMARY:Conferència-Homenatge a les Brigades Internacionals
DESCRIPTION:Presenta: María Jesús Bono\, historiadora\nIntervenen: Mario Pupini\, representant del club Clarion (Gran Bretaña) i Gemma Tribó\, professora de la Universitat de Barcelona.\n· Lectura de textos relacionats amb les Brigades Inernacionals
URL:https://ateneu.clickame.net/agenda/homenatge-a-les-brigades-internacionals-3/
LOCATION:Aula de Cultura – Ateneu Santfeliuenc\, Vidal i Ribas\, 25\, Sant Feliu de Llobregat\, Barcelona\, 08980\, Espanya
END:VEVENT
BEGIN:VEVENT
DTSTART;TZID=Europe/Paris:20131025T210000
DTEND;TZID=Europe/Paris:20131025T223000
DTSTAMP:20260420T171311
CREATED:20130924T110830Z
LAST-MODIFIED:20130925T141729Z
UID:404-1382734800-1382740200@ateneu.clickame.net
SUMMARY:"Jazz a la carta" Ignasi Terraza Trio
DESCRIPTION:“Jazz a la carta” neix per lligar músics\, repertori i públic en una complicitat única. Podreu triar per Internet el set list del concert d’entre una llista dels estàndars més coneguts. A l’escenari\, el trio de Ignasi Terraza interpretarà el vostre concert ideal. \nIgnasi Terraza\, piano; Horacio Fumero\, contrabaix; Esteve Pi\, bateria
URL:https://ateneu.clickame.net/agenda/jazz-a-la-carta-ignasi-terraza-trio/
LOCATION:Sala ContraBaix – Ateneu Santfeliuenc\, Vidal i Ribas\, 25\, Sant Feliu de Llobregat\, Barcelona\, 08980\, Espanya
END:VEVENT
BEGIN:VEVENT
DTSTART;TZID=Europe/Paris:20131025T210000
DTEND;TZID=Europe/Paris:20131025T223000
DTSTAMP:20260420T171311
CREATED:20130924T110830Z
LAST-MODIFIED:20130924T110830Z
UID:8058-1382734800-1382740200@ateneu.clickame.net
SUMMARY:"Jazz a la carta" Ignasi Terraza Trio
DESCRIPTION:“Jazz a la carta” neix per lligar músics\, repertori i públic en una complicitat única. Podreu triar per Internet el set list del concert d’entre una llista dels estàndars més coneguts. A l’escenari\, el trio de Ignasi Terraza interpretarà el vostre concert ideal. \nIgnasi Terraza\, piano; Horacio Fumero\, contrabaix; Esteve Pi\, bateria
URL:https://ateneu.clickame.net/agenda/jazz-a-la-carta-ignasi-terraza-trio-2/
LOCATION:Sala ContraBaix – Ateneu Santfeliuenc\, Vidal i Ribas\, 25\, Sant Feliu de Llobregat\, Barcelona\, 08980\, Espanya
END:VEVENT
BEGIN:VEVENT
DTSTART;TZID=Europe/Paris:20131025T210000
DTEND;TZID=Europe/Paris:20131025T223000
DTSTAMP:20260420T171311
CREATED:20130924T110830Z
LAST-MODIFIED:20130924T110830Z
UID:9311-1382734800-1382740200@ateneu.clickame.net
SUMMARY:"Jazz a la carta" Ignasi Terraza Trio
DESCRIPTION:“Jazz a la carta” neix per lligar músics\, repertori i públic en una complicitat única. Podreu triar per Internet el set list del concert d’entre una llista dels estàndars més coneguts. A l’escenari\, el trio de Ignasi Terraza interpretarà el vostre concert ideal. \nIgnasi Terraza\, piano; Horacio Fumero\, contrabaix; Esteve Pi\, bateria
URL:https://ateneu.clickame.net/agenda/jazz-a-la-carta-ignasi-terraza-trio-3/
LOCATION:Sala ContraBaix – Ateneu Santfeliuenc\, Vidal i Ribas\, 25\, Sant Feliu de Llobregat\, Barcelona\, 08980\, Espanya
END:VEVENT
END:VCALENDAR